BEGIN:VCALENDAR
VERSION:2.0
PRODID:-//Experience Redmond - ECPv6.15.18//NONSGML v1.0//EN
CALSCALE:GREGORIAN
METHOD:PUBLISH
X-ORIGINAL-URL:https://experienceredmond.com
X-WR-CALDESC:Events for Experience Redmond
REFRESH-INTERVAL;VALUE=DURATION:PT1H
X-Robots-Tag:noindex
X-PUBLISHED-TTL:PT1H
BEGIN:VTIMEZONE
TZID:America/Los_Angeles
BEGIN:DAYLIGHT
TZOFFSETFROM:-0800
TZOFFSETTO:-0700
TZNAME:PDT
DTSTART:20240310T100000
END:DAYLIGHT
BEGIN:STANDARD
TZOFFSETFROM:-0700
TZOFFSETTO:-0800
TZNAME:PST
DTSTART:20241103T090000
END:STANDARD
BEGIN:DAYLIGHT
TZOFFSETFROM:-0800
TZOFFSETTO:-0700
TZNAME:PDT
DTSTART:20250309T100000
END:DAYLIGHT
BEGIN:STANDARD
TZOFFSETFROM:-0700
TZOFFSETTO:-0800
TZNAME:PST
DTSTART:20251102T090000
END:STANDARD
BEGIN:DAYLIGHT
TZOFFSETFROM:-0800
TZOFFSETTO:-0700
TZNAME:PDT
DTSTART:20260308T100000
END:DAYLIGHT
BEGIN:STANDARD
TZOFFSETFROM:-0700
TZOFFSETTO:-0800
TZNAME:PST
DTSTART:20261101T090000
END:STANDARD
END:VTIMEZONE
BEGIN:VEVENT
DTSTART;TZID=America/Los_Angeles:20250308T130000
DTEND;TZID=America/Los_Angeles:20250308T160000
DTSTAMP:20260422T121931
CREATED:20250303T183634Z
LAST-MODIFIED:20250303T183705Z
UID:10004032-1741438800-1741449600@experienceredmond.com
SUMMARY:Meet Mini Horses Sunny D and Shasta
DESCRIPTION:Meet volunteers from Save a Forgotten Equine (SAFE) and learn about the work SAFE does helping abused and neglected horses in Western WA\, and how you can get involved. \nSpecial appearance from 2-4pm by SAFE ambassadors Sunny D and Shasta\, a mother/son pair of miniature horses rescued in 2011. Meet the minis and take photos with this great duo. Learn more about Sunny and Shasta here. \nThis event is family friendly and dog friendly. \nDonations support the horses in SAFE’s care and community outreach programs. SAFE is located on 11-acres in Redmond. Volunteers welcome. Learn more at www.safehorses.org.
URL:https://experienceredmond.com/event/meet-mini-horses-sunny-d-and-shasta/
LOCATION:Postdoc Brewing\, 17625 NE 65th St #100\, Redmond\, WA\, 98052\, United States
CATEGORIES:Animals,Charity & Causes
ATTACH;FMTTYPE=image/jpeg:https://experienceredmond.com/wp-content/uploads/2025/03/Sunny-D-and-Shasta.jpg
END:VEVENT
BEGIN:VEVENT
DTSTART;TZID=America/Los_Angeles:20250317T070000
DTEND;TZID=America/Los_Angeles:20250317T190000
DTSTAMP:20260422T121931
CREATED:20250224T220103Z
LAST-MODIFIED:20250226T164604Z
UID:10003990-1742194800-1742238000@experienceredmond.com
SUMMARY:St. Patrick's Day at Pickles Playland
DESCRIPTION:Let’s celebrate Saint Patrick’s Day in style. Bearded breeds\, like schnauzers\, are highly encouraged to join! \nWhat you & your dog receive for $10 per dog: \n\nOrganic aloe lavender back massage (to get ready for tonight’s celebrations)\nSaint Patrick’s theme pup cup sundae\nA Texted Photo Update during the day (sometime between 11 am-5 pm)\nOptional $6 printed photo\n\nDo you need to let us know you’re coming? Yes\, that would be great! During event days\, we often need to turn dogs away without reservations. So whenever you can\, please let us know if you’re planning to send your dog for the day. \nCall us at 425-298-4530 or PicklesPlayland@gmail.com
URL:https://experienceredmond.com/event/st-patricks-day-at-pickles-playland/
LOCATION:Pickle’s Playland\, 7330 164th Ave NE Suite E-165\, Redmond\, WA\, 98052
CATEGORIES:Animals,Holiday
ATTACH;FMTTYPE=image/png:https://experienceredmond.com/wp-content/uploads/2024/10/08Monthly-MEMBERSHIPS-PicklesPlayland-DogCare-RedmondKirklandIssaquah.png
END:VEVENT
BEGIN:VEVENT
DTSTART;VALUE=DATE:20250323
DTEND;VALUE=DATE:20250324
DTSTAMP:20260422T121931
CREATED:20250224T194415Z
LAST-MODIFIED:20250226T164613Z
UID:10003989-1742688000-1742774399@experienceredmond.com
SUMMARY:National Puppy Day
DESCRIPTION:Observed annually on March 23rd\, National Puppy Day celebrates the pure joy and unconditional love that puppies bring into our lives. Their playful energy\, cuddles\, and irresistible cuteness light up every room\, creating moments of joy that are impossible to resist. This day also raises awareness about the importance of adopting puppies from shelters and the ongoing fight against puppy mills. It’s a reminder that puppies\, while adorable\, require commitment and care\, and adopting from a shelter gives a puppy a loving home and a second chance at life. \nIn Redmond\, we’re celebrating National Puppy Day with exciting events for pups and their families! From Pup Crawl 2025 to doggie makeovers and a parade\, Redmond offers plenty of opportunities to enjoy the day with your four-legged friend while supporting local shelters. Come join the fun and make some unforgettable memories with your puppy!
URL:https://experienceredmond.com/event/national-puppy-day/
LOCATION:Redmond\, WA\, 16101 Redmond Way\, Redmond\, WA\, 98052\, United States
CATEGORIES:Animals,Holiday
ATTACH;FMTTYPE=image/jpeg:https://experienceredmond.com/wp-content/uploads/2025/02/36-DSCF4622-scaled.jpg
END:VEVENT
BEGIN:VEVENT
DTSTART;TZID=America/Los_Angeles:20250326T183000
DTEND;TZID=America/Los_Angeles:20250326T193000
DTSTAMP:20260422T121931
CREATED:20250224T221711Z
LAST-MODIFIED:20250226T164618Z
UID:10003991-1743013800-1743017400@experienceredmond.com
SUMMARY:Reading with Rover
DESCRIPTION:This is a reading event for children. Therapy dogs and their handlers will be there to listen to children read aloud. \nLocation: Redmond Library\, 15990 NE 85th St\, Redmond\, WA 98052 \nRWR Contact: Please contact Ailynn: fluffyherders@gmail.com \nMasks and Sanitizer: Masks are optional\, Sanitizer is mandatory! \nAttention Rovers: We need five teams for this event. All teams are welcome! If you are attending to meet your protocol hours\, you must email Ailynn (fluffyherders@gmail.com) prior to attending. If you have any other questions\, please email info@readingwithrover.org
URL:https://experienceredmond.com/event/reading-with-rover/
LOCATION:Redmond Library\, 15990 NE 85th St\, Redmond\, WA\, 98052\, United States
CATEGORIES:Animals,Kids & Family
ATTACH;FMTTYPE=image/jpeg:https://experienceredmond.com/wp-content/uploads/2025/02/Reading-with-Rover.jpeg
END:VEVENT
BEGIN:VEVENT
DTSTART;TZID=America/Los_Angeles:20250329T150000
DTEND;TZID=America/Los_Angeles:20250329T170000
DTSTAMP:20260422T121931
CREATED:20250210T235235Z
LAST-MODIFIED:20250226T164628Z
UID:10003977-1743260400-1743267600@experienceredmond.com
SUMMARY:Pup Crawl Launch Event
DESCRIPTION:Get Ready for ‘Paws\, Bones & BBQ Fun’ at Pup Crawl 2025! Join us on Saturday\, March 29th\, 2025\, from 3 PM – 5 PM at the Aloft & Element Hotel in Redmond\, WA for an afternoon of wagging tails and good treats! Enjoy delicious hamburgers\, hotdogs\, and vegan options for the humans\, while your pup laps up bone broth and enjoys takeaway dog biscuits. Plus\, meet puppies and adoptable adult dogs from our charity of choice\, Motley Zoo\, a volunteer-powered\, foster-based nonprofit in Redmond. With live music\, pet portraits by Dofzy on 3.5 x 3.5 coasters\, and a fun-filled atmosphere\, you and your pup won’t want to miss this paw-some event. Mark your calendars and join the fun!
URL:https://experienceredmond.com/event/pup-crawl-launch-event/
LOCATION:Aloft Hotel Redmond\, 15220 NE Shen St\, Redmond\, WA\, 98052
CATEGORIES:Animals
ATTACH;FMTTYPE=image/png:https://experienceredmond.com/wp-content/uploads/2025/02/PupCrawlPromo-1x1.1.png
END:VEVENT
END:VCALENDAR