BEGIN:VCALENDAR
VERSION:2.0
PRODID:-//Experience Redmond - ECPv6.15.18//NONSGML v1.0//EN
CALSCALE:GREGORIAN
METHOD:PUBLISH
X-ORIGINAL-URL:https://experienceredmond.com
X-WR-CALDESC:Events for Experience Redmond
REFRESH-INTERVAL;VALUE=DURATION:PT1H
X-Robots-Tag:noindex
X-PUBLISHED-TTL:PT1H
BEGIN:VTIMEZONE
TZID:America/Los_Angeles
BEGIN:DAYLIGHT
TZOFFSETFROM:-0800
TZOFFSETTO:-0700
TZNAME:PDT
DTSTART:20240310T100000
END:DAYLIGHT
BEGIN:STANDARD
TZOFFSETFROM:-0700
TZOFFSETTO:-0800
TZNAME:PST
DTSTART:20241103T090000
END:STANDARD
BEGIN:DAYLIGHT
TZOFFSETFROM:-0800
TZOFFSETTO:-0700
TZNAME:PDT
DTSTART:20250309T100000
END:DAYLIGHT
BEGIN:STANDARD
TZOFFSETFROM:-0700
TZOFFSETTO:-0800
TZNAME:PST
DTSTART:20251102T090000
END:STANDARD
BEGIN:DAYLIGHT
TZOFFSETFROM:-0800
TZOFFSETTO:-0700
TZNAME:PDT
DTSTART:20260308T100000
END:DAYLIGHT
BEGIN:STANDARD
TZOFFSETFROM:-0700
TZOFFSETTO:-0800
TZNAME:PST
DTSTART:20261101T090000
END:STANDARD
BEGIN:DAYLIGHT
TZOFFSETFROM:-0800
TZOFFSETTO:-0700
TZNAME:PDT
DTSTART:20270314T100000
END:DAYLIGHT
BEGIN:STANDARD
TZOFFSETFROM:-0700
TZOFFSETTO:-0800
TZNAME:PST
DTSTART:20271107T090000
END:STANDARD
END:VTIMEZONE
BEGIN:VEVENT
DTSTART;TZID=America/Los_Angeles:20250809T130000
DTEND;TZID=America/Los_Angeles:20250809T170000
DTSTAMP:20260422T051142
CREATED:20240812T222941Z
LAST-MODIFIED:20250729T201407Z
UID:10004681-1754744400-1754758800@experienceredmond.com
SUMMARY:Pints and Ponies
DESCRIPTION:Visit Big Block Brewing in Redmond on Saturday\, August 9th\, from 1-5 pm and learn about local horse rescue. SAFE’s mini horses Shasta & Sunny D will be making a special appearance from 2-4 pm – come meet them and take some photos at this family-friendly event. \nPop-up vendors Sugar Bytes Cupcakes & More\, Lucky Linqs permanent jewelry\, and Big Block Brewing will be donating a portion of sales during this event to help the horses at Save a Forgotten Equine (SAFE). \n**************************************************\nAbout SAFE: Save a Forgotten Equine (SAFE) is a 501 (c)(3) non-profit organization dedicated to the rescue and rehabilitation of neglected or abused horses\, providing them with the best opportunity for a permanent home and a lifetime of safety. SAFE supports Animal Control efforts in King County and beyond. Safe Harbor Stables is located on 11 acres near Farrel-McWhirter Park in Redmond\, WA. \nLearn more at www.safehorses.org.
URL:https://experienceredmond.com/event/pints-and-ponies/2025-08-09/
LOCATION:Big Block Brewing\, 14950-F NE 95th\, Redmond\, WA\, 98052\, United States
CATEGORIES:Animals,Charity & Causes,Community & Culture
ATTACH;FMTTYPE=image/jpeg:https://experienceredmond.com/wp-content/uploads/2024/08/barnquilt.jpg.jpeg
END:VEVENT
BEGIN:VEVENT
DTSTART;TZID=America/Los_Angeles:20251011T130000
DTEND;TZID=America/Los_Angeles:20251011T160000
DTSTAMP:20260422T051142
CREATED:20240916T161027Z
LAST-MODIFIED:20250922T194607Z
UID:10003392-1760187600-1760198400@experienceredmond.com
SUMMARY:Bingo at the Barn - a FUNdraiser for SAFE Horse Rescue
DESCRIPTION:It’s time for Bingo at the Barn! Join us on the farm for a fun afternoon of horses and bingo. Click here for info and tickets. \n* Light refreshments (gluten free and vegan options)\n* 5 games of bingo (3 cards per game)\n* Door prizes drawn throughout the afternoon\n* Gift card prizes for bingo winners \nTour the farm\, meet the horses\, and see what SAFE does to help local equines that were abused\, neglected or forgotten.\nAll proceeds support the horses in SAFE’s care. Older children/teens welcome. Please\, no dogs.
URL:https://experienceredmond.com/event/bingo-at-the-barn-a-fundraiser-for-safe-horse-rescue/
LOCATION:10407 192nd Ave NE\, Redmond\, WA 98053\, 10407 192nd Ave NE\, Redmond\, Wa\, 98053
CATEGORIES:Animals,Charity & Causes
ATTACH;FMTTYPE=image/png:https://experienceredmond.com/wp-content/uploads/2024/09/image.png
END:VEVENT
BEGIN:VEVENT
DTSTART;TZID=America/Los_Angeles:20251019T130000
DTEND;TZID=America/Los_Angeles:20251019T170000
DTSTAMP:20260422T051142
CREATED:20251014T181505Z
LAST-MODIFIED:20251016T162904Z
UID:10005755-1760878800-1760893200@experienceredmond.com
SUMMARY:Howl-o-ween Pup Parade
DESCRIPTION:Pup Parade & Costume Contest\n1:00 PM – Check-in at The Archer Hotel Redmond (snacks provided!)\n2:00 PM – Parade through Redmond Town Center with a stop at Marriott Residence Inn Redmond\nPrizes for Best Space Dog Costume\, Out-of-This-World Duo (pet & human)\, and Best in Show! \nCelebration: 3:00 PM – 5:00 PM at Hilton Garden Inn Seattle Redmond\nEnjoy snacks & drinks for pups & humans\nMeet & Greet with adoptable pups from Motley Zoo!\nFREE for overnight guests at participating Redmond hotels! \nClick here for more info and purchase tickets
URL:https://experienceredmond.com/event/howl-o-ween-pup-parade/
LOCATION:Archer Hotel\, 7200 164th Avenue NE\, Redmond\, WA\, 98052\, United States
CATEGORIES:Animals
ATTACH;FMTTYPE=image/png:https://experienceredmond.com/wp-content/uploads/2025/10/PUP-PARADE-COSTUME-CONTEST-Sunday-October-19th.png
END:VEVENT
BEGIN:VEVENT
DTSTART;TZID=America/Los_Angeles:20251025T090000
DTEND;TZID=America/Los_Angeles:20251025T103000
DTSTAMP:20260422T051142
CREATED:20251008T213912Z
LAST-MODIFIED:20251008T213942Z
UID:10005742-1761382800-1761388200@experienceredmond.com
SUMMARY:Spooktacular at the Farm
DESCRIPTION:(Ages 2-12) Have a ghoulishly good time at Farrel-McWhirter and celebrate Halloween with Farrel-McWhirter! Join us in the Barnyard for festive fun. \nWhat to bring: \n\nHalloween costumes are highly encouraged with closed-toed shoes and long pants for pony rides.\nPlease dress for the weather. Spooktacular runs rain or shine.\nPlease consider costume selection for pony rides. Staff reserves the right to ask participants to remove a costume if it scares the ponies.\nRegistration is for each participating child. Up to two accompanying adults can attend without charge.\nParticipants will enjoy Halloween-themed crafts in the Mad Scientist’s Laboratory\, a dance party and snacks in the barn\, farm animal visits\, pony rides\, and fresh-pressed apple cider. It’s all about fall\, and it’s going to be a ball\, for it’s farmtastic fun\, don’t be the one to miss out!\n\nClick here to register/purchase tickets.
URL:https://experienceredmond.com/event/spooktacular-at-the-farm-2/
LOCATION:Farrel-McWhirter Park\, 19545 NE Redmond Rd\, Redmond\, WA\, 98053\, United States
CATEGORIES:Animals,Holiday
ATTACH;FMTTYPE=image/jpeg:https://experienceredmond.com/wp-content/uploads/2025/10/pexels-vera-hrishka-782796-3193155-scaled.jpg
END:VEVENT
BEGIN:VEVENT
DTSTART;TZID=America/Los_Angeles:20251201T080000
DTEND;TZID=America/Los_Angeles:20251201T170000
DTSTAMP:20260422T051142
CREATED:20251110T224744Z
LAST-MODIFIED:20251203T162119Z
UID:10005779-1764576000-1764608400@experienceredmond.com
SUMMARY:Paws & Claws
DESCRIPTION:Bring your furry friend for a photo with Santa on select dates at Redmond Town Center! \nDesignated days only: December 1\, 8\, 15 \nReservations are strongly encouraged. Click here to make a reservation. \nOneRedmond and Redmond Town Center are partnering to donate 10% of pet photo sales on these dates to Motley Zoo Animal Rescue.
URL:https://experienceredmond.com/event/paws-claws/2025-12-01/
LOCATION:Redmond Town Center\, 7525 166th Ave NE\, Redmond\, Washington\, 98052
CATEGORIES:Animals,Holiday
ATTACH;FMTTYPE=image/jpeg:https://experienceredmond.com/wp-content/uploads/2025/12/DSC05794.jpg
END:VEVENT
BEGIN:VEVENT
DTSTART;TZID=America/Los_Angeles:20251207T120000
DTEND;TZID=America/Los_Angeles:20251207T150000
DTSTAMP:20260422T051142
CREATED:20251117T181541Z
LAST-MODIFIED:20251117T205908Z
UID:10006610-1765108800-1765119600@experienceredmond.com
SUMMARY:SAFE Holiday Open House and Craft Bazaar
DESCRIPTION:Join us at the farm for our last open house of the year!\n– Tour the farm and see the horses\n– Shop the bazaar for amazing handmade and curated items to gift or keep for yourself\n– Take selfies with our SAFE holiday horses\n– Enjoy complimentary refreshments \nFree admission. Ample onsite parking. Family friendly. \nAll proceeds support the horses at Save a Forgotten Equine (SAFE).\nHelp us close out a tradition at the Redmond farm this December before we move to our new home next year!
URL:https://experienceredmond.com/event/safe-holiday-open-house-and-craft-bazaar-2/
LOCATION:10407 192nd Ave NE\, Redmond\, WA 98053\, 10407 192nd Ave NE\, Redmond\, Wa\, 98053
CATEGORIES:Animals,Charity & Causes,Holiday
ATTACH;FMTTYPE=image/png:https://experienceredmond.com/wp-content/uploads/2025/11/Untitled-2-2.png
END:VEVENT
BEGIN:VEVENT
DTSTART;TZID=America/Los_Angeles:20251208T080000
DTEND;TZID=America/Los_Angeles:20251208T170000
DTSTAMP:20260422T051142
CREATED:20251110T224744Z
LAST-MODIFIED:20251203T162119Z
UID:10005780-1765180800-1765213200@experienceredmond.com
SUMMARY:Paws & Claws
DESCRIPTION:Bring your furry friend for a photo with Santa on select dates at Redmond Town Center! \nDesignated days only: December 1\, 8\, 15 \nReservations are strongly encouraged. Click here to make a reservation. \nOneRedmond and Redmond Town Center are partnering to donate 10% of pet photo sales on these dates to Motley Zoo Animal Rescue.
URL:https://experienceredmond.com/event/paws-claws/2025-12-08/
LOCATION:Redmond Town Center\, 7525 166th Ave NE\, Redmond\, Washington\, 98052
CATEGORIES:Animals,Holiday
ATTACH;FMTTYPE=image/jpeg:https://experienceredmond.com/wp-content/uploads/2025/12/DSC05794.jpg
END:VEVENT
BEGIN:VEVENT
DTSTART;TZID=America/Los_Angeles:20251215T080000
DTEND;TZID=America/Los_Angeles:20251215T170000
DTSTAMP:20260422T051142
CREATED:20251110T224744Z
LAST-MODIFIED:20251203T162119Z
UID:10005781-1765785600-1765818000@experienceredmond.com
SUMMARY:Paws & Claws
DESCRIPTION:Bring your furry friend for a photo with Santa on select dates at Redmond Town Center! \nDesignated days only: December 1\, 8\, 15 \nReservations are strongly encouraged. Click here to make a reservation. \nOneRedmond and Redmond Town Center are partnering to donate 10% of pet photo sales on these dates to Motley Zoo Animal Rescue.
URL:https://experienceredmond.com/event/paws-claws/2025-12-15/
LOCATION:Redmond Town Center\, 7525 166th Ave NE\, Redmond\, Washington\, 98052
CATEGORIES:Animals,Holiday
ATTACH;FMTTYPE=image/jpeg:https://experienceredmond.com/wp-content/uploads/2025/12/DSC05794.jpg
END:VEVENT
BEGIN:VEVENT
DTSTART;TZID=America/Los_Angeles:20260131T110000
DTEND;TZID=America/Los_Angeles:20260131T150000
DTSTAMP:20260422T051142
CREATED:20260121T004503Z
LAST-MODIFIED:20260121T004503Z
UID:10007534-1769857200-1769871600@experienceredmond.com
SUMMARY:Poker Pup Crawl
DESCRIPTION:Leash up your pup and stack your hand as you stroll around Redmond together. This dog-friendly walking crawl will have you and your furry friend fetching poker cards at each stop\, and playing your way toward the best paw-ker hand in town. \n\nFREE to Participate\nDraw Poker Cards at Each Stop and Compete for the Best Hand\nPRIZE CHECK-IN DEADLINE: 4:00 PM Sunday\, February 1\, Postdoc Brewing\, Redmond\nGRAND PRIZE DRAWING: 5:00 PM Sunday\, February 1\, Postdoc Brewing\, Redmond\n\nEvent Proceeds Benefit Motley Zoo \nClick here to check in
URL:https://experienceredmond.com/event/poker-pup-crawl/2026-01-31/
LOCATION:WA
CATEGORIES:Animals
ATTACH;FMTTYPE=image/jpeg:https://experienceredmond.com/wp-content/uploads/2026/01/54456728795_104f65781a_k.jpg
END:VEVENT
BEGIN:VEVENT
DTSTART;TZID=America/Los_Angeles:20260201T110000
DTEND;TZID=America/Los_Angeles:20260201T150000
DTSTAMP:20260422T051142
CREATED:20260121T004503Z
LAST-MODIFIED:20260121T004503Z
UID:10007535-1769943600-1769958000@experienceredmond.com
SUMMARY:Poker Pup Crawl
DESCRIPTION:Leash up your pup and stack your hand as you stroll around Redmond together. This dog-friendly walking crawl will have you and your furry friend fetching poker cards at each stop\, and playing your way toward the best paw-ker hand in town. \n\nFREE to Participate\nDraw Poker Cards at Each Stop and Compete for the Best Hand\nPRIZE CHECK-IN DEADLINE: 4:00 PM Sunday\, February 1\, Postdoc Brewing\, Redmond\nGRAND PRIZE DRAWING: 5:00 PM Sunday\, February 1\, Postdoc Brewing\, Redmond\n\nEvent Proceeds Benefit Motley Zoo \nClick here to check in
URL:https://experienceredmond.com/event/poker-pup-crawl/2026-02-01/
LOCATION:WA
CATEGORIES:Animals
ATTACH;FMTTYPE=image/jpeg:https://experienceredmond.com/wp-content/uploads/2026/01/54456728795_104f65781a_k.jpg
END:VEVENT
BEGIN:VEVENT
DTSTART;TZID=America/Los_Angeles:20260426T133000
DTEND;TZID=America/Los_Angeles:20260426T153000
DTSTAMP:20260422T051142
CREATED:20260312T215507Z
LAST-MODIFIED:20260312T215507Z
UID:10008251-1777210200-1777217400@experienceredmond.com
SUMMARY:Open House & Program Showcase
DESCRIPTION:Please join us at Little Bit on Sunday\, April 26 for an Open House and Program Showcase\, 1:30-3:30 p.m. This is an opportunity for the community to learn about Little Bit’s mission\, programs\, and the people we serve\, and help celebrate Little Bit’s 50th anniversary. The event will include program demonstrations\, a guided tour\, and a photo opportunity with a Little Bit horse! \nLearn more at www.littlebit.org/events/openhouse. \nRSVP not required.
URL:https://experienceredmond.com/event/open-house-program-showcase/
LOCATION:Little Bit Therapeutic Riding\, 18675 NE 106th St\, Redmond\, WA\, 98052\, United States
CATEGORIES:Animals,Charity & Causes
ATTACH;FMTTYPE=image/png:https://experienceredmond.com/wp-content/uploads/2026/03/Untitled-design-13.png
END:VEVENT
BEGIN:VEVENT
DTSTART;TZID=America/Los_Angeles:20260509T130000
DTEND;TZID=America/Los_Angeles:20260509T140000
DTSTAMP:20260422T051142
CREATED:20260408T165145Z
LAST-MODIFIED:20260408T165145Z
UID:10009036-1778331600-1778335200@experienceredmond.com
SUMMARY:Puppy Yoga
DESCRIPTION:Come and enjoy a special wellness event that combines the peacefulness of yoga with the energetic spirit of puppies. Our Puppy Yoga session includes a 45-minute slow-yoga class led by a yoga instructor. While you move through the poses\, puppies will be running around and mingling. All levels welcome\, no experience necessary.
URL:https://experienceredmond.com/event/puppy-yoga/2026-05-09/
LOCATION:Redmond Senior & Community Center\, 8703 160th Ave NE\, Redmond\, WA\, 98052\, United States
CATEGORIES:Animals,Sports & Fitness
ATTACH;FMTTYPE=image/png:https://experienceredmond.com/wp-content/uploads/2026/04/puppy-yoga.png
END:VEVENT
BEGIN:VEVENT
DTSTART;TZID=America/Los_Angeles:20260613T130000
DTEND;TZID=America/Los_Angeles:20260613T140000
DTSTAMP:20260422T051142
CREATED:20260408T165145Z
LAST-MODIFIED:20260408T165145Z
UID:10009037-1781355600-1781359200@experienceredmond.com
SUMMARY:Puppy Yoga
DESCRIPTION:Come and enjoy a special wellness event that combines the peacefulness of yoga with the energetic spirit of puppies. Our Puppy Yoga session includes a 45-minute slow-yoga class led by a yoga instructor. While you move through the poses\, puppies will be running around and mingling. All levels welcome\, no experience necessary.
URL:https://experienceredmond.com/event/puppy-yoga/2026-06-13/
LOCATION:Redmond Senior & Community Center\, 8703 160th Ave NE\, Redmond\, WA\, 98052\, United States
CATEGORIES:Animals,Sports & Fitness
ATTACH;FMTTYPE=image/png:https://experienceredmond.com/wp-content/uploads/2026/04/puppy-yoga.png
END:VEVENT
BEGIN:VEVENT
DTSTART;TZID=America/Los_Angeles:20260711T130000
DTEND;TZID=America/Los_Angeles:20260711T140000
DTSTAMP:20260422T051142
CREATED:20260408T165145Z
LAST-MODIFIED:20260408T165145Z
UID:10009038-1783774800-1783778400@experienceredmond.com
SUMMARY:Puppy Yoga
DESCRIPTION:Come and enjoy a special wellness event that combines the peacefulness of yoga with the energetic spirit of puppies. Our Puppy Yoga session includes a 45-minute slow-yoga class led by a yoga instructor. While you move through the poses\, puppies will be running around and mingling. All levels welcome\, no experience necessary.
URL:https://experienceredmond.com/event/puppy-yoga/2026-07-11/
LOCATION:Redmond Senior & Community Center\, 8703 160th Ave NE\, Redmond\, WA\, 98052\, United States
CATEGORIES:Animals,Sports & Fitness
ATTACH;FMTTYPE=image/png:https://experienceredmond.com/wp-content/uploads/2026/04/puppy-yoga.png
END:VEVENT
BEGIN:VEVENT
DTSTART;TZID=America/Los_Angeles:20260808T130000
DTEND;TZID=America/Los_Angeles:20260808T140000
DTSTAMP:20260422T051142
CREATED:20260408T165145Z
LAST-MODIFIED:20260408T165145Z
UID:10009039-1786194000-1786197600@experienceredmond.com
SUMMARY:Puppy Yoga
DESCRIPTION:Come and enjoy a special wellness event that combines the peacefulness of yoga with the energetic spirit of puppies. Our Puppy Yoga session includes a 45-minute slow-yoga class led by a yoga instructor. While you move through the poses\, puppies will be running around and mingling. All levels welcome\, no experience necessary.
URL:https://experienceredmond.com/event/puppy-yoga/2026-08-08/
LOCATION:Redmond Senior & Community Center\, 8703 160th Ave NE\, Redmond\, WA\, 98052\, United States
CATEGORIES:Animals,Sports & Fitness
ATTACH;FMTTYPE=image/png:https://experienceredmond.com/wp-content/uploads/2026/04/puppy-yoga.png
END:VEVENT
END:VCALENDAR