BEGIN:VCALENDAR
VERSION:2.0
PRODID:-//Experience Redmond - ECPv6.15.18//NONSGML v1.0//EN
CALSCALE:GREGORIAN
METHOD:PUBLISH
X-ORIGINAL-URL:https://experienceredmond.com
X-WR-CALDESC:Events for Experience Redmond
REFRESH-INTERVAL;VALUE=DURATION:PT1H
X-Robots-Tag:noindex
X-PUBLISHED-TTL:PT1H
BEGIN:VTIMEZONE
TZID:America/Los_Angeles
BEGIN:DAYLIGHT
TZOFFSETFROM:-0800
TZOFFSETTO:-0700
TZNAME:PDT
DTSTART:20240310T100000
END:DAYLIGHT
BEGIN:STANDARD
TZOFFSETFROM:-0700
TZOFFSETTO:-0800
TZNAME:PST
DTSTART:20241103T090000
END:STANDARD
BEGIN:DAYLIGHT
TZOFFSETFROM:-0800
TZOFFSETTO:-0700
TZNAME:PDT
DTSTART:20250309T100000
END:DAYLIGHT
BEGIN:STANDARD
TZOFFSETFROM:-0700
TZOFFSETTO:-0800
TZNAME:PST
DTSTART:20251102T090000
END:STANDARD
BEGIN:DAYLIGHT
TZOFFSETFROM:-0800
TZOFFSETTO:-0700
TZNAME:PDT
DTSTART:20260308T100000
END:DAYLIGHT
BEGIN:STANDARD
TZOFFSETFROM:-0700
TZOFFSETTO:-0800
TZNAME:PST
DTSTART:20261101T090000
END:STANDARD
END:VTIMEZONE
BEGIN:VEVENT
DTSTART;TZID=America/Los_Angeles:20250712T100000
DTEND;TZID=America/Los_Angeles:20250712T170000
DTSTAMP:20260422T174646
CREATED:20230817T220152Z
LAST-MODIFIED:20250305T163711Z
UID:10004033-1752314400-1752339600@experienceredmond.com
SUMMARY:Electrify Expo
DESCRIPTION:Attend North America’s largest Electric Vehicle festival! Fun for all ages\, Electrify Expo is an outdoor\, weekend festival that gathers the World’s top EV manufacturers all in one place! Ride\, Drive + Demo your favorite electric car\, electric truck\, e-motorcycle\, e-bike\, e-scooter\, e-skateboard\, e-surfboard\, e-foil and other electric brands. Visit their amazing displays\, talk with EV experts\, and BEST OF ALL\, test out your favorite electric vehicle on one of our thrilling demo courses. Kids\, have fun in the in our biggest Kids Zone ever! With over 1\,000\,000 square feet of exhibit and festival space\, Electrify Expo is a full day of electrified fun mixed with great food\, drinks\, music and more.
URL:https://experienceredmond.com/event/electrify-expo/2025-07-12/
LOCATION:Marymoor Park\, 6046 W LAKE SAMMAMISH PKWY NE\, REDMOND\, WA\, 98052
CATEGORIES:Business & Professional,Community & Culture
ATTACH;FMTTYPE=image/jpeg:https://experienceredmond.com/wp-content/uploads/2023/08/366283625_778071274328026_3057961744502167334_n.jpeg
END:VEVENT
BEGIN:VEVENT
DTSTART;TZID=America/Los_Angeles:20250713T100000
DTEND;TZID=America/Los_Angeles:20250713T170000
DTSTAMP:20260422T174646
CREATED:20250305T163958Z
LAST-MODIFIED:20250305T164021Z
UID:10004039-1752400800-1752426000@experienceredmond.com
SUMMARY:Electrify Expo
DESCRIPTION:Attend North America’s largest Electric Vehicle festival! Fun for all ages\, Electrify Expo is an outdoor\, weekend festival that gathers the World’s top EV manufacturers all in one place! Ride\, Drive + Demo your favorite electric car\, electric truck\, e-motorcycle\, e-bike\, e-scooter\, e-skateboard\, e-surfboard\, e-foil and other electric brands. Visit their amazing displays\, talk with EV experts\, and BEST OF ALL\, test out your favorite electric vehicle on one of our thrilling demo courses. Kids\, have fun in the in our biggest Kids Zone ever! With over 1\,000\,000 square feet of exhibit and festival space\, Electrify Expo is a full day of electrified fun mixed with great food\, drinks\, music and more.
URL:https://experienceredmond.com/event/electrify-expo-2/2025-07-13/
LOCATION:Marymoor Park\, 6046 W LAKE SAMMAMISH PKWY NE\, REDMOND\, WA\, 98052
CATEGORIES:Business & Professional,Community & Culture
ATTACH;FMTTYPE=image/jpeg:https://experienceredmond.com/wp-content/uploads/2023/08/366283625_778071274328026_3057961744502167334_n.jpeg
END:VEVENT
END:VCALENDAR