BEGIN:VCALENDAR
VERSION:2.0
PRODID:-//Experience Redmond - ECPv6.15.18//NONSGML v1.0//EN
CALSCALE:GREGORIAN
METHOD:PUBLISH
X-WR-CALNAME:Experience Redmond
X-ORIGINAL-URL:https://experienceredmond.com
X-WR-CALDESC:Events for Experience Redmond
REFRESH-INTERVAL;VALUE=DURATION:PT1H
X-Robots-Tag:noindex
X-PUBLISHED-TTL:PT1H
BEGIN:VTIMEZONE
TZID:America/Los_Angeles
BEGIN:DAYLIGHT
TZOFFSETFROM:-0800
TZOFFSETTO:-0700
TZNAME:PDT
DTSTART:20240310T100000
END:DAYLIGHT
BEGIN:STANDARD
TZOFFSETFROM:-0700
TZOFFSETTO:-0800
TZNAME:PST
DTSTART:20241103T090000
END:STANDARD
BEGIN:DAYLIGHT
TZOFFSETFROM:-0800
TZOFFSETTO:-0700
TZNAME:PDT
DTSTART:20250309T100000
END:DAYLIGHT
BEGIN:STANDARD
TZOFFSETFROM:-0700
TZOFFSETTO:-0800
TZNAME:PST
DTSTART:20251102T090000
END:STANDARD
BEGIN:DAYLIGHT
TZOFFSETFROM:-0800
TZOFFSETTO:-0700
TZNAME:PDT
DTSTART:20260308T100000
END:DAYLIGHT
BEGIN:STANDARD
TZOFFSETFROM:-0700
TZOFFSETTO:-0800
TZNAME:PST
DTSTART:20261101T090000
END:STANDARD
BEGIN:DAYLIGHT
TZOFFSETFROM:-0800
TZOFFSETTO:-0700
TZNAME:PDT
DTSTART:20270314T100000
END:DAYLIGHT
BEGIN:STANDARD
TZOFFSETFROM:-0700
TZOFFSETTO:-0800
TZNAME:PST
DTSTART:20271107T090000
END:STANDARD
END:VTIMEZONE
BEGIN:VEVENT
DTSTART;TZID=America/Los_Angeles:20251018T090000
DTEND;TZID=America/Los_Angeles:20251018T130000
DTSTAMP:20260422T155144
CREATED:20250924T175551Z
LAST-MODIFIED:20250924T175551Z
UID:10005728-1760778000-1760792400@experienceredmond.com
SUMMARY:Women's Small Business Expo
DESCRIPTION:No matter what stage of business you’re in—whether you’re just starting out\, scaling to new heights\, or years into running an established company—learning and networking remain essential for growth. The business world is always evolving\, and continuous learning keeps you adaptable\, innovative\, and ready to meet new challenges.\nIt’s our second annual expo.\nYou should be there.\nHere’s why… \n🔸 Gain insights from expert speakers – Learn strategies on business growth\, marketing\, and other hot topics that you can apply immediately to elevate your brand and bottom line. \n🔸 Connect with like-minded entrepreneurs – Build meaningful relationships with women in business who understand your challenges and can help spark fresh opportunities for collaboration and growth. \n🔸 B2B vendor market – Explore a curated selection of local experts offering tools\, services\, and solutions to help you streamline your operations and scale with confidence. \n🔸 Enjoy exclusive VIP perks – VIP admission includes access to the main event plus a premium swag bag valued at over $200\, filled with resources and gifts to inspire both your business and personal journey. \nTickets available here
URL:https://experienceredmond.com/event/womens-small-business-expo/
LOCATION:Hilton Garden Inn\, 16630 Redmond Way\, Redmond\, WA\, 98052\, United States
CATEGORIES:Business & Professional
ATTACH;FMTTYPE=image/png:https://experienceredmond.com/wp-content/uploads/2025/09/Untitled-design-10.png
END:VEVENT
BEGIN:VEVENT
DTSTART;TZID=America/Los_Angeles:20260502T110000
DTEND;TZID=America/Los_Angeles:20260502T150000
DTSTAMP:20260422T155144
CREATED:20260415T210628Z
LAST-MODIFIED:20260417T211749Z
UID:10009643-1777719600-1777734000@experienceredmond.com
SUMMARY:Day of Soccer Play with RAVE Foundation at Perrigo Park
DESCRIPTION:(All Ages) RAVE Day of Soccer Play is a day filled with soccer fun for families to get out and play in the spirit of the World Cup! Enjoy fun drills\, learn soccer skills\, and more at Perrigo Park! All skill levels are welcome. \nAll children must be accompanied and supervised by an adult for the duration of the event. \nPerrigo Softball/Soccer Field #1 (Perrigo Park
URL:https://experienceredmond.com/event/day-of-soccer-play-with-rave-foundation-at-perrigo-park/
LOCATION:Perrigo Park\, 9011 196th Ave NE\, Redmond\, WA\, 98053
CATEGORIES:Business & Professional,Charity & Causes,Community & Culture,Kids & Family,Sports & Fitness,World Soccer Games 2026
ATTACH;FMTTYPE=image/jpeg:https://experienceredmond.com/wp-content/uploads/2026/04/AdobeStock_113788619-scaled.jpeg
END:VEVENT
END:VCALENDAR