BEGIN:VCALENDAR
VERSION:2.0
PRODID:-//Experience Redmond - ECPv6.15.18//NONSGML v1.0//EN
CALSCALE:GREGORIAN
METHOD:PUBLISH
X-WR-CALNAME:Experience Redmond
X-ORIGINAL-URL:https://experienceredmond.com
X-WR-CALDESC:Events for Experience Redmond
REFRESH-INTERVAL;VALUE=DURATION:PT1H
X-Robots-Tag:noindex
X-PUBLISHED-TTL:PT1H
BEGIN:VTIMEZONE
TZID:America/Los_Angeles
BEGIN:DAYLIGHT
TZOFFSETFROM:-0800
TZOFFSETTO:-0700
TZNAME:PDT
DTSTART:20250309T100000
END:DAYLIGHT
BEGIN:STANDARD
TZOFFSETFROM:-0700
TZOFFSETTO:-0800
TZNAME:PST
DTSTART:20251102T090000
END:STANDARD
BEGIN:DAYLIGHT
TZOFFSETFROM:-0800
TZOFFSETTO:-0700
TZNAME:PDT
DTSTART:20260308T100000
END:DAYLIGHT
BEGIN:STANDARD
TZOFFSETFROM:-0700
TZOFFSETTO:-0800
TZNAME:PST
DTSTART:20261101T090000
END:STANDARD
BEGIN:DAYLIGHT
TZOFFSETFROM:-0800
TZOFFSETTO:-0700
TZNAME:PDT
DTSTART:20270314T100000
END:DAYLIGHT
BEGIN:STANDARD
TZOFFSETFROM:-0700
TZOFFSETTO:-0800
TZNAME:PST
DTSTART:20271107T090000
END:STANDARD
END:VTIMEZONE
BEGIN:VEVENT
DTSTART;TZID=America/Los_Angeles:20260304T113000
DTEND;TZID=America/Los_Angeles:20260304T123000
DTSTAMP:20260420T181559
CREATED:20260126T201857Z
LAST-MODIFIED:20260224T182351Z
UID:10007828-1772623800-1772627400@experienceredmond.com
SUMMARY:Wednesday Drum Circle
DESCRIPTION:Come and Drum! The Wednesday Drum Circle is a great way to have fun\, meet new people and drum the stress away! One of the amazing things science has discovered about drumming is its ability to activate and stimulate the brain to elevate mood\, improve clarity of thinking\, enhance memory\, and relieve anxiety. It’s mid-day schedule could be the best way to spend your lunch hour! Register for the month or drop in each week! Hand drums and other percussion instruments are available for use during class\, but you are welcome to bring your own if you have them\, as well. Ages 18+. \nClick here to register and learn more.
URL:https://experienceredmond.com/event/wednesday-drum-circle/2026-03-04/
LOCATION:Redmond Senior & Community Center\, 8703 160th Ave NE\, Redmond\, WA\, 98052\, United States
CATEGORIES:Community & Culture
ATTACH;FMTTYPE=image/jpeg:https://experienceredmond.com/wp-content/uploads/2026/02/AdobeStock_190144574-scaled.jpeg
END:VEVENT
BEGIN:VEVENT
DTSTART;TZID=America/Los_Angeles:20260305T190000
DTEND;TZID=America/Los_Angeles:20260305T230000
DTSTAMP:20260420T181559
CREATED:20230809T185817Z
LAST-MODIFIED:20230809T185817Z
UID:10001038-1772737200-1772751600@experienceredmond.com
SUMMARY:Flatstick Pub Study Hall
DESCRIPTION:We offer free games for anyone with a valid school ID. This includes teachers and faculty\, bring in your classmates or coworkers for a night of fun!
URL:https://experienceredmond.com/event/flatstick-pub-study-hall/2026-03-05/
LOCATION:Flatstick Pub\, 7530 164th Ave NE Suite A108\, Redmond\, WA\, 98052\, United States
CATEGORIES:Community & Culture,Food & Beverage
ATTACH;FMTTYPE=image/jpeg:https://experienceredmond.com/wp-content/uploads/2023/08/212586612_2114677702004722_6520674770601856513_n.jpeg
END:VEVENT
BEGIN:VEVENT
DTSTART;TZID=America/Los_Angeles:20260307T140000
DTEND;TZID=America/Los_Angeles:20260307T170000
DTSTAMP:20260420T181559
CREATED:20260303T220105Z
LAST-MODIFIED:20260303T220105Z
UID:10008237-1772892000-1772902800@experienceredmond.com
SUMMARY:Artforms of India: Cheriyal Scroll Painting Workshop on Silk
DESCRIPTION:Purnakala School of Indian Art presents Art for All workshops- a monthly hand-on workshop featuring a traditional visual artform of India.\nCome celebrate women’s day with story and art at March’s workshop on Cheriyal Scroll Painting on silk— bring your favorite women along and paint together! \nIf you’ve ever wanted to paint on fabrics here is your chance to learn the medium! In this workshop\, we will explore the vibrant storytelling tradition of Cheriyal art and learn specific tips and techniques for painting on silk. These skills will enable you to create any artwork of your choice in this unique medium. \nTake home a Cheriyal Painting on pure silk that can be framed or stitched. \nIn this workshop we will learn about:\n– The history and cultural ethos of Cheriyal Scroll Paintings\, including it’s deep connection to local folklore and storytelling\n– ⁠Foundational pattern design and compositional structure for creating a Cheriyal image\n– Crafting specific color themes and brushwork details to achieve the nostalgic feel of a Cheriyal Painting\n– ⁠Preparation of a traditional patam (cloth surface) and how to achieve it using modern\, accessible materials. Learn to prepare and paint on a Silk cloth panel. \nLimited to 10 spots. All details and Registration here:\nhttps://pages.purnakala.com/products/cheriyal-march-2026
URL:https://experienceredmond.com/event/artforms-of-india-cheriyal-scroll-painting-workshop-on-silk/
LOCATION:Redmond Senior & Community Center\, 8703 160th Ave NE\, Redmond\, WA\, 98052\, United States
CATEGORIES:Community & Culture,Redmond Arts
ATTACH;FMTTYPE=image/jpeg:https://experienceredmond.com/wp-content/uploads/2026/03/IMG_0298.jpeg
END:VEVENT
BEGIN:VEVENT
DTSTART;TZID=America/Los_Angeles:20260308T120000
DTEND;TZID=America/Los_Angeles:20260308T170000
DTSTAMP:20260420T181559
CREATED:20240117T185303Z
LAST-MODIFIED:20260219T193754Z
UID:10002688-1772971200-1772989200@experienceredmond.com
SUMMARY:Festival of Color
DESCRIPTION:Festival of Color\, presented by Northwest Share in partnership with the Vedic Cultural Center of Sammamish\, with support from LTAC\, the City of Redmond Tourism Grant\, and 4Culture. \nThe Festival of Color will be held at the Redmond city hall campus in Redmond WA\, on Sunday March 8th\, from 12 noon to 05:00 pm. \nBased on the traditional Holi festival of India\, the Festival of Color welcomes spring\, and brings the community together for 5 hours of pure joy and togetherness. \nIt’s a free festival\, open to all public. The festival will include stage entertainment\, dancing\, color contests\, prizes\, delicious food\, and most notably\, play of colors\, color countdowns in which folks color one another. \nPeriodically\, we will have color countdowns with the VIPs at the festival to signal the start of the play of colors. We can assure you that you will enjoy the occasion and retain fond memories of the festival long after it is over. See you all at the festival with your family and friends. \nFor more detail please visit \n\nhttp://www.nwshare.org\nwww.festivalofcolor.us/\n\nFollow NWShare on Facebook for updates and more information. \nBook Your Stay Today
URL:https://experienceredmond.com/event/festival-of-color/
LOCATION:Redmond City Hall Campus\, 15670 NE 85th St\, Redmond\, WA\, 98052\, United States
CATEGORIES:Community & Culture,Featured Events
ATTACH;FMTTYPE=image/jpeg:https://experienceredmond.com/wp-content/uploads/2024/01/71-DSCF2577-scaled.jpg
END:VEVENT
BEGIN:VEVENT
DTSTART;TZID=America/Los_Angeles:20260310T180000
DTEND;TZID=America/Los_Angeles:20260310T200000
DTSTAMP:20260420T181559
CREATED:20260121T185712Z
LAST-MODIFIED:20260121T185712Z
UID:10007536-1773165600-1773172800@experienceredmond.com
SUMMARY:Online Privacy Workshop for the LGBTQIA+ & Latine Community
DESCRIPTION:Click here to RSVP and find more info. \nJoin Centro Cultural Mexicano and Pride Across the Bridge for an Online Privacy Workshop for the LGBTQIA+ & Latine Community\, a free educational workshop focused on strengthening your digital safety. \nThis 1.5-hour\, in-person workshop will be led by a cybersecurity professional in the queer community and includes Spanish translation. All digital materials covered will be provided to attendees in both English and Spanish. \nWe’ll also be serving free dinner! Please RSVP so we can plan an accurate headcount! 🙂\nFood provided by: La Riviera Maya \nLGBTQIA+ and Latine community members face unique online risks. This interactive workshop will guide you through practical ways to protect your information and reduce digital harm\, including: \nProtecting personal information on people-search websites and social media\nDisabling ad tracking and location sharing\nUsing encrypted messaging apps and password managers\nManaging data breaches and minimizing digital footprints\nUnderstanding AI-based threats like deepfakes and real-time facial recognition\nAll participants will receive the workshop slides after the event\, in English & Spanish. \n—— \nAcompaña a Centro Cultural Mexicano y Pride Across the Bridge en un Taller de Privacidad en Línea para la Comunidad LGBTQIA+ y Latina\, un taller educativo gratuito enfocado en fortalecer tu seguridad digital. \nEste taller presencial de 1.5 horas será dirigido por un/a profesional de ciberseguridad de la comunidad queer e incluirá traducción al español. Todos los materiales digitales que se aborden se entregarán a las personas asistentes en inglés y español. \n¡También ofreceremos cena gratuita! Por favor confirma tu asistencia (RSVP) para que podamos planificar un conteo preciso de personas. \nComida proporcionada por: La Riviera Maya \nLas personas de la comunidad LGBTQIA+ y Latina enfrentan riesgos únicos en línea. Este taller interactivo te guiará a través de estrategias prácticas para proteger tu información y reducir el daño digital\, incluyendo: \nProtección de información personal en sitios de búsqueda de personas y redes sociales\nDesactivación del rastreo de anuncios y del uso compartido de ubicación\nUso de aplicaciones de mensajería cifrada y administradores de contraseñas\nManejo de filtraciones de datos y reducción de la huella digital\nComprensión de amenazas basadas en IA\, como deepfakes y reconocimiento facial en tiempo real\nTodas las personas participantes recibirán las diapositivas del taller después del evento\, en inglés y español.
URL:https://experienceredmond.com/event/online-privacy-workshop-for-the-lgbtqia-latine-community/
LOCATION:Centro Cultural Mexicano\, 7945 Gilman St\, Redmond\, WA\, 98052\, United States
CATEGORIES:Community & Culture
ATTACH;FMTTYPE=image/png:https://experienceredmond.com/wp-content/uploads/2026/01/Untitled-13.png
END:VEVENT
BEGIN:VEVENT
DTSTART;TZID=America/Los_Angeles:20260311T113000
DTEND;TZID=America/Los_Angeles:20260311T123000
DTSTAMP:20260420T181559
CREATED:20260126T201857Z
LAST-MODIFIED:20260224T182351Z
UID:10007829-1773228600-1773232200@experienceredmond.com
SUMMARY:Wednesday Drum Circle
DESCRIPTION:Come and Drum! The Wednesday Drum Circle is a great way to have fun\, meet new people and drum the stress away! One of the amazing things science has discovered about drumming is its ability to activate and stimulate the brain to elevate mood\, improve clarity of thinking\, enhance memory\, and relieve anxiety. It’s mid-day schedule could be the best way to spend your lunch hour! Register for the month or drop in each week! Hand drums and other percussion instruments are available for use during class\, but you are welcome to bring your own if you have them\, as well. Ages 18+. \nClick here to register and learn more.
URL:https://experienceredmond.com/event/wednesday-drum-circle/2026-03-11/
LOCATION:Redmond Senior & Community Center\, 8703 160th Ave NE\, Redmond\, WA\, 98052\, United States
CATEGORIES:Community & Culture
ATTACH;FMTTYPE=image/jpeg:https://experienceredmond.com/wp-content/uploads/2026/02/AdobeStock_190144574-scaled.jpeg
END:VEVENT
BEGIN:VEVENT
DTSTART;TZID=America/Los_Angeles:20260312T190000
DTEND;TZID=America/Los_Angeles:20260312T230000
DTSTAMP:20260420T181559
CREATED:20230809T185817Z
LAST-MODIFIED:20230809T185817Z
UID:10001039-1773342000-1773356400@experienceredmond.com
SUMMARY:Flatstick Pub Study Hall
DESCRIPTION:We offer free games for anyone with a valid school ID. This includes teachers and faculty\, bring in your classmates or coworkers for a night of fun!
URL:https://experienceredmond.com/event/flatstick-pub-study-hall/2026-03-12/
LOCATION:Flatstick Pub\, 7530 164th Ave NE Suite A108\, Redmond\, WA\, 98052\, United States
CATEGORIES:Community & Culture,Food & Beverage
ATTACH;FMTTYPE=image/jpeg:https://experienceredmond.com/wp-content/uploads/2023/08/212586612_2114677702004722_6520674770601856513_n.jpeg
END:VEVENT
BEGIN:VEVENT
DTSTART;TZID=America/Los_Angeles:20260313T183000
DTEND;TZID=America/Los_Angeles:20260313T203000
DTSTAMP:20260420T181559
CREATED:20251210T200547Z
LAST-MODIFIED:20260220T161303Z
UID:10006621-1773426600-1773433800@experienceredmond.com
SUMMARY:Improv Student Showcase
DESCRIPTION:A fun evening of improv comedy for your family. Laugh as our adult students\, beginners and advanced\, create unique\, never-to-be-seen stories\, scenes & jokes for you. You will provide suggestions\, energy & cheers. \nTickets are required. $10-$12. \nClick here to purchase tickets.
URL:https://experienceredmond.com/event/student-showcase-improv/
LOCATION:Redmond Senior & Community Center\, 8703 160th Ave NE\, Redmond\, WA\, 98052\, United States
CATEGORIES:Community & Culture,Redmond Arts
ATTACH;FMTTYPE=image/jpeg:https://experienceredmond.com/wp-content/uploads/2025/12/Improv-Student-Showcase.jpeg
END:VEVENT
BEGIN:VEVENT
DTSTART;TZID=America/Los_Angeles:20260318T113000
DTEND;TZID=America/Los_Angeles:20260318T123000
DTSTAMP:20260420T181559
CREATED:20260126T201857Z
LAST-MODIFIED:20260224T182351Z
UID:10007830-1773833400-1773837000@experienceredmond.com
SUMMARY:Wednesday Drum Circle
DESCRIPTION:Come and Drum! The Wednesday Drum Circle is a great way to have fun\, meet new people and drum the stress away! One of the amazing things science has discovered about drumming is its ability to activate and stimulate the brain to elevate mood\, improve clarity of thinking\, enhance memory\, and relieve anxiety. It’s mid-day schedule could be the best way to spend your lunch hour! Register for the month or drop in each week! Hand drums and other percussion instruments are available for use during class\, but you are welcome to bring your own if you have them\, as well. Ages 18+. \nClick here to register and learn more.
URL:https://experienceredmond.com/event/wednesday-drum-circle/2026-03-18/
LOCATION:Redmond Senior & Community Center\, 8703 160th Ave NE\, Redmond\, WA\, 98052\, United States
CATEGORIES:Community & Culture
ATTACH;FMTTYPE=image/jpeg:https://experienceredmond.com/wp-content/uploads/2026/02/AdobeStock_190144574-scaled.jpeg
END:VEVENT
BEGIN:VEVENT
DTSTART;TZID=America/Los_Angeles:20260319T190000
DTEND;TZID=America/Los_Angeles:20260319T230000
DTSTAMP:20260420T181559
CREATED:20230809T185817Z
LAST-MODIFIED:20230809T185817Z
UID:10001040-1773946800-1773961200@experienceredmond.com
SUMMARY:Flatstick Pub Study Hall
DESCRIPTION:We offer free games for anyone with a valid school ID. This includes teachers and faculty\, bring in your classmates or coworkers for a night of fun!
URL:https://experienceredmond.com/event/flatstick-pub-study-hall/2026-03-19/
LOCATION:Flatstick Pub\, 7530 164th Ave NE Suite A108\, Redmond\, WA\, 98052\, United States
CATEGORIES:Community & Culture,Food & Beverage
ATTACH;FMTTYPE=image/jpeg:https://experienceredmond.com/wp-content/uploads/2023/08/212586612_2114677702004722_6520674770601856513_n.jpeg
END:VEVENT
BEGIN:VEVENT
DTSTART;TZID=America/Los_Angeles:20260320T100000
DTEND;TZID=America/Los_Angeles:20260320T120000
DTSTAMP:20260420T181559
CREATED:20250422T220215Z
LAST-MODIFIED:20250716T164955Z
UID:10004469-1774000800-1774008000@experienceredmond.com
SUMMARY:Aussies & Kiwis in Seattle - Cuppa and Chat (Redmond)
DESCRIPTION:Friendship and support for women living “away from home”. \nLadies\, whether you are new to Seattle or have been here for a while and just want to have a coffee with some friendly faces\, come down for a cuppa and a chat with other Seattle-based Aussie and Kiwi women. \nA throwback to the days when you just popped in on your neighbour without an appointment to share a quick cuppa and a piece of homemade shortbread (sigh!)\, these catch-ups are extremely relaxed and judgement-free. (If you’re still in your PJs with last night’s tacos on your top\, no worries!) This is an opportunity for you to meet\, chat\, laugh (and cry!) with other women who understand what you are going through and can offer friendship\, support\, advice\, and encouragement. \nMake sure you register to let us know you are coming and to get monthly event reminders. \nWe look forward to seeing you. Just look out for the flags on the table or ask your server to direct you.
URL:https://experienceredmond.com/event/aussies-kiwis-in-seattle-cuppa-and-chat-redmond/2026-03-20/
LOCATION:Victor’s Celtic Coffee & Roasters\, 7993 Gilman Street\, Redmond\, WA\, 98052
CATEGORIES:Community & Culture
ATTACH;FMTTYPE=image/jpeg:https://experienceredmond.com/wp-content/uploads/2025/04/pexels-chevanon-302899-scaled.jpg
END:VEVENT
BEGIN:VEVENT
DTSTART;TZID=America/Los_Angeles:20260325T113000
DTEND;TZID=America/Los_Angeles:20260325T123000
DTSTAMP:20260420T181559
CREATED:20260126T201857Z
LAST-MODIFIED:20260224T182351Z
UID:10007831-1774438200-1774441800@experienceredmond.com
SUMMARY:Wednesday Drum Circle
DESCRIPTION:Come and Drum! The Wednesday Drum Circle is a great way to have fun\, meet new people and drum the stress away! One of the amazing things science has discovered about drumming is its ability to activate and stimulate the brain to elevate mood\, improve clarity of thinking\, enhance memory\, and relieve anxiety. It’s mid-day schedule could be the best way to spend your lunch hour! Register for the month or drop in each week! Hand drums and other percussion instruments are available for use during class\, but you are welcome to bring your own if you have them\, as well. Ages 18+. \nClick here to register and learn more.
URL:https://experienceredmond.com/event/wednesday-drum-circle/2026-03-25/
LOCATION:Redmond Senior & Community Center\, 8703 160th Ave NE\, Redmond\, WA\, 98052\, United States
CATEGORIES:Community & Culture
ATTACH;FMTTYPE=image/jpeg:https://experienceredmond.com/wp-content/uploads/2026/02/AdobeStock_190144574-scaled.jpeg
END:VEVENT
BEGIN:VEVENT
DTSTART;TZID=America/Los_Angeles:20260326T143000
DTEND;TZID=America/Los_Angeles:20260326T173000
DTSTAMP:20260420T181559
CREATED:20250110T225506Z
LAST-MODIFIED:20260413T203044Z
UID:10008252-1774535400-1774546200@experienceredmond.com
SUMMARY:Beyond Binary Connections
DESCRIPTION:Come as you are to this bimonthly no-expectations social space for our transgender and non-binary community. Enjoy good food\, board and card games\, and chill conversation with others in the queer community. You are also welcome to bring a book to read or an art project to work on while quietly enjoying the company of other gender-diverse folks. Feel free to bring a game of your own to share or just hang out and chat!\nEach meet-up will be at a different location\, so sign up for Pride Across the Bridge newsletter or watch our website. Meetings on the fourth Thursday of each month are hosted at Redmond Library in meeting room 1. Masks are encouraged to keep our community safe! All ages are welcome to come. This space is led by our Good Vibes Fairy\, Milo! Please observe Pride Across the Bridge general event rules. Snacks and drinks are occasionally provided in this space.\n-This is a safe space for all. Any behavior that goes against the 2SLGBTQIA+ and BIPOC community will result in an individual being asked to leave. \n-All ages are welcome\, but we ask minors or other folks who are under legal guardianship be accompanied by a guardian or friend when attending this social event. Youth can be accompanied by another youth. Guardians\, friends or caretakers don’t need to be transgender or non-binary. \nClick here to find more information.
URL:https://experienceredmond.com/event/beyond-binary-connections/2026-03-26/
LOCATION:Redmond Library\, 15990 NE 85th St\, Redmond\, WA\, 98052\, United States
CATEGORIES:Community & Culture
ATTACH;FMTTYPE=image/jpeg:https://experienceredmond.com/wp-content/uploads/2025/01/Pride-Across-The-Bridge-Beyond-Binary-Connections-Photo-B.jpeg
END:VEVENT
BEGIN:VEVENT
DTSTART;TZID=America/Los_Angeles:20260326T190000
DTEND;TZID=America/Los_Angeles:20260326T230000
DTSTAMP:20260420T181559
CREATED:20230809T185817Z
LAST-MODIFIED:20230809T185817Z
UID:10001041-1774551600-1774566000@experienceredmond.com
SUMMARY:Flatstick Pub Study Hall
DESCRIPTION:We offer free games for anyone with a valid school ID. This includes teachers and faculty\, bring in your classmates or coworkers for a night of fun!
URL:https://experienceredmond.com/event/flatstick-pub-study-hall/2026-03-26/
LOCATION:Flatstick Pub\, 7530 164th Ave NE Suite A108\, Redmond\, WA\, 98052\, United States
CATEGORIES:Community & Culture,Food & Beverage
ATTACH;FMTTYPE=image/jpeg:https://experienceredmond.com/wp-content/uploads/2023/08/212586612_2114677702004722_6520674770601856513_n.jpeg
END:VEVENT
END:VCALENDAR