BEGIN:VCALENDAR
VERSION:2.0
PRODID:-//Experience Redmond - ECPv6.15.18//NONSGML v1.0//EN
CALSCALE:GREGORIAN
METHOD:PUBLISH
X-ORIGINAL-URL:https://experienceredmond.com
X-WR-CALDESC:Events for Experience Redmond
REFRESH-INTERVAL;VALUE=DURATION:PT1H
X-Robots-Tag:noindex
X-PUBLISHED-TTL:PT1H
BEGIN:VTIMEZONE
TZID:America/Los_Angeles
BEGIN:DAYLIGHT
TZOFFSETFROM:-0800
TZOFFSETTO:-0700
TZNAME:PDT
DTSTART:20230312T100000
END:DAYLIGHT
BEGIN:STANDARD
TZOFFSETFROM:-0700
TZOFFSETTO:-0800
TZNAME:PST
DTSTART:20231105T090000
END:STANDARD
BEGIN:DAYLIGHT
TZOFFSETFROM:-0800
TZOFFSETTO:-0700
TZNAME:PDT
DTSTART:20240310T100000
END:DAYLIGHT
BEGIN:STANDARD
TZOFFSETFROM:-0700
TZOFFSETTO:-0800
TZNAME:PST
DTSTART:20241103T090000
END:STANDARD
BEGIN:DAYLIGHT
TZOFFSETFROM:-0800
TZOFFSETTO:-0700
TZNAME:PDT
DTSTART:20250309T100000
END:DAYLIGHT
BEGIN:STANDARD
TZOFFSETFROM:-0700
TZOFFSETTO:-0800
TZNAME:PST
DTSTART:20251102T090000
END:STANDARD
END:VTIMEZONE
BEGIN:VEVENT
DTSTART;TZID=America/Los_Angeles:20240110T190000
DTEND;TZID=America/Los_Angeles:20240110T210000
DTSTAMP:20260422T123436
CREATED:20230809T185104Z
LAST-MODIFIED:20230809T185642Z
UID:10000403-1704913200-1704920400@experienceredmond.com
SUMMARY:Flatstick Pub Bingo
DESCRIPTION:Come play bingo with us on Wednesdays from 7-9PM. Bingo is always free and prizes include\, Flatstick Gift cards\, Brewery swag\, Flatstick Swag\, and much more. Come join the fun!
URL:https://experienceredmond.com/event/flatstick-bingo/2024-01-10/
LOCATION:Flatstick Pub\, 7530 164th Ave NE Suite A108\, Redmond\, WA\, 98052\, United States
CATEGORIES:Food & Beverage
ATTACH;FMTTYPE=image/jpeg:https://experienceredmond.com/wp-content/uploads/2023/08/358638519_774848384643662_1125344034164033401_n.jpeg
END:VEVENT
BEGIN:VEVENT
DTSTART;TZID=America/Los_Angeles:20240111T190000
DTEND;TZID=America/Los_Angeles:20240111T230000
DTSTAMP:20260422T123436
CREATED:20230809T185817Z
LAST-MODIFIED:20230809T185817Z
UID:10000926-1704999600-1705014000@experienceredmond.com
SUMMARY:Flatstick Pub Study Hall
DESCRIPTION:We offer free games for anyone with a valid school ID. This includes teachers and faculty\, bring in your classmates or coworkers for a night of fun!
URL:https://experienceredmond.com/event/flatstick-pub-study-hall/2024-01-11/
LOCATION:Flatstick Pub\, 7530 164th Ave NE Suite A108\, Redmond\, WA\, 98052\, United States
CATEGORIES:Community & Culture,Food & Beverage
ATTACH;FMTTYPE=image/jpeg:https://experienceredmond.com/wp-content/uploads/2023/08/212586612_2114677702004722_6520674770601856513_n.jpeg
END:VEVENT
BEGIN:VEVENT
DTSTART;TZID=America/Los_Angeles:20240117T190000
DTEND;TZID=America/Los_Angeles:20240117T210000
DTSTAMP:20260422T123436
CREATED:20230809T185104Z
LAST-MODIFIED:20230809T185642Z
UID:10000404-1705518000-1705525200@experienceredmond.com
SUMMARY:Flatstick Pub Bingo
DESCRIPTION:Come play bingo with us on Wednesdays from 7-9PM. Bingo is always free and prizes include\, Flatstick Gift cards\, Brewery swag\, Flatstick Swag\, and much more. Come join the fun!
URL:https://experienceredmond.com/event/flatstick-bingo/2024-01-17/
LOCATION:Flatstick Pub\, 7530 164th Ave NE Suite A108\, Redmond\, WA\, 98052\, United States
CATEGORIES:Food & Beverage
ATTACH;FMTTYPE=image/jpeg:https://experienceredmond.com/wp-content/uploads/2023/08/358638519_774848384643662_1125344034164033401_n.jpeg
END:VEVENT
BEGIN:VEVENT
DTSTART;TZID=America/Los_Angeles:20240118T190000
DTEND;TZID=America/Los_Angeles:20240118T230000
DTSTAMP:20260422T123436
CREATED:20230809T185817Z
LAST-MODIFIED:20230809T185817Z
UID:10000927-1705604400-1705618800@experienceredmond.com
SUMMARY:Flatstick Pub Study Hall
DESCRIPTION:We offer free games for anyone with a valid school ID. This includes teachers and faculty\, bring in your classmates or coworkers for a night of fun!
URL:https://experienceredmond.com/event/flatstick-pub-study-hall/2024-01-18/
LOCATION:Flatstick Pub\, 7530 164th Ave NE Suite A108\, Redmond\, WA\, 98052\, United States
CATEGORIES:Community & Culture,Food & Beverage
ATTACH;FMTTYPE=image/jpeg:https://experienceredmond.com/wp-content/uploads/2023/08/212586612_2114677702004722_6520674770601856513_n.jpeg
END:VEVENT
BEGIN:VEVENT
DTSTART;TZID=America/Los_Angeles:20240120T110000
DTEND;TZID=America/Los_Angeles:20240120T170000
DTSTAMP:20260422T123436
CREATED:20231214T190259Z
LAST-MODIFIED:20231214T190259Z
UID:10002649-1705748400-1705770000@experienceredmond.com
SUMMARY:Redmond High School / Sugar + Spoon Cookie Dough Pop-Up
DESCRIPTION:Come stop by the Sugar + Spoon cookie dough food truck for our pop up and stock up on our delicious cookie dough!
URL:https://experienceredmond.com/event/redmond-high-school-sugar-spoon-cookie-dough-pop-up/
LOCATION:Redmond High School\, 17272 NE 104th St\, Redmond\, WA\, 98052
CATEGORIES:Food & Beverage
ATTACH;FMTTYPE=image/webp:https://experienceredmond.com/wp-content/uploads/2023/12/IMG_9629_1024x1024.webp
END:VEVENT
BEGIN:VEVENT
DTSTART;TZID=America/Los_Angeles:20240120T183000
DTEND;TZID=America/Los_Angeles:20240120T203000
DTSTAMP:20260422T123436
CREATED:20231213T223348Z
LAST-MODIFIED:20231213T223348Z
UID:10002645-1705775400-1705782600@experienceredmond.com
SUMMARY:Global Dance Delight a Global Escape
DESCRIPTION:Join us for an electrifying night of dance at Big Block Brewing in Redmond\, WA! \nGet ready to groove and move as we bring together dancers from all around the world to showcase their talent. This event promises to be a delightful celebration of global dance styles. So put on your dancing shoes and come on down to Global Dance Delight for a night you won’t forget! \nFood truck dining option and drinks available for purchase. \nAll ages are welcome! \nTickets can be purchased in advance at https://www.marianabellydancenw.com/globaldancedelight
URL:https://experienceredmond.com/event/global-dance-delight-a-global-escape/
LOCATION:Big Block Brewing\, 14950-F NE 95th\, Redmond\, WA\, 98052\, United States
CATEGORIES:Food & Beverage
ATTACH;FMTTYPE=image/jpeg:https://experienceredmond.com/wp-content/uploads/2023/12/405296435_10231527698999702_8064018996183535855_n.jpeg
END:VEVENT
BEGIN:VEVENT
DTSTART;TZID=America/Los_Angeles:20240124T190000
DTEND;TZID=America/Los_Angeles:20240124T210000
DTSTAMP:20260422T123436
CREATED:20230809T185104Z
LAST-MODIFIED:20230809T185642Z
UID:10000405-1706122800-1706130000@experienceredmond.com
SUMMARY:Flatstick Pub Bingo
DESCRIPTION:Come play bingo with us on Wednesdays from 7-9PM. Bingo is always free and prizes include\, Flatstick Gift cards\, Brewery swag\, Flatstick Swag\, and much more. Come join the fun!
URL:https://experienceredmond.com/event/flatstick-bingo/2024-01-24/
LOCATION:Flatstick Pub\, 7530 164th Ave NE Suite A108\, Redmond\, WA\, 98052\, United States
CATEGORIES:Food & Beverage
ATTACH;FMTTYPE=image/jpeg:https://experienceredmond.com/wp-content/uploads/2023/08/358638519_774848384643662_1125344034164033401_n.jpeg
END:VEVENT
BEGIN:VEVENT
DTSTART;TZID=America/Los_Angeles:20240125T190000
DTEND;TZID=America/Los_Angeles:20240125T230000
DTSTAMP:20260422T123436
CREATED:20230809T185817Z
LAST-MODIFIED:20230809T185817Z
UID:10000928-1706209200-1706223600@experienceredmond.com
SUMMARY:Flatstick Pub Study Hall
DESCRIPTION:We offer free games for anyone with a valid school ID. This includes teachers and faculty\, bring in your classmates or coworkers for a night of fun!
URL:https://experienceredmond.com/event/flatstick-pub-study-hall/2024-01-25/
LOCATION:Flatstick Pub\, 7530 164th Ave NE Suite A108\, Redmond\, WA\, 98052\, United States
CATEGORIES:Community & Culture,Food & Beverage
ATTACH;FMTTYPE=image/jpeg:https://experienceredmond.com/wp-content/uploads/2023/08/212586612_2114677702004722_6520674770601856513_n.jpeg
END:VEVENT
BEGIN:VEVENT
DTSTART;TZID=America/Los_Angeles:20240127T140000
DTEND;TZID=America/Los_Angeles:20240127T160000
DTSTAMP:20260422T123436
CREATED:20240106T012720Z
LAST-MODIFIED:20240109T005532Z
UID:10002673-1706364000-1706371200@experienceredmond.com
SUMMARY:Redmond Historical Society — Member Meeting & Ice Cream Social
DESCRIPTION:Ice Cream in January? You bet! The Redmond Historical Society is pleased to announce its Annual Membership Meeting and Ice Cream Social! Connect with old friends\, meet new friends\, socialize\, and network while the Society thanks members and the community for preserving Redmond’s history. This is a free event\, and open to everyone! Please RSVP here
URL:https://experienceredmond.com/event/redmond-historical-society-member-meeting-ice-cream-social/
LOCATION:Happy Valley Grange\, 19720 NE 50th Street\, Redmond\, WA\, 98053
CATEGORIES:Community & Culture,Food & Beverage
ATTACH;FMTTYPE=image/png:https://experienceredmond.com/wp-content/uploads/2024/01/Ice-cream.png
END:VEVENT
BEGIN:VEVENT
DTSTART;TZID=America/Los_Angeles:20240128T100000
DTEND;TZID=America/Los_Angeles:20240128T120000
DTSTAMP:20260422T123436
CREATED:20231121T224109Z
LAST-MODIFIED:20231121T224155Z
UID:10002638-1706436000-1706443200@experienceredmond.com
SUMMARY:Snowman Cake Decorating Party
DESCRIPTION:A Cake Decorating Extravaganza where we will transform ordinary vanilla 6″ cakes into a cute snowman.  \nMenu: 2-layer\, 6-inch Vanilla Cake
URL:https://experienceredmond.com/event/snowman-cake-decorating-party/
LOCATION:Froglegs Redmond\, 7430 164th Ave NE\, Suite B240\, Redmond\, WA\, 98052\, United States
CATEGORIES:Food & Beverage,Holiday,Kids & Family
ATTACH;FMTTYPE=image/jpeg:https://experienceredmond.com/wp-content/uploads/2023/11/Mini-Buttercream-Snowman-Cake-by-Amycakes-Bakes.jpeg
END:VEVENT
BEGIN:VEVENT
DTSTART;TZID=America/Los_Angeles:20240131T190000
DTEND;TZID=America/Los_Angeles:20240131T210000
DTSTAMP:20260422T123436
CREATED:20230809T185104Z
LAST-MODIFIED:20230809T185642Z
UID:10000406-1706727600-1706734800@experienceredmond.com
SUMMARY:Flatstick Pub Bingo
DESCRIPTION:Come play bingo with us on Wednesdays from 7-9PM. Bingo is always free and prizes include\, Flatstick Gift cards\, Brewery swag\, Flatstick Swag\, and much more. Come join the fun!
URL:https://experienceredmond.com/event/flatstick-bingo/2024-01-31/
LOCATION:Flatstick Pub\, 7530 164th Ave NE Suite A108\, Redmond\, WA\, 98052\, United States
CATEGORIES:Food & Beverage
ATTACH;FMTTYPE=image/jpeg:https://experienceredmond.com/wp-content/uploads/2023/08/358638519_774848384643662_1125344034164033401_n.jpeg
END:VEVENT
BEGIN:VEVENT
DTSTART;TZID=America/Los_Angeles:20240201T190000
DTEND;TZID=America/Los_Angeles:20240201T230000
DTSTAMP:20260422T123436
CREATED:20230809T185817Z
LAST-MODIFIED:20230809T185817Z
UID:10000929-1706814000-1706828400@experienceredmond.com
SUMMARY:Flatstick Pub Study Hall
DESCRIPTION:We offer free games for anyone with a valid school ID. This includes teachers and faculty\, bring in your classmates or coworkers for a night of fun!
URL:https://experienceredmond.com/event/flatstick-pub-study-hall/2024-02-01/
LOCATION:Flatstick Pub\, 7530 164th Ave NE Suite A108\, Redmond\, WA\, 98052\, United States
CATEGORIES:Community & Culture,Food & Beverage
ATTACH;FMTTYPE=image/jpeg:https://experienceredmond.com/wp-content/uploads/2023/08/212586612_2114677702004722_6520674770601856513_n.jpeg
END:VEVENT
BEGIN:VEVENT
DTSTART;TZID=America/Los_Angeles:20240207T190000
DTEND;TZID=America/Los_Angeles:20240207T210000
DTSTAMP:20260422T123436
CREATED:20230809T185104Z
LAST-MODIFIED:20230809T185642Z
UID:10000407-1707332400-1707339600@experienceredmond.com
SUMMARY:Flatstick Pub Bingo
DESCRIPTION:Come play bingo with us on Wednesdays from 7-9PM. Bingo is always free and prizes include\, Flatstick Gift cards\, Brewery swag\, Flatstick Swag\, and much more. Come join the fun!
URL:https://experienceredmond.com/event/flatstick-bingo/2024-02-07/
LOCATION:Flatstick Pub\, 7530 164th Ave NE Suite A108\, Redmond\, WA\, 98052\, United States
CATEGORIES:Food & Beverage
ATTACH;FMTTYPE=image/jpeg:https://experienceredmond.com/wp-content/uploads/2023/08/358638519_774848384643662_1125344034164033401_n.jpeg
END:VEVENT
BEGIN:VEVENT
DTSTART;TZID=America/Los_Angeles:20240208T190000
DTEND;TZID=America/Los_Angeles:20240208T230000
DTSTAMP:20260422T123436
CREATED:20230809T185817Z
LAST-MODIFIED:20230809T185817Z
UID:10000930-1707418800-1707433200@experienceredmond.com
SUMMARY:Flatstick Pub Study Hall
DESCRIPTION:We offer free games for anyone with a valid school ID. This includes teachers and faculty\, bring in your classmates or coworkers for a night of fun!
URL:https://experienceredmond.com/event/flatstick-pub-study-hall/2024-02-08/
LOCATION:Flatstick Pub\, 7530 164th Ave NE Suite A108\, Redmond\, WA\, 98052\, United States
CATEGORIES:Community & Culture,Food & Beverage
ATTACH;FMTTYPE=image/jpeg:https://experienceredmond.com/wp-content/uploads/2023/08/212586612_2114677702004722_6520674770601856513_n.jpeg
END:VEVENT
BEGIN:VEVENT
DTSTART;TZID=America/Los_Angeles:20240214T190000
DTEND;TZID=America/Los_Angeles:20240214T210000
DTSTAMP:20260422T123436
CREATED:20230809T185104Z
LAST-MODIFIED:20230809T185642Z
UID:10000408-1707937200-1707944400@experienceredmond.com
SUMMARY:Flatstick Pub Bingo
DESCRIPTION:Come play bingo with us on Wednesdays from 7-9PM. Bingo is always free and prizes include\, Flatstick Gift cards\, Brewery swag\, Flatstick Swag\, and much more. Come join the fun!
URL:https://experienceredmond.com/event/flatstick-bingo/2024-02-14/
LOCATION:Flatstick Pub\, 7530 164th Ave NE Suite A108\, Redmond\, WA\, 98052\, United States
CATEGORIES:Food & Beverage
ATTACH;FMTTYPE=image/jpeg:https://experienceredmond.com/wp-content/uploads/2023/08/358638519_774848384643662_1125344034164033401_n.jpeg
END:VEVENT
BEGIN:VEVENT
DTSTART;TZID=America/Los_Angeles:20240215T190000
DTEND;TZID=America/Los_Angeles:20240215T230000
DTSTAMP:20260422T123436
CREATED:20230809T185817Z
LAST-MODIFIED:20230809T185817Z
UID:10000931-1708023600-1708038000@experienceredmond.com
SUMMARY:Flatstick Pub Study Hall
DESCRIPTION:We offer free games for anyone with a valid school ID. This includes teachers and faculty\, bring in your classmates or coworkers for a night of fun!
URL:https://experienceredmond.com/event/flatstick-pub-study-hall/2024-02-15/
LOCATION:Flatstick Pub\, 7530 164th Ave NE Suite A108\, Redmond\, WA\, 98052\, United States
CATEGORIES:Community & Culture,Food & Beverage
ATTACH;FMTTYPE=image/jpeg:https://experienceredmond.com/wp-content/uploads/2023/08/212586612_2114677702004722_6520674770601856513_n.jpeg
END:VEVENT
BEGIN:VEVENT
DTSTART;TZID=America/Los_Angeles:20240221T190000
DTEND;TZID=America/Los_Angeles:20240221T210000
DTSTAMP:20260422T123436
CREATED:20230809T185104Z
LAST-MODIFIED:20230809T185642Z
UID:10000409-1708542000-1708549200@experienceredmond.com
SUMMARY:Flatstick Pub Bingo
DESCRIPTION:Come play bingo with us on Wednesdays from 7-9PM. Bingo is always free and prizes include\, Flatstick Gift cards\, Brewery swag\, Flatstick Swag\, and much more. Come join the fun!
URL:https://experienceredmond.com/event/flatstick-bingo/2024-02-21/
LOCATION:Flatstick Pub\, 7530 164th Ave NE Suite A108\, Redmond\, WA\, 98052\, United States
CATEGORIES:Food & Beverage
ATTACH;FMTTYPE=image/jpeg:https://experienceredmond.com/wp-content/uploads/2023/08/358638519_774848384643662_1125344034164033401_n.jpeg
END:VEVENT
BEGIN:VEVENT
DTSTART;TZID=America/Los_Angeles:20240222T190000
DTEND;TZID=America/Los_Angeles:20240222T230000
DTSTAMP:20260422T123436
CREATED:20230809T185817Z
LAST-MODIFIED:20230809T185817Z
UID:10000932-1708628400-1708642800@experienceredmond.com
SUMMARY:Flatstick Pub Study Hall
DESCRIPTION:We offer free games for anyone with a valid school ID. This includes teachers and faculty\, bring in your classmates or coworkers for a night of fun!
URL:https://experienceredmond.com/event/flatstick-pub-study-hall/2024-02-22/
LOCATION:Flatstick Pub\, 7530 164th Ave NE Suite A108\, Redmond\, WA\, 98052\, United States
CATEGORIES:Community & Culture,Food & Beverage
ATTACH;FMTTYPE=image/jpeg:https://experienceredmond.com/wp-content/uploads/2023/08/212586612_2114677702004722_6520674770601856513_n.jpeg
END:VEVENT
BEGIN:VEVENT
DTSTART;TZID=America/Los_Angeles:20240228T190000
DTEND;TZID=America/Los_Angeles:20240228T210000
DTSTAMP:20260422T123436
CREATED:20230809T185104Z
LAST-MODIFIED:20230809T185642Z
UID:10000410-1709146800-1709154000@experienceredmond.com
SUMMARY:Flatstick Pub Bingo
DESCRIPTION:Come play bingo with us on Wednesdays from 7-9PM. Bingo is always free and prizes include\, Flatstick Gift cards\, Brewery swag\, Flatstick Swag\, and much more. Come join the fun!
URL:https://experienceredmond.com/event/flatstick-bingo/2024-02-28/
LOCATION:Flatstick Pub\, 7530 164th Ave NE Suite A108\, Redmond\, WA\, 98052\, United States
CATEGORIES:Food & Beverage
ATTACH;FMTTYPE=image/jpeg:https://experienceredmond.com/wp-content/uploads/2023/08/358638519_774848384643662_1125344034164033401_n.jpeg
END:VEVENT
BEGIN:VEVENT
DTSTART;TZID=America/Los_Angeles:20240229T190000
DTEND;TZID=America/Los_Angeles:20240229T230000
DTSTAMP:20260422T123436
CREATED:20230809T185817Z
LAST-MODIFIED:20230809T185817Z
UID:10000933-1709233200-1709247600@experienceredmond.com
SUMMARY:Flatstick Pub Study Hall
DESCRIPTION:We offer free games for anyone with a valid school ID. This includes teachers and faculty\, bring in your classmates or coworkers for a night of fun!
URL:https://experienceredmond.com/event/flatstick-pub-study-hall/2024-02-29/
LOCATION:Flatstick Pub\, 7530 164th Ave NE Suite A108\, Redmond\, WA\, 98052\, United States
CATEGORIES:Community & Culture,Food & Beverage
ATTACH;FMTTYPE=image/jpeg:https://experienceredmond.com/wp-content/uploads/2023/08/212586612_2114677702004722_6520674770601856513_n.jpeg
END:VEVENT
BEGIN:VEVENT
DTSTART;TZID=America/Los_Angeles:20240306T190000
DTEND;TZID=America/Los_Angeles:20240306T210000
DTSTAMP:20260422T123436
CREATED:20230809T185104Z
LAST-MODIFIED:20230809T185642Z
UID:10000411-1709751600-1709758800@experienceredmond.com
SUMMARY:Flatstick Pub Bingo
DESCRIPTION:Come play bingo with us on Wednesdays from 7-9PM. Bingo is always free and prizes include\, Flatstick Gift cards\, Brewery swag\, Flatstick Swag\, and much more. Come join the fun!
URL:https://experienceredmond.com/event/flatstick-bingo/2024-03-06/
LOCATION:Flatstick Pub\, 7530 164th Ave NE Suite A108\, Redmond\, WA\, 98052\, United States
CATEGORIES:Food & Beverage
ATTACH;FMTTYPE=image/jpeg:https://experienceredmond.com/wp-content/uploads/2023/08/358638519_774848384643662_1125344034164033401_n.jpeg
END:VEVENT
BEGIN:VEVENT
DTSTART;TZID=America/Los_Angeles:20240307T190000
DTEND;TZID=America/Los_Angeles:20240307T230000
DTSTAMP:20260422T123436
CREATED:20230809T185817Z
LAST-MODIFIED:20230809T185817Z
UID:10000934-1709838000-1709852400@experienceredmond.com
SUMMARY:Flatstick Pub Study Hall
DESCRIPTION:We offer free games for anyone with a valid school ID. This includes teachers and faculty\, bring in your classmates or coworkers for a night of fun!
URL:https://experienceredmond.com/event/flatstick-pub-study-hall/2024-03-07/
LOCATION:Flatstick Pub\, 7530 164th Ave NE Suite A108\, Redmond\, WA\, 98052\, United States
CATEGORIES:Community & Culture,Food & Beverage
ATTACH;FMTTYPE=image/jpeg:https://experienceredmond.com/wp-content/uploads/2023/08/212586612_2114677702004722_6520674770601856513_n.jpeg
END:VEVENT
BEGIN:VEVENT
DTSTART;TZID=America/Los_Angeles:20240313T190000
DTEND;TZID=America/Los_Angeles:20240313T210000
DTSTAMP:20260422T123436
CREATED:20230809T185104Z
LAST-MODIFIED:20230809T185642Z
UID:10000412-1710356400-1710363600@experienceredmond.com
SUMMARY:Flatstick Pub Bingo
DESCRIPTION:Come play bingo with us on Wednesdays from 7-9PM. Bingo is always free and prizes include\, Flatstick Gift cards\, Brewery swag\, Flatstick Swag\, and much more. Come join the fun!
URL:https://experienceredmond.com/event/flatstick-bingo/2024-03-13/
LOCATION:Flatstick Pub\, 7530 164th Ave NE Suite A108\, Redmond\, WA\, 98052\, United States
CATEGORIES:Food & Beverage
ATTACH;FMTTYPE=image/jpeg:https://experienceredmond.com/wp-content/uploads/2023/08/358638519_774848384643662_1125344034164033401_n.jpeg
END:VEVENT
BEGIN:VEVENT
DTSTART;TZID=America/Los_Angeles:20240314T190000
DTEND;TZID=America/Los_Angeles:20240314T230000
DTSTAMP:20260422T123436
CREATED:20230809T185817Z
LAST-MODIFIED:20230809T185817Z
UID:10000935-1710442800-1710457200@experienceredmond.com
SUMMARY:Flatstick Pub Study Hall
DESCRIPTION:We offer free games for anyone with a valid school ID. This includes teachers and faculty\, bring in your classmates or coworkers for a night of fun!
URL:https://experienceredmond.com/event/flatstick-pub-study-hall/2024-03-14/
LOCATION:Flatstick Pub\, 7530 164th Ave NE Suite A108\, Redmond\, WA\, 98052\, United States
CATEGORIES:Community & Culture,Food & Beverage
ATTACH;FMTTYPE=image/jpeg:https://experienceredmond.com/wp-content/uploads/2023/08/212586612_2114677702004722_6520674770601856513_n.jpeg
END:VEVENT
BEGIN:VEVENT
DTSTART;TZID=America/Los_Angeles:20240320T190000
DTEND;TZID=America/Los_Angeles:20240320T210000
DTSTAMP:20260422T123436
CREATED:20230809T185104Z
LAST-MODIFIED:20230809T185642Z
UID:10000413-1710961200-1710968400@experienceredmond.com
SUMMARY:Flatstick Pub Bingo
DESCRIPTION:Come play bingo with us on Wednesdays from 7-9PM. Bingo is always free and prizes include\, Flatstick Gift cards\, Brewery swag\, Flatstick Swag\, and much more. Come join the fun!
URL:https://experienceredmond.com/event/flatstick-bingo/2024-03-20/
LOCATION:Flatstick Pub\, 7530 164th Ave NE Suite A108\, Redmond\, WA\, 98052\, United States
CATEGORIES:Food & Beverage
ATTACH;FMTTYPE=image/jpeg:https://experienceredmond.com/wp-content/uploads/2023/08/358638519_774848384643662_1125344034164033401_n.jpeg
END:VEVENT
BEGIN:VEVENT
DTSTART;TZID=America/Los_Angeles:20240321T183000
DTEND;TZID=America/Los_Angeles:20240321T203000
DTSTAMP:20260422T123436
CREATED:20240209T233645Z
LAST-MODIFIED:20240210T003903Z
UID:10002720-1711045800-1711053000@experienceredmond.com
SUMMARY:Beer and Cheese Pairing
DESCRIPTION:Experience an evening of delectable beer and cheese pairing at Big Block Brewing in Redmond\, WA. Prepare to immerse yourself in the delightful symphony of flavors as we unite award-winning brews with rare artisanal cheeses. Explore the enchanting fusion of these culinary delights as Rachael from “The Cheese Lady” curates exceptional cheeses not easily found elsewhere. Our knowledgeable “Brew Crew” and Rachael will guide you through an exhilarating journey of taste sensations. Whether you’re a seasoned beer aficionado or a devoted cheese lover\, this event guarantees to excite your palate and stimulate your curiosity. Savor\, socialize\, and forge new connections. Don’t let this unique opportunity pass you by!
URL:https://experienceredmond.com/event/beer-and-cheese-pairing/
LOCATION:Big Block Brewing\, 14950-F NE 95th\, Redmond\, WA\, 98052\, United States
CATEGORIES:Food & Beverage
ATTACH;FMTTYPE=image/png:https://experienceredmond.com/wp-content/uploads/2024/02/cheese-beer-pairing-social-516-x-358-px.png
END:VEVENT
BEGIN:VEVENT
DTSTART;TZID=America/Los_Angeles:20240321T190000
DTEND;TZID=America/Los_Angeles:20240321T230000
DTSTAMP:20260422T123436
CREATED:20230809T185817Z
LAST-MODIFIED:20230809T185817Z
UID:10000936-1711047600-1711062000@experienceredmond.com
SUMMARY:Flatstick Pub Study Hall
DESCRIPTION:We offer free games for anyone with a valid school ID. This includes teachers and faculty\, bring in your classmates or coworkers for a night of fun!
URL:https://experienceredmond.com/event/flatstick-pub-study-hall/2024-03-21/
LOCATION:Flatstick Pub\, 7530 164th Ave NE Suite A108\, Redmond\, WA\, 98052\, United States
CATEGORIES:Community & Culture,Food & Beverage
ATTACH;FMTTYPE=image/jpeg:https://experienceredmond.com/wp-content/uploads/2023/08/212586612_2114677702004722_6520674770601856513_n.jpeg
END:VEVENT
BEGIN:VEVENT
DTSTART;TZID=America/Los_Angeles:20240327T190000
DTEND;TZID=America/Los_Angeles:20240327T210000
DTSTAMP:20260422T123436
CREATED:20230809T185104Z
LAST-MODIFIED:20230809T185642Z
UID:10000414-1711566000-1711573200@experienceredmond.com
SUMMARY:Flatstick Pub Bingo
DESCRIPTION:Come play bingo with us on Wednesdays from 7-9PM. Bingo is always free and prizes include\, Flatstick Gift cards\, Brewery swag\, Flatstick Swag\, and much more. Come join the fun!
URL:https://experienceredmond.com/event/flatstick-bingo/2024-03-27/
LOCATION:Flatstick Pub\, 7530 164th Ave NE Suite A108\, Redmond\, WA\, 98052\, United States
CATEGORIES:Food & Beverage
ATTACH;FMTTYPE=image/jpeg:https://experienceredmond.com/wp-content/uploads/2023/08/358638519_774848384643662_1125344034164033401_n.jpeg
END:VEVENT
BEGIN:VEVENT
DTSTART;TZID=America/Los_Angeles:20240328T190000
DTEND;TZID=America/Los_Angeles:20240328T230000
DTSTAMP:20260422T123436
CREATED:20230809T185817Z
LAST-MODIFIED:20230809T185817Z
UID:10000937-1711652400-1711666800@experienceredmond.com
SUMMARY:Flatstick Pub Study Hall
DESCRIPTION:We offer free games for anyone with a valid school ID. This includes teachers and faculty\, bring in your classmates or coworkers for a night of fun!
URL:https://experienceredmond.com/event/flatstick-pub-study-hall/2024-03-28/
LOCATION:Flatstick Pub\, 7530 164th Ave NE Suite A108\, Redmond\, WA\, 98052\, United States
CATEGORIES:Community & Culture,Food & Beverage
ATTACH;FMTTYPE=image/jpeg:https://experienceredmond.com/wp-content/uploads/2023/08/212586612_2114677702004722_6520674770601856513_n.jpeg
END:VEVENT
BEGIN:VEVENT
DTSTART;TZID=America/Los_Angeles:20240330T160000
DTEND;TZID=America/Los_Angeles:20240330T200000
DTSTAMP:20260422T123436
CREATED:20240305T164527Z
LAST-MODIFIED:20240305T164527Z
UID:10002726-1711814400-1711828800@experienceredmond.com
SUMMARY:March Chef's Special
DESCRIPTION:Join us for our 3-course Chef’s Special dinner from our new chef\, Chef Nick! \nThis month’s special features: \n\nAppetizer: Mozzarella Caprese\nEntree: Pan-seared Chicken Breast\nDessert: Tiramisu with Dolce Espresso Cream\n\nCall us to make a reservation: (425) 284-1550
URL:https://experienceredmond.com/event/march-chefs-special/
LOCATION:Redmond Ridge Golf Course\, 11825 Trilogy Pkwy NE\, Redmond\, WA\, 98053\, United States
CATEGORIES:Food & Beverage
ATTACH;FMTTYPE=image/webp:https://experienceredmond.com/wp-content/uploads/2024/03/j8sxkjrh972e71ablpk922rzoo3i.webp
END:VEVENT
END:VCALENDAR