BEGIN:VCALENDAR
VERSION:2.0
PRODID:-//Experience Redmond - ECPv6.15.18//NONSGML v1.0//EN
CALSCALE:GREGORIAN
METHOD:PUBLISH
X-WR-CALNAME:Experience Redmond
X-ORIGINAL-URL:https://experienceredmond.com
X-WR-CALDESC:Events for Experience Redmond
REFRESH-INTERVAL;VALUE=DURATION:PT1H
X-Robots-Tag:noindex
X-PUBLISHED-TTL:PT1H
BEGIN:VTIMEZONE
TZID:America/Los_Angeles
BEGIN:DAYLIGHT
TZOFFSETFROM:-0800
TZOFFSETTO:-0700
TZNAME:PDT
DTSTART:20250309T100000
END:DAYLIGHT
BEGIN:STANDARD
TZOFFSETFROM:-0700
TZOFFSETTO:-0800
TZNAME:PST
DTSTART:20251102T090000
END:STANDARD
BEGIN:DAYLIGHT
TZOFFSETFROM:-0800
TZOFFSETTO:-0700
TZNAME:PDT
DTSTART:20260308T100000
END:DAYLIGHT
BEGIN:STANDARD
TZOFFSETFROM:-0700
TZOFFSETTO:-0800
TZNAME:PST
DTSTART:20261101T090000
END:STANDARD
BEGIN:DAYLIGHT
TZOFFSETFROM:-0800
TZOFFSETTO:-0700
TZNAME:PDT
DTSTART:20270314T100000
END:DAYLIGHT
BEGIN:STANDARD
TZOFFSETFROM:-0700
TZOFFSETTO:-0800
TZNAME:PST
DTSTART:20271107T090000
END:STANDARD
END:VTIMEZONE
BEGIN:VEVENT
DTSTART;TZID=America/Los_Angeles:20260718T160000
DTEND;TZID=America/Los_Angeles:20260718T180000
DTSTAMP:20260424T054335
CREATED:20260415T205317Z
LAST-MODIFIED:20260415T205317Z
UID:10009148-1784390400-1784397600@experienceredmond.com
SUMMARY:Happy Hour at Brown's Stockyard Exchange
DESCRIPTION:Raise your glass at Brown’s Stockyard Exchange! Every Friday and Saturday from 4–6 PM\, enjoy our buy 2\, pay for 1 draft beer offer during Happy Hour. Gather your friends and make every sip count. Great drinks\, great company\, great moments—only at Brown’s Stockyard Exchange.
URL:https://experienceredmond.com/event/happy-hour-at-browns-stockyard-exchange-2/2026-07-18/
LOCATION:Brown’s Stockyard Exchange\, 7401 164th Ave NE\, Redmond\, WA
CATEGORIES:Food & Beverage
ATTACH;FMTTYPE=image/jpeg:https://experienceredmond.com/wp-content/uploads/2025/11/matthieu-joannon-6ciLddToTgM-unsplash-scaled.jpeg
END:VEVENT
BEGIN:VEVENT
DTSTART;TZID=America/Los_Angeles:20260722T190000
DTEND;TZID=America/Los_Angeles:20260722T210000
DTSTAMP:20260424T054335
CREATED:20230809T185104Z
LAST-MODIFIED:20230809T185642Z
UID:10000535-1784746800-1784754000@experienceredmond.com
SUMMARY:Flatstick Pub Bingo
DESCRIPTION:Come play bingo with us on Wednesdays from 7-9PM. Bingo is always free and prizes include\, Flatstick Gift cards\, Brewery swag\, Flatstick Swag\, and much more. Come join the fun!
URL:https://experienceredmond.com/event/flatstick-bingo/2026-07-22/
LOCATION:Flatstick Pub\, 7530 164th Ave NE Suite A108\, Redmond\, WA\, 98052\, United States
CATEGORIES:Food & Beverage
ATTACH;FMTTYPE=image/jpeg:https://experienceredmond.com/wp-content/uploads/2023/08/358638519_774848384643662_1125344034164033401_n.jpeg
END:VEVENT
BEGIN:VEVENT
DTSTART;TZID=America/Los_Angeles:20260723T190000
DTEND;TZID=America/Los_Angeles:20260723T210000
DTSTAMP:20260424T054335
CREATED:20251218T194211Z
LAST-MODIFIED:20251218T194211Z
UID:10007260-1784833200-1784840400@experienceredmond.com
SUMMARY:Trivia at Flatstick Pub
DESCRIPTION:Flatstick Pub hosts 2 rounds of trivia with the first round starting at 7PM and the second one starting at 8PM. Trivia is free to play\, come test your knowledge and have an opportunity to win a $50 Flatstick gift card!
URL:https://experienceredmond.com/event/trivia-at-flatstick-pub/2026-07-23/
LOCATION:Flatstick Pub\, 7530 164th Ave NE Suite A108\, Redmond\, WA\, 98052\, United States
CATEGORIES:Food & Beverage
ATTACH;FMTTYPE=image/jpeg:https://experienceredmond.com/wp-content/uploads/2023/08/Flatstick-Pub.jpeg
END:VEVENT
BEGIN:VEVENT
DTSTART;TZID=America/Los_Angeles:20260723T190000
DTEND;TZID=America/Los_Angeles:20260723T230000
DTSTAMP:20260424T054335
CREATED:20230809T185817Z
LAST-MODIFIED:20230809T185817Z
UID:10001058-1784833200-1784847600@experienceredmond.com
SUMMARY:Flatstick Pub Study Hall
DESCRIPTION:We offer free games for anyone with a valid school ID. This includes teachers and faculty\, bring in your classmates or coworkers for a night of fun!
URL:https://experienceredmond.com/event/flatstick-pub-study-hall/2026-07-23/
LOCATION:Flatstick Pub\, 7530 164th Ave NE Suite A108\, Redmond\, WA\, 98052\, United States
CATEGORIES:Community & Culture,Food & Beverage
ATTACH;FMTTYPE=image/jpeg:https://experienceredmond.com/wp-content/uploads/2023/08/212586612_2114677702004722_6520674770601856513_n.jpeg
END:VEVENT
BEGIN:VEVENT
DTSTART;TZID=America/Los_Angeles:20260724T160000
DTEND;TZID=America/Los_Angeles:20260724T180000
DTSTAMP:20260424T054335
CREATED:20260415T205317Z
LAST-MODIFIED:20260415T205317Z
UID:10009149-1784908800-1784916000@experienceredmond.com
SUMMARY:Happy Hour at Brown's Stockyard Exchange
DESCRIPTION:Raise your glass at Brown’s Stockyard Exchange! Every Friday and Saturday from 4–6 PM\, enjoy our buy 2\, pay for 1 draft beer offer during Happy Hour. Gather your friends and make every sip count. Great drinks\, great company\, great moments—only at Brown’s Stockyard Exchange.
URL:https://experienceredmond.com/event/happy-hour-at-browns-stockyard-exchange-2/2026-07-24/
LOCATION:Brown’s Stockyard Exchange\, 7401 164th Ave NE\, Redmond\, WA
CATEGORIES:Food & Beverage
ATTACH;FMTTYPE=image/jpeg:https://experienceredmond.com/wp-content/uploads/2025/11/matthieu-joannon-6ciLddToTgM-unsplash-scaled.jpeg
END:VEVENT
BEGIN:VEVENT
DTSTART;TZID=America/Los_Angeles:20260725T160000
DTEND;TZID=America/Los_Angeles:20260725T180000
DTSTAMP:20260424T054335
CREATED:20260415T205317Z
LAST-MODIFIED:20260415T205317Z
UID:10009150-1784995200-1785002400@experienceredmond.com
SUMMARY:Happy Hour at Brown's Stockyard Exchange
DESCRIPTION:Raise your glass at Brown’s Stockyard Exchange! Every Friday and Saturday from 4–6 PM\, enjoy our buy 2\, pay for 1 draft beer offer during Happy Hour. Gather your friends and make every sip count. Great drinks\, great company\, great moments—only at Brown’s Stockyard Exchange.
URL:https://experienceredmond.com/event/happy-hour-at-browns-stockyard-exchange-2/2026-07-25/
LOCATION:Brown’s Stockyard Exchange\, 7401 164th Ave NE\, Redmond\, WA
CATEGORIES:Food & Beverage
ATTACH;FMTTYPE=image/jpeg:https://experienceredmond.com/wp-content/uploads/2025/11/matthieu-joannon-6ciLddToTgM-unsplash-scaled.jpeg
END:VEVENT
BEGIN:VEVENT
DTSTART;TZID=America/Los_Angeles:20260729T190000
DTEND;TZID=America/Los_Angeles:20260729T210000
DTSTAMP:20260424T054335
CREATED:20230809T185104Z
LAST-MODIFIED:20230809T185642Z
UID:10000536-1785351600-1785358800@experienceredmond.com
SUMMARY:Flatstick Pub Bingo
DESCRIPTION:Come play bingo with us on Wednesdays from 7-9PM. Bingo is always free and prizes include\, Flatstick Gift cards\, Brewery swag\, Flatstick Swag\, and much more. Come join the fun!
URL:https://experienceredmond.com/event/flatstick-bingo/2026-07-29/
LOCATION:Flatstick Pub\, 7530 164th Ave NE Suite A108\, Redmond\, WA\, 98052\, United States
CATEGORIES:Food & Beverage
ATTACH;FMTTYPE=image/jpeg:https://experienceredmond.com/wp-content/uploads/2023/08/358638519_774848384643662_1125344034164033401_n.jpeg
END:VEVENT
BEGIN:VEVENT
DTSTART;TZID=America/Los_Angeles:20260730T190000
DTEND;TZID=America/Los_Angeles:20260730T210000
DTSTAMP:20260424T054335
CREATED:20251218T194211Z
LAST-MODIFIED:20251218T194211Z
UID:10007261-1785438000-1785445200@experienceredmond.com
SUMMARY:Trivia at Flatstick Pub
DESCRIPTION:Flatstick Pub hosts 2 rounds of trivia with the first round starting at 7PM and the second one starting at 8PM. Trivia is free to play\, come test your knowledge and have an opportunity to win a $50 Flatstick gift card!
URL:https://experienceredmond.com/event/trivia-at-flatstick-pub/2026-07-30/
LOCATION:Flatstick Pub\, 7530 164th Ave NE Suite A108\, Redmond\, WA\, 98052\, United States
CATEGORIES:Food & Beverage
ATTACH;FMTTYPE=image/jpeg:https://experienceredmond.com/wp-content/uploads/2023/08/Flatstick-Pub.jpeg
END:VEVENT
BEGIN:VEVENT
DTSTART;TZID=America/Los_Angeles:20260730T190000
DTEND;TZID=America/Los_Angeles:20260730T230000
DTSTAMP:20260424T054335
CREATED:20230809T185817Z
LAST-MODIFIED:20230809T185817Z
UID:10001059-1785438000-1785452400@experienceredmond.com
SUMMARY:Flatstick Pub Study Hall
DESCRIPTION:We offer free games for anyone with a valid school ID. This includes teachers and faculty\, bring in your classmates or coworkers for a night of fun!
URL:https://experienceredmond.com/event/flatstick-pub-study-hall/2026-07-30/
LOCATION:Flatstick Pub\, 7530 164th Ave NE Suite A108\, Redmond\, WA\, 98052\, United States
CATEGORIES:Community & Culture,Food & Beverage
ATTACH;FMTTYPE=image/jpeg:https://experienceredmond.com/wp-content/uploads/2023/08/212586612_2114677702004722_6520674770601856513_n.jpeg
END:VEVENT
BEGIN:VEVENT
DTSTART;TZID=America/Los_Angeles:20260731T160000
DTEND;TZID=America/Los_Angeles:20260731T180000
DTSTAMP:20260424T054335
CREATED:20260415T205317Z
LAST-MODIFIED:20260415T205317Z
UID:10009151-1785513600-1785520800@experienceredmond.com
SUMMARY:Happy Hour at Brown's Stockyard Exchange
DESCRIPTION:Raise your glass at Brown’s Stockyard Exchange! Every Friday and Saturday from 4–6 PM\, enjoy our buy 2\, pay for 1 draft beer offer during Happy Hour. Gather your friends and make every sip count. Great drinks\, great company\, great moments—only at Brown’s Stockyard Exchange.
URL:https://experienceredmond.com/event/happy-hour-at-browns-stockyard-exchange-2/2026-07-31/
LOCATION:Brown’s Stockyard Exchange\, 7401 164th Ave NE\, Redmond\, WA
CATEGORIES:Food & Beverage
ATTACH;FMTTYPE=image/jpeg:https://experienceredmond.com/wp-content/uploads/2025/11/matthieu-joannon-6ciLddToTgM-unsplash-scaled.jpeg
END:VEVENT
BEGIN:VEVENT
DTSTART;TZID=America/Los_Angeles:20260801T160000
DTEND;TZID=America/Los_Angeles:20260801T180000
DTSTAMP:20260424T054335
CREATED:20260415T205317Z
LAST-MODIFIED:20260415T205317Z
UID:10009152-1785600000-1785607200@experienceredmond.com
SUMMARY:Happy Hour at Brown's Stockyard Exchange
DESCRIPTION:Raise your glass at Brown’s Stockyard Exchange! Every Friday and Saturday from 4–6 PM\, enjoy our buy 2\, pay for 1 draft beer offer during Happy Hour. Gather your friends and make every sip count. Great drinks\, great company\, great moments—only at Brown’s Stockyard Exchange.
URL:https://experienceredmond.com/event/happy-hour-at-browns-stockyard-exchange-2/2026-08-01/
LOCATION:Brown’s Stockyard Exchange\, 7401 164th Ave NE\, Redmond\, WA
CATEGORIES:Food & Beverage
ATTACH;FMTTYPE=image/jpeg:https://experienceredmond.com/wp-content/uploads/2025/11/matthieu-joannon-6ciLddToTgM-unsplash-scaled.jpeg
END:VEVENT
BEGIN:VEVENT
DTSTART;TZID=America/Los_Angeles:20260805T190000
DTEND;TZID=America/Los_Angeles:20260805T210000
DTSTAMP:20260424T054335
CREATED:20230809T185104Z
LAST-MODIFIED:20230809T185642Z
UID:10000537-1785956400-1785963600@experienceredmond.com
SUMMARY:Flatstick Pub Bingo
DESCRIPTION:Come play bingo with us on Wednesdays from 7-9PM. Bingo is always free and prizes include\, Flatstick Gift cards\, Brewery swag\, Flatstick Swag\, and much more. Come join the fun!
URL:https://experienceredmond.com/event/flatstick-bingo/2026-08-05/
LOCATION:Flatstick Pub\, 7530 164th Ave NE Suite A108\, Redmond\, WA\, 98052\, United States
CATEGORIES:Food & Beverage
ATTACH;FMTTYPE=image/jpeg:https://experienceredmond.com/wp-content/uploads/2023/08/358638519_774848384643662_1125344034164033401_n.jpeg
END:VEVENT
BEGIN:VEVENT
DTSTART;TZID=America/Los_Angeles:20260806T190000
DTEND;TZID=America/Los_Angeles:20260806T210000
DTSTAMP:20260424T054335
CREATED:20251218T194211Z
LAST-MODIFIED:20251218T194211Z
UID:10007262-1786042800-1786050000@experienceredmond.com
SUMMARY:Trivia at Flatstick Pub
DESCRIPTION:Flatstick Pub hosts 2 rounds of trivia with the first round starting at 7PM and the second one starting at 8PM. Trivia is free to play\, come test your knowledge and have an opportunity to win a $50 Flatstick gift card!
URL:https://experienceredmond.com/event/trivia-at-flatstick-pub/2026-08-06/
LOCATION:Flatstick Pub\, 7530 164th Ave NE Suite A108\, Redmond\, WA\, 98052\, United States
CATEGORIES:Food & Beverage
ATTACH;FMTTYPE=image/jpeg:https://experienceredmond.com/wp-content/uploads/2023/08/Flatstick-Pub.jpeg
END:VEVENT
BEGIN:VEVENT
DTSTART;TZID=America/Los_Angeles:20260806T190000
DTEND;TZID=America/Los_Angeles:20260806T230000
DTSTAMP:20260424T054335
CREATED:20230809T185817Z
LAST-MODIFIED:20230809T185817Z
UID:10001060-1786042800-1786057200@experienceredmond.com
SUMMARY:Flatstick Pub Study Hall
DESCRIPTION:We offer free games for anyone with a valid school ID. This includes teachers and faculty\, bring in your classmates or coworkers for a night of fun!
URL:https://experienceredmond.com/event/flatstick-pub-study-hall/2026-08-06/
LOCATION:Flatstick Pub\, 7530 164th Ave NE Suite A108\, Redmond\, WA\, 98052\, United States
CATEGORIES:Community & Culture,Food & Beverage
ATTACH;FMTTYPE=image/jpeg:https://experienceredmond.com/wp-content/uploads/2023/08/212586612_2114677702004722_6520674770601856513_n.jpeg
END:VEVENT
BEGIN:VEVENT
DTSTART;TZID=America/Los_Angeles:20260807T160000
DTEND;TZID=America/Los_Angeles:20260807T180000
DTSTAMP:20260424T054335
CREATED:20260415T205317Z
LAST-MODIFIED:20260415T205317Z
UID:10009153-1786118400-1786125600@experienceredmond.com
SUMMARY:Happy Hour at Brown's Stockyard Exchange
DESCRIPTION:Raise your glass at Brown’s Stockyard Exchange! Every Friday and Saturday from 4–6 PM\, enjoy our buy 2\, pay for 1 draft beer offer during Happy Hour. Gather your friends and make every sip count. Great drinks\, great company\, great moments—only at Brown’s Stockyard Exchange.
URL:https://experienceredmond.com/event/happy-hour-at-browns-stockyard-exchange-2/2026-08-07/
LOCATION:Brown’s Stockyard Exchange\, 7401 164th Ave NE\, Redmond\, WA
CATEGORIES:Food & Beverage
ATTACH;FMTTYPE=image/jpeg:https://experienceredmond.com/wp-content/uploads/2025/11/matthieu-joannon-6ciLddToTgM-unsplash-scaled.jpeg
END:VEVENT
BEGIN:VEVENT
DTSTART;TZID=America/Los_Angeles:20260808T160000
DTEND;TZID=America/Los_Angeles:20260808T180000
DTSTAMP:20260424T054335
CREATED:20260415T205317Z
LAST-MODIFIED:20260415T205317Z
UID:10009154-1786204800-1786212000@experienceredmond.com
SUMMARY:Happy Hour at Brown's Stockyard Exchange
DESCRIPTION:Raise your glass at Brown’s Stockyard Exchange! Every Friday and Saturday from 4–6 PM\, enjoy our buy 2\, pay for 1 draft beer offer during Happy Hour. Gather your friends and make every sip count. Great drinks\, great company\, great moments—only at Brown’s Stockyard Exchange.
URL:https://experienceredmond.com/event/happy-hour-at-browns-stockyard-exchange-2/2026-08-08/
LOCATION:Brown’s Stockyard Exchange\, 7401 164th Ave NE\, Redmond\, WA
CATEGORIES:Food & Beverage
ATTACH;FMTTYPE=image/jpeg:https://experienceredmond.com/wp-content/uploads/2025/11/matthieu-joannon-6ciLddToTgM-unsplash-scaled.jpeg
END:VEVENT
BEGIN:VEVENT
DTSTART;TZID=America/Los_Angeles:20260812T190000
DTEND;TZID=America/Los_Angeles:20260812T210000
DTSTAMP:20260424T054335
CREATED:20230809T185104Z
LAST-MODIFIED:20230809T185642Z
UID:10000538-1786561200-1786568400@experienceredmond.com
SUMMARY:Flatstick Pub Bingo
DESCRIPTION:Come play bingo with us on Wednesdays from 7-9PM. Bingo is always free and prizes include\, Flatstick Gift cards\, Brewery swag\, Flatstick Swag\, and much more. Come join the fun!
URL:https://experienceredmond.com/event/flatstick-bingo/2026-08-12/
LOCATION:Flatstick Pub\, 7530 164th Ave NE Suite A108\, Redmond\, WA\, 98052\, United States
CATEGORIES:Food & Beverage
ATTACH;FMTTYPE=image/jpeg:https://experienceredmond.com/wp-content/uploads/2023/08/358638519_774848384643662_1125344034164033401_n.jpeg
END:VEVENT
BEGIN:VEVENT
DTSTART;TZID=America/Los_Angeles:20260813T190000
DTEND;TZID=America/Los_Angeles:20260813T210000
DTSTAMP:20260424T054335
CREATED:20251218T194211Z
LAST-MODIFIED:20251218T194211Z
UID:10007263-1786647600-1786654800@experienceredmond.com
SUMMARY:Trivia at Flatstick Pub
DESCRIPTION:Flatstick Pub hosts 2 rounds of trivia with the first round starting at 7PM and the second one starting at 8PM. Trivia is free to play\, come test your knowledge and have an opportunity to win a $50 Flatstick gift card!
URL:https://experienceredmond.com/event/trivia-at-flatstick-pub/2026-08-13/
LOCATION:Flatstick Pub\, 7530 164th Ave NE Suite A108\, Redmond\, WA\, 98052\, United States
CATEGORIES:Food & Beverage
ATTACH;FMTTYPE=image/jpeg:https://experienceredmond.com/wp-content/uploads/2023/08/Flatstick-Pub.jpeg
END:VEVENT
BEGIN:VEVENT
DTSTART;TZID=America/Los_Angeles:20260813T190000
DTEND;TZID=America/Los_Angeles:20260813T230000
DTSTAMP:20260424T054335
CREATED:20230809T185817Z
LAST-MODIFIED:20230809T185817Z
UID:10001061-1786647600-1786662000@experienceredmond.com
SUMMARY:Flatstick Pub Study Hall
DESCRIPTION:We offer free games for anyone with a valid school ID. This includes teachers and faculty\, bring in your classmates or coworkers for a night of fun!
URL:https://experienceredmond.com/event/flatstick-pub-study-hall/2026-08-13/
LOCATION:Flatstick Pub\, 7530 164th Ave NE Suite A108\, Redmond\, WA\, 98052\, United States
CATEGORIES:Community & Culture,Food & Beverage
ATTACH;FMTTYPE=image/jpeg:https://experienceredmond.com/wp-content/uploads/2023/08/212586612_2114677702004722_6520674770601856513_n.jpeg
END:VEVENT
BEGIN:VEVENT
DTSTART;TZID=America/Los_Angeles:20260814T160000
DTEND;TZID=America/Los_Angeles:20260814T180000
DTSTAMP:20260424T054335
CREATED:20260415T205317Z
LAST-MODIFIED:20260415T205317Z
UID:10009155-1786723200-1786730400@experienceredmond.com
SUMMARY:Happy Hour at Brown's Stockyard Exchange
DESCRIPTION:Raise your glass at Brown’s Stockyard Exchange! Every Friday and Saturday from 4–6 PM\, enjoy our buy 2\, pay for 1 draft beer offer during Happy Hour. Gather your friends and make every sip count. Great drinks\, great company\, great moments—only at Brown’s Stockyard Exchange.
URL:https://experienceredmond.com/event/happy-hour-at-browns-stockyard-exchange-2/2026-08-14/
LOCATION:Brown’s Stockyard Exchange\, 7401 164th Ave NE\, Redmond\, WA
CATEGORIES:Food & Beverage
ATTACH;FMTTYPE=image/jpeg:https://experienceredmond.com/wp-content/uploads/2025/11/matthieu-joannon-6ciLddToTgM-unsplash-scaled.jpeg
END:VEVENT
BEGIN:VEVENT
DTSTART;TZID=America/Los_Angeles:20260815T160000
DTEND;TZID=America/Los_Angeles:20260815T180000
DTSTAMP:20260424T054335
CREATED:20260415T205317Z
LAST-MODIFIED:20260415T205317Z
UID:10009156-1786809600-1786816800@experienceredmond.com
SUMMARY:Happy Hour at Brown's Stockyard Exchange
DESCRIPTION:Raise your glass at Brown’s Stockyard Exchange! Every Friday and Saturday from 4–6 PM\, enjoy our buy 2\, pay for 1 draft beer offer during Happy Hour. Gather your friends and make every sip count. Great drinks\, great company\, great moments—only at Brown’s Stockyard Exchange.
URL:https://experienceredmond.com/event/happy-hour-at-browns-stockyard-exchange-2/2026-08-15/
LOCATION:Brown’s Stockyard Exchange\, 7401 164th Ave NE\, Redmond\, WA
CATEGORIES:Food & Beverage
ATTACH;FMTTYPE=image/jpeg:https://experienceredmond.com/wp-content/uploads/2025/11/matthieu-joannon-6ciLddToTgM-unsplash-scaled.jpeg
END:VEVENT
BEGIN:VEVENT
DTSTART;TZID=America/Los_Angeles:20260819T190000
DTEND;TZID=America/Los_Angeles:20260819T210000
DTSTAMP:20260424T054335
CREATED:20230809T185104Z
LAST-MODIFIED:20230809T185642Z
UID:10000539-1787166000-1787173200@experienceredmond.com
SUMMARY:Flatstick Pub Bingo
DESCRIPTION:Come play bingo with us on Wednesdays from 7-9PM. Bingo is always free and prizes include\, Flatstick Gift cards\, Brewery swag\, Flatstick Swag\, and much more. Come join the fun!
URL:https://experienceredmond.com/event/flatstick-bingo/2026-08-19/
LOCATION:Flatstick Pub\, 7530 164th Ave NE Suite A108\, Redmond\, WA\, 98052\, United States
CATEGORIES:Food & Beverage
ATTACH;FMTTYPE=image/jpeg:https://experienceredmond.com/wp-content/uploads/2023/08/358638519_774848384643662_1125344034164033401_n.jpeg
END:VEVENT
BEGIN:VEVENT
DTSTART;TZID=America/Los_Angeles:20260820T190000
DTEND;TZID=America/Los_Angeles:20260820T210000
DTSTAMP:20260424T054335
CREATED:20251218T194211Z
LAST-MODIFIED:20251218T194211Z
UID:10007264-1787252400-1787259600@experienceredmond.com
SUMMARY:Trivia at Flatstick Pub
DESCRIPTION:Flatstick Pub hosts 2 rounds of trivia with the first round starting at 7PM and the second one starting at 8PM. Trivia is free to play\, come test your knowledge and have an opportunity to win a $50 Flatstick gift card!
URL:https://experienceredmond.com/event/trivia-at-flatstick-pub/2026-08-20/
LOCATION:Flatstick Pub\, 7530 164th Ave NE Suite A108\, Redmond\, WA\, 98052\, United States
CATEGORIES:Food & Beverage
ATTACH;FMTTYPE=image/jpeg:https://experienceredmond.com/wp-content/uploads/2023/08/Flatstick-Pub.jpeg
END:VEVENT
BEGIN:VEVENT
DTSTART;TZID=America/Los_Angeles:20260820T190000
DTEND;TZID=America/Los_Angeles:20260820T230000
DTSTAMP:20260424T054335
CREATED:20230809T185817Z
LAST-MODIFIED:20230809T185817Z
UID:10001062-1787252400-1787266800@experienceredmond.com
SUMMARY:Flatstick Pub Study Hall
DESCRIPTION:We offer free games for anyone with a valid school ID. This includes teachers and faculty\, bring in your classmates or coworkers for a night of fun!
URL:https://experienceredmond.com/event/flatstick-pub-study-hall/2026-08-20/
LOCATION:Flatstick Pub\, 7530 164th Ave NE Suite A108\, Redmond\, WA\, 98052\, United States
CATEGORIES:Community & Culture,Food & Beverage
ATTACH;FMTTYPE=image/jpeg:https://experienceredmond.com/wp-content/uploads/2023/08/212586612_2114677702004722_6520674770601856513_n.jpeg
END:VEVENT
BEGIN:VEVENT
DTSTART;TZID=America/Los_Angeles:20260821T160000
DTEND;TZID=America/Los_Angeles:20260821T180000
DTSTAMP:20260424T054335
CREATED:20260415T205317Z
LAST-MODIFIED:20260415T205317Z
UID:10009157-1787328000-1787335200@experienceredmond.com
SUMMARY:Happy Hour at Brown's Stockyard Exchange
DESCRIPTION:Raise your glass at Brown’s Stockyard Exchange! Every Friday and Saturday from 4–6 PM\, enjoy our buy 2\, pay for 1 draft beer offer during Happy Hour. Gather your friends and make every sip count. Great drinks\, great company\, great moments—only at Brown’s Stockyard Exchange.
URL:https://experienceredmond.com/event/happy-hour-at-browns-stockyard-exchange-2/2026-08-21/
LOCATION:Brown’s Stockyard Exchange\, 7401 164th Ave NE\, Redmond\, WA
CATEGORIES:Food & Beverage
ATTACH;FMTTYPE=image/jpeg:https://experienceredmond.com/wp-content/uploads/2025/11/matthieu-joannon-6ciLddToTgM-unsplash-scaled.jpeg
END:VEVENT
BEGIN:VEVENT
DTSTART;TZID=America/Los_Angeles:20260822T160000
DTEND;TZID=America/Los_Angeles:20260822T180000
DTSTAMP:20260424T054335
CREATED:20260415T205317Z
LAST-MODIFIED:20260415T205317Z
UID:10009158-1787414400-1787421600@experienceredmond.com
SUMMARY:Happy Hour at Brown's Stockyard Exchange
DESCRIPTION:Raise your glass at Brown’s Stockyard Exchange! Every Friday and Saturday from 4–6 PM\, enjoy our buy 2\, pay for 1 draft beer offer during Happy Hour. Gather your friends and make every sip count. Great drinks\, great company\, great moments—only at Brown’s Stockyard Exchange.
URL:https://experienceredmond.com/event/happy-hour-at-browns-stockyard-exchange-2/2026-08-22/
LOCATION:Brown’s Stockyard Exchange\, 7401 164th Ave NE\, Redmond\, WA
CATEGORIES:Food & Beverage
ATTACH;FMTTYPE=image/jpeg:https://experienceredmond.com/wp-content/uploads/2025/11/matthieu-joannon-6ciLddToTgM-unsplash-scaled.jpeg
END:VEVENT
BEGIN:VEVENT
DTSTART;TZID=America/Los_Angeles:20260826T190000
DTEND;TZID=America/Los_Angeles:20260826T210000
DTSTAMP:20260424T054335
CREATED:20230809T185104Z
LAST-MODIFIED:20230809T185642Z
UID:10000540-1787770800-1787778000@experienceredmond.com
SUMMARY:Flatstick Pub Bingo
DESCRIPTION:Come play bingo with us on Wednesdays from 7-9PM. Bingo is always free and prizes include\, Flatstick Gift cards\, Brewery swag\, Flatstick Swag\, and much more. Come join the fun!
URL:https://experienceredmond.com/event/flatstick-bingo/2026-08-26/
LOCATION:Flatstick Pub\, 7530 164th Ave NE Suite A108\, Redmond\, WA\, 98052\, United States
CATEGORIES:Food & Beverage
ATTACH;FMTTYPE=image/jpeg:https://experienceredmond.com/wp-content/uploads/2023/08/358638519_774848384643662_1125344034164033401_n.jpeg
END:VEVENT
BEGIN:VEVENT
DTSTART;TZID=America/Los_Angeles:20260827T190000
DTEND;TZID=America/Los_Angeles:20260827T210000
DTSTAMP:20260424T054335
CREATED:20251218T194211Z
LAST-MODIFIED:20251218T194211Z
UID:10007265-1787857200-1787864400@experienceredmond.com
SUMMARY:Trivia at Flatstick Pub
DESCRIPTION:Flatstick Pub hosts 2 rounds of trivia with the first round starting at 7PM and the second one starting at 8PM. Trivia is free to play\, come test your knowledge and have an opportunity to win a $50 Flatstick gift card!
URL:https://experienceredmond.com/event/trivia-at-flatstick-pub/2026-08-27/
LOCATION:Flatstick Pub\, 7530 164th Ave NE Suite A108\, Redmond\, WA\, 98052\, United States
CATEGORIES:Food & Beverage
ATTACH;FMTTYPE=image/jpeg:https://experienceredmond.com/wp-content/uploads/2023/08/Flatstick-Pub.jpeg
END:VEVENT
BEGIN:VEVENT
DTSTART;TZID=America/Los_Angeles:20260827T190000
DTEND;TZID=America/Los_Angeles:20260827T230000
DTSTAMP:20260424T054335
CREATED:20230809T185817Z
LAST-MODIFIED:20230809T185817Z
UID:10001063-1787857200-1787871600@experienceredmond.com
SUMMARY:Flatstick Pub Study Hall
DESCRIPTION:We offer free games for anyone with a valid school ID. This includes teachers and faculty\, bring in your classmates or coworkers for a night of fun!
URL:https://experienceredmond.com/event/flatstick-pub-study-hall/2026-08-27/
LOCATION:Flatstick Pub\, 7530 164th Ave NE Suite A108\, Redmond\, WA\, 98052\, United States
CATEGORIES:Community & Culture,Food & Beverage
ATTACH;FMTTYPE=image/jpeg:https://experienceredmond.com/wp-content/uploads/2023/08/212586612_2114677702004722_6520674770601856513_n.jpeg
END:VEVENT
BEGIN:VEVENT
DTSTART;TZID=America/Los_Angeles:20260828T160000
DTEND;TZID=America/Los_Angeles:20260828T180000
DTSTAMP:20260424T054335
CREATED:20260415T205317Z
LAST-MODIFIED:20260415T205317Z
UID:10009159-1787932800-1787940000@experienceredmond.com
SUMMARY:Happy Hour at Brown's Stockyard Exchange
DESCRIPTION:Raise your glass at Brown’s Stockyard Exchange! Every Friday and Saturday from 4–6 PM\, enjoy our buy 2\, pay for 1 draft beer offer during Happy Hour. Gather your friends and make every sip count. Great drinks\, great company\, great moments—only at Brown’s Stockyard Exchange.
URL:https://experienceredmond.com/event/happy-hour-at-browns-stockyard-exchange-2/2026-08-28/
LOCATION:Brown’s Stockyard Exchange\, 7401 164th Ave NE\, Redmond\, WA
CATEGORIES:Food & Beverage
ATTACH;FMTTYPE=image/jpeg:https://experienceredmond.com/wp-content/uploads/2025/11/matthieu-joannon-6ciLddToTgM-unsplash-scaled.jpeg
END:VEVENT
END:VCALENDAR