BEGIN:VCALENDAR
VERSION:2.0
PRODID:-//Experience Redmond - ECPv6.15.18//NONSGML v1.0//EN
CALSCALE:GREGORIAN
METHOD:PUBLISH
X-WR-CALNAME:Experience Redmond
X-ORIGINAL-URL:https://experienceredmond.com
X-WR-CALDESC:Events for Experience Redmond
REFRESH-INTERVAL;VALUE=DURATION:PT1H
X-Robots-Tag:noindex
X-PUBLISHED-TTL:PT1H
BEGIN:VTIMEZONE
TZID:America/Los_Angeles
BEGIN:DAYLIGHT
TZOFFSETFROM:-0800
TZOFFSETTO:-0700
TZNAME:PDT
DTSTART:20230312T100000
END:DAYLIGHT
BEGIN:STANDARD
TZOFFSETFROM:-0700
TZOFFSETTO:-0800
TZNAME:PST
DTSTART:20231105T090000
END:STANDARD
BEGIN:DAYLIGHT
TZOFFSETFROM:-0800
TZOFFSETTO:-0700
TZNAME:PDT
DTSTART:20240310T100000
END:DAYLIGHT
BEGIN:STANDARD
TZOFFSETFROM:-0700
TZOFFSETTO:-0800
TZNAME:PST
DTSTART:20241103T090000
END:STANDARD
BEGIN:DAYLIGHT
TZOFFSETFROM:-0800
TZOFFSETTO:-0700
TZNAME:PDT
DTSTART:20250309T100000
END:DAYLIGHT
BEGIN:STANDARD
TZOFFSETFROM:-0700
TZOFFSETTO:-0800
TZNAME:PST
DTSTART:20251102T090000
END:STANDARD
END:VTIMEZONE
BEGIN:VEVENT
DTSTART;TZID=America/Los_Angeles:20240508T190000
DTEND;TZID=America/Los_Angeles:20240508T210000
DTSTAMP:20260424T091145
CREATED:20230809T185104Z
LAST-MODIFIED:20230809T185642Z
UID:10000420-1715194800-1715202000@experienceredmond.com
SUMMARY:Flatstick Pub Bingo
DESCRIPTION:Come play bingo with us on Wednesdays from 7-9PM. Bingo is always free and prizes include\, Flatstick Gift cards\, Brewery swag\, Flatstick Swag\, and much more. Come join the fun!
URL:https://experienceredmond.com/event/flatstick-bingo/2024-05-08/
LOCATION:Flatstick Pub\, 7530 164th Ave NE Suite A108\, Redmond\, WA\, 98052\, United States
CATEGORIES:Food & Beverage
ATTACH;FMTTYPE=image/jpeg:https://experienceredmond.com/wp-content/uploads/2023/08/358638519_774848384643662_1125344034164033401_n.jpeg
END:VEVENT
BEGIN:VEVENT
DTSTART;TZID=America/Los_Angeles:20240509T190000
DTEND;TZID=America/Los_Angeles:20240509T230000
DTSTAMP:20260424T091145
CREATED:20230809T185817Z
LAST-MODIFIED:20230809T185817Z
UID:10000943-1715281200-1715295600@experienceredmond.com
SUMMARY:Flatstick Pub Study Hall
DESCRIPTION:We offer free games for anyone with a valid school ID. This includes teachers and faculty\, bring in your classmates or coworkers for a night of fun!
URL:https://experienceredmond.com/event/flatstick-pub-study-hall/2024-05-09/
LOCATION:Flatstick Pub\, 7530 164th Ave NE Suite A108\, Redmond\, WA\, 98052\, United States
CATEGORIES:Community & Culture,Food & Beverage
ATTACH;FMTTYPE=image/jpeg:https://experienceredmond.com/wp-content/uploads/2023/08/212586612_2114677702004722_6520674770601856513_n.jpeg
END:VEVENT
BEGIN:VEVENT
DTSTART;TZID=America/Los_Angeles:20240511T070000
DTEND;TZID=America/Los_Angeles:20240511T120000
DTSTAMP:20260424T091145
CREATED:20240510T022206Z
LAST-MODIFIED:20240510T022206Z
UID:10003136-1715410800-1715428800@experienceredmond.com
SUMMARY:Mother’s Day Weekend Brunch
DESCRIPTION:Join us this Mother’s Day weekend for a special brunch celebration in honor of all the amazing moms out there! Treat your mom to a delicious spread of delectable dishes\, refreshing drinks\, and sweet treats. Let’s raise a toast to the woman who deserves all the love and appreciation in the world. Reserve your table now and make this Mother’s Day one to remember! \n*Price does not include tax\, service charge\, and gratuity (Limited seats available) \nSign up here
URL:https://experienceredmond.com/event/mothers-day-weekend-brunch/2024-05-11/
LOCATION:Brown’s Stockyard Exchange\, 7401 164th Ave NE\, Redmond\, WA
CATEGORIES:Food & Beverage
ATTACH;FMTTYPE=image/jpeg:https://experienceredmond.com/wp-content/uploads/2024/05/seamc-exchange-8545-hor-wide-scaled.jpeg
END:VEVENT
BEGIN:VEVENT
DTSTART;TZID=America/Los_Angeles:20240512T070000
DTEND;TZID=America/Los_Angeles:20240512T120000
DTSTAMP:20260424T091145
CREATED:20240510T022206Z
LAST-MODIFIED:20240510T022206Z
UID:10003137-1715497200-1715515200@experienceredmond.com
SUMMARY:Mother’s Day Weekend Brunch
DESCRIPTION:Join us this Mother’s Day weekend for a special brunch celebration in honor of all the amazing moms out there! Treat your mom to a delicious spread of delectable dishes\, refreshing drinks\, and sweet treats. Let’s raise a toast to the woman who deserves all the love and appreciation in the world. Reserve your table now and make this Mother’s Day one to remember! \n*Price does not include tax\, service charge\, and gratuity (Limited seats available) \nSign up here
URL:https://experienceredmond.com/event/mothers-day-weekend-brunch/2024-05-12/
LOCATION:Brown’s Stockyard Exchange\, 7401 164th Ave NE\, Redmond\, WA
CATEGORIES:Food & Beverage
ATTACH;FMTTYPE=image/jpeg:https://experienceredmond.com/wp-content/uploads/2024/05/seamc-exchange-8545-hor-wide-scaled.jpeg
END:VEVENT
BEGIN:VEVENT
DTSTART;TZID=America/Los_Angeles:20240512T100000
DTEND;TZID=America/Los_Angeles:20240512T140000
DTSTAMP:20260424T091145
CREATED:20240430T203359Z
LAST-MODIFIED:20240430T203359Z
UID:10003133-1715508000-1715522400@experienceredmond.com
SUMMARY:Bubbles & Beats Sunday Brunch – Mother’s Day @ Efestē
DESCRIPTION:Join us for our Bubbles and Beats Brunch this Mother’s Day Weekend\non May 12th\, from 10 am to 2 pm.\nFeaturing DJ with the beats – Treat Mom to Chef Nell’s Sunday Brunch buffet. \nRetail Ticket: $50 | Club Ticket $40\n*Wine is not included in the brunch pricing; club members enjoy a complimentary glass pour or tasting. \nMenu:\nChicken Salad Sandwiches\, Deviled Eggs\, Yogurt Granola Parfait Cups\,\nSmoked Salmon Board\, Caprese Salad\, Fresh Fruit\,\nSpinach and Feta Quiche\, French Toast Casserole\, Candied Bacon. \nAdd-on Bottomless Mimosa bar $20 per person\nSip on our sparkling white wine\, with your choice of juice and fruit choices.
URL:https://experienceredmond.com/event/bubbles-beats-sunday-brunch-mothers-day-efeste/
LOCATION:EFESTĒ\, 19730 144th Ave NE\, Woodinville\, WA\, 98072\, United States
CATEGORIES:Food & Beverage
ATTACH;FMTTYPE=image/png:https://experienceredmond.com/wp-content/uploads/2024/04/bubbles-and-beats-bottle.png
END:VEVENT
BEGIN:VEVENT
DTSTART;TZID=America/Los_Angeles:20240512T120000
DTEND;TZID=America/Los_Angeles:20240512T170000
DTSTAMP:20260424T091145
CREATED:20240430T194522Z
LAST-MODIFIED:20240430T194522Z
UID:10003132-1715515200-1715533200@experienceredmond.com
SUMMARY:Mother’s Day Mimosas & Macarons
DESCRIPTION:Celebrate the mom in your life with Mimosas and Macarons at Barnard Griffin’s Woodinville tasting room. \nWe’ve partnered with Page Bakery to create some macarons in shades of pink for Mother’s Day – Rose\, Rosé (infused with BG’s Sangiovese Rosé)\, and Strawberry Rhubarb. We’re pairing these delicious macarons with a Mimosa or a glass of our Gorge Sparkling wine. \nMain take-aways: \n$25 ($20 for Barnard Griffin wine club members)\nIncludes: 3 macarons\nIncludes a Mimosa or a glass of Gorge Sparkling wine \nYou can purchase tickets directly through Eventbrite\, or by calling the Woodinville tasting room at 425-671-1176. Barnard Griffin wine club members – if you register online\, we will charge your card on file the day before the event. \nTickets are non-refundable within 7 days of the event. If you cannot attend and it is 7 or less days until the event\, you may transfer the tickets to someone else. Please communicate any scheduling conflicts with Barnard Griffin (woodinville@barnardgriffin.com). \n***PARKING INFORMATION*** Retail parking is located in the garage on 133rd Ave NE\, just remember your license plate for validation in the tasting room.
URL:https://experienceredmond.com/event/mothers-day-mimosas-macarons/
LOCATION:Barnard Griffin Winery\, 17401 133rd Ave NE\, Woodinville\, WA\, 98072\, United States
CATEGORIES:Food & Beverage
ATTACH;FMTTYPE=image/png:https://experienceredmond.com/wp-content/uploads/2024/04/Mothers-Day-Mimosas-Macarons1.png
END:VEVENT
BEGIN:VEVENT
DTSTART;TZID=America/Los_Angeles:20240515T190000
DTEND;TZID=America/Los_Angeles:20240515T210000
DTSTAMP:20260424T091145
CREATED:20230809T185104Z
LAST-MODIFIED:20230809T185642Z
UID:10000421-1715799600-1715806800@experienceredmond.com
SUMMARY:Flatstick Pub Bingo
DESCRIPTION:Come play bingo with us on Wednesdays from 7-9PM. Bingo is always free and prizes include\, Flatstick Gift cards\, Brewery swag\, Flatstick Swag\, and much more. Come join the fun!
URL:https://experienceredmond.com/event/flatstick-bingo/2024-05-15/
LOCATION:Flatstick Pub\, 7530 164th Ave NE Suite A108\, Redmond\, WA\, 98052\, United States
CATEGORIES:Food & Beverage
ATTACH;FMTTYPE=image/jpeg:https://experienceredmond.com/wp-content/uploads/2023/08/358638519_774848384643662_1125344034164033401_n.jpeg
END:VEVENT
BEGIN:VEVENT
DTSTART;TZID=America/Los_Angeles:20240516T190000
DTEND;TZID=America/Los_Angeles:20240516T230000
DTSTAMP:20260424T091145
CREATED:20230809T185817Z
LAST-MODIFIED:20230809T185817Z
UID:10000944-1715886000-1715900400@experienceredmond.com
SUMMARY:Flatstick Pub Study Hall
DESCRIPTION:We offer free games for anyone with a valid school ID. This includes teachers and faculty\, bring in your classmates or coworkers for a night of fun!
URL:https://experienceredmond.com/event/flatstick-pub-study-hall/2024-05-16/
LOCATION:Flatstick Pub\, 7530 164th Ave NE Suite A108\, Redmond\, WA\, 98052\, United States
CATEGORIES:Community & Culture,Food & Beverage
ATTACH;FMTTYPE=image/jpeg:https://experienceredmond.com/wp-content/uploads/2023/08/212586612_2114677702004722_6520674770601856513_n.jpeg
END:VEVENT
BEGIN:VEVENT
DTSTART;TZID=America/Los_Angeles:20240518T140000
DTEND;TZID=America/Los_Angeles:20240518T180000
DTSTAMP:20260424T091145
CREATED:20240424T213611Z
LAST-MODIFIED:20240424T214323Z
UID:10003129-1716040800-1716055200@experienceredmond.com
SUMMARY:Wellness on Tap
DESCRIPTION:All are welcome to enjoy Wellness on Tap!  \nMini wellness services\nLocal business vendors\nAward-winning beer \nFree to attend!
URL:https://experienceredmond.com/event/wellness-on-tap/
LOCATION:Big Block Brewing\, 14950-F NE 95th\, Redmond\, WA\, 98052\, United States
CATEGORIES:Food & Beverage
ATTACH;FMTTYPE=image/png:https://experienceredmond.com/wp-content/uploads/2024/04/Screen-Shot-2024-04-24-at-2.41.21-PM-e1713994998264.png
END:VEVENT
BEGIN:VEVENT
DTSTART;TZID=America/Los_Angeles:20240522T190000
DTEND;TZID=America/Los_Angeles:20240522T210000
DTSTAMP:20260424T091145
CREATED:20230809T185104Z
LAST-MODIFIED:20230809T185642Z
UID:10000422-1716404400-1716411600@experienceredmond.com
SUMMARY:Flatstick Pub Bingo
DESCRIPTION:Come play bingo with us on Wednesdays from 7-9PM. Bingo is always free and prizes include\, Flatstick Gift cards\, Brewery swag\, Flatstick Swag\, and much more. Come join the fun!
URL:https://experienceredmond.com/event/flatstick-bingo/2024-05-22/
LOCATION:Flatstick Pub\, 7530 164th Ave NE Suite A108\, Redmond\, WA\, 98052\, United States
CATEGORIES:Food & Beverage
ATTACH;FMTTYPE=image/jpeg:https://experienceredmond.com/wp-content/uploads/2023/08/358638519_774848384643662_1125344034164033401_n.jpeg
END:VEVENT
BEGIN:VEVENT
DTSTART;TZID=America/Los_Angeles:20240523T190000
DTEND;TZID=America/Los_Angeles:20240523T230000
DTSTAMP:20260424T091146
CREATED:20230809T185817Z
LAST-MODIFIED:20230809T185817Z
UID:10000945-1716490800-1716505200@experienceredmond.com
SUMMARY:Flatstick Pub Study Hall
DESCRIPTION:We offer free games for anyone with a valid school ID. This includes teachers and faculty\, bring in your classmates or coworkers for a night of fun!
URL:https://experienceredmond.com/event/flatstick-pub-study-hall/2024-05-23/
LOCATION:Flatstick Pub\, 7530 164th Ave NE Suite A108\, Redmond\, WA\, 98052\, United States
CATEGORIES:Community & Culture,Food & Beverage
ATTACH;FMTTYPE=image/jpeg:https://experienceredmond.com/wp-content/uploads/2023/08/212586612_2114677702004722_6520674770601856513_n.jpeg
END:VEVENT
BEGIN:VEVENT
DTSTART;TZID=America/Los_Angeles:20240529T190000
DTEND;TZID=America/Los_Angeles:20240529T210000
DTSTAMP:20260424T091146
CREATED:20230809T185104Z
LAST-MODIFIED:20230809T185642Z
UID:10000423-1717009200-1717016400@experienceredmond.com
SUMMARY:Flatstick Pub Bingo
DESCRIPTION:Come play bingo with us on Wednesdays from 7-9PM. Bingo is always free and prizes include\, Flatstick Gift cards\, Brewery swag\, Flatstick Swag\, and much more. Come join the fun!
URL:https://experienceredmond.com/event/flatstick-bingo/2024-05-29/
LOCATION:Flatstick Pub\, 7530 164th Ave NE Suite A108\, Redmond\, WA\, 98052\, United States
CATEGORIES:Food & Beverage
ATTACH;FMTTYPE=image/jpeg:https://experienceredmond.com/wp-content/uploads/2023/08/358638519_774848384643662_1125344034164033401_n.jpeg
END:VEVENT
BEGIN:VEVENT
DTSTART;TZID=America/Los_Angeles:20240530T190000
DTEND;TZID=America/Los_Angeles:20240530T230000
DTSTAMP:20260424T091146
CREATED:20230809T185817Z
LAST-MODIFIED:20230809T185817Z
UID:10000946-1717095600-1717110000@experienceredmond.com
SUMMARY:Flatstick Pub Study Hall
DESCRIPTION:We offer free games for anyone with a valid school ID. This includes teachers and faculty\, bring in your classmates or coworkers for a night of fun!
URL:https://experienceredmond.com/event/flatstick-pub-study-hall/2024-05-30/
LOCATION:Flatstick Pub\, 7530 164th Ave NE Suite A108\, Redmond\, WA\, 98052\, United States
CATEGORIES:Community & Culture,Food & Beverage
ATTACH;FMTTYPE=image/jpeg:https://experienceredmond.com/wp-content/uploads/2023/08/212586612_2114677702004722_6520674770601856513_n.jpeg
END:VEVENT
BEGIN:VEVENT
DTSTART;TZID=America/Los_Angeles:20240605T190000
DTEND;TZID=America/Los_Angeles:20240605T210000
DTSTAMP:20260424T091146
CREATED:20230809T185104Z
LAST-MODIFIED:20230809T185642Z
UID:10000424-1717614000-1717621200@experienceredmond.com
SUMMARY:Flatstick Pub Bingo
DESCRIPTION:Come play bingo with us on Wednesdays from 7-9PM. Bingo is always free and prizes include\, Flatstick Gift cards\, Brewery swag\, Flatstick Swag\, and much more. Come join the fun!
URL:https://experienceredmond.com/event/flatstick-bingo/2024-06-05/
LOCATION:Flatstick Pub\, 7530 164th Ave NE Suite A108\, Redmond\, WA\, 98052\, United States
CATEGORIES:Food & Beverage
ATTACH;FMTTYPE=image/jpeg:https://experienceredmond.com/wp-content/uploads/2023/08/358638519_774848384643662_1125344034164033401_n.jpeg
END:VEVENT
BEGIN:VEVENT
DTSTART;TZID=America/Los_Angeles:20240606T190000
DTEND;TZID=America/Los_Angeles:20240606T230000
DTSTAMP:20260424T091146
CREATED:20230809T185817Z
LAST-MODIFIED:20230809T185817Z
UID:10000947-1717700400-1717714800@experienceredmond.com
SUMMARY:Flatstick Pub Study Hall
DESCRIPTION:We offer free games for anyone with a valid school ID. This includes teachers and faculty\, bring in your classmates or coworkers for a night of fun!
URL:https://experienceredmond.com/event/flatstick-pub-study-hall/2024-06-06/
LOCATION:Flatstick Pub\, 7530 164th Ave NE Suite A108\, Redmond\, WA\, 98052\, United States
CATEGORIES:Community & Culture,Food & Beverage
ATTACH;FMTTYPE=image/jpeg:https://experienceredmond.com/wp-content/uploads/2023/08/212586612_2114677702004722_6520674770601856513_n.jpeg
END:VEVENT
BEGIN:VEVENT
DTSTART;TZID=America/Los_Angeles:20240612T190000
DTEND;TZID=America/Los_Angeles:20240612T210000
DTSTAMP:20260424T091146
CREATED:20230809T185104Z
LAST-MODIFIED:20230809T185642Z
UID:10000425-1718218800-1718226000@experienceredmond.com
SUMMARY:Flatstick Pub Bingo
DESCRIPTION:Come play bingo with us on Wednesdays from 7-9PM. Bingo is always free and prizes include\, Flatstick Gift cards\, Brewery swag\, Flatstick Swag\, and much more. Come join the fun!
URL:https://experienceredmond.com/event/flatstick-bingo/2024-06-12/
LOCATION:Flatstick Pub\, 7530 164th Ave NE Suite A108\, Redmond\, WA\, 98052\, United States
CATEGORIES:Food & Beverage
ATTACH;FMTTYPE=image/jpeg:https://experienceredmond.com/wp-content/uploads/2023/08/358638519_774848384643662_1125344034164033401_n.jpeg
END:VEVENT
BEGIN:VEVENT
DTSTART;TZID=America/Los_Angeles:20240613T190000
DTEND;TZID=America/Los_Angeles:20240613T230000
DTSTAMP:20260424T091146
CREATED:20230809T185817Z
LAST-MODIFIED:20230809T185817Z
UID:10000948-1718305200-1718319600@experienceredmond.com
SUMMARY:Flatstick Pub Study Hall
DESCRIPTION:We offer free games for anyone with a valid school ID. This includes teachers and faculty\, bring in your classmates or coworkers for a night of fun!
URL:https://experienceredmond.com/event/flatstick-pub-study-hall/2024-06-13/
LOCATION:Flatstick Pub\, 7530 164th Ave NE Suite A108\, Redmond\, WA\, 98052\, United States
CATEGORIES:Community & Culture,Food & Beverage
ATTACH;FMTTYPE=image/jpeg:https://experienceredmond.com/wp-content/uploads/2023/08/212586612_2114677702004722_6520674770601856513_n.jpeg
END:VEVENT
BEGIN:VEVENT
DTSTART;TZID=America/Los_Angeles:20240619T190000
DTEND;TZID=America/Los_Angeles:20240619T210000
DTSTAMP:20260424T091146
CREATED:20230809T185104Z
LAST-MODIFIED:20230809T185642Z
UID:10000426-1718823600-1718830800@experienceredmond.com
SUMMARY:Flatstick Pub Bingo
DESCRIPTION:Come play bingo with us on Wednesdays from 7-9PM. Bingo is always free and prizes include\, Flatstick Gift cards\, Brewery swag\, Flatstick Swag\, and much more. Come join the fun!
URL:https://experienceredmond.com/event/flatstick-bingo/2024-06-19/
LOCATION:Flatstick Pub\, 7530 164th Ave NE Suite A108\, Redmond\, WA\, 98052\, United States
CATEGORIES:Food & Beverage
ATTACH;FMTTYPE=image/jpeg:https://experienceredmond.com/wp-content/uploads/2023/08/358638519_774848384643662_1125344034164033401_n.jpeg
END:VEVENT
BEGIN:VEVENT
DTSTART;TZID=America/Los_Angeles:20240620T190000
DTEND;TZID=America/Los_Angeles:20240620T230000
DTSTAMP:20260424T091146
CREATED:20230809T185817Z
LAST-MODIFIED:20230809T185817Z
UID:10000949-1718910000-1718924400@experienceredmond.com
SUMMARY:Flatstick Pub Study Hall
DESCRIPTION:We offer free games for anyone with a valid school ID. This includes teachers and faculty\, bring in your classmates or coworkers for a night of fun!
URL:https://experienceredmond.com/event/flatstick-pub-study-hall/2024-06-20/
LOCATION:Flatstick Pub\, 7530 164th Ave NE Suite A108\, Redmond\, WA\, 98052\, United States
CATEGORIES:Community & Culture,Food & Beverage
ATTACH;FMTTYPE=image/jpeg:https://experienceredmond.com/wp-content/uploads/2023/08/212586612_2114677702004722_6520674770601856513_n.jpeg
END:VEVENT
BEGIN:VEVENT
DTSTART;TZID=America/Los_Angeles:20240626T190000
DTEND;TZID=America/Los_Angeles:20240626T210000
DTSTAMP:20260424T091146
CREATED:20230809T185104Z
LAST-MODIFIED:20230809T185642Z
UID:10000427-1719428400-1719435600@experienceredmond.com
SUMMARY:Flatstick Pub Bingo
DESCRIPTION:Come play bingo with us on Wednesdays from 7-9PM. Bingo is always free and prizes include\, Flatstick Gift cards\, Brewery swag\, Flatstick Swag\, and much more. Come join the fun!
URL:https://experienceredmond.com/event/flatstick-bingo/2024-06-26/
LOCATION:Flatstick Pub\, 7530 164th Ave NE Suite A108\, Redmond\, WA\, 98052\, United States
CATEGORIES:Food & Beverage
ATTACH;FMTTYPE=image/jpeg:https://experienceredmond.com/wp-content/uploads/2023/08/358638519_774848384643662_1125344034164033401_n.jpeg
END:VEVENT
BEGIN:VEVENT
DTSTART;TZID=America/Los_Angeles:20240627T190000
DTEND;TZID=America/Los_Angeles:20240627T230000
DTSTAMP:20260424T091146
CREATED:20230809T185817Z
LAST-MODIFIED:20230809T185817Z
UID:10000950-1719514800-1719529200@experienceredmond.com
SUMMARY:Flatstick Pub Study Hall
DESCRIPTION:We offer free games for anyone with a valid school ID. This includes teachers and faculty\, bring in your classmates or coworkers for a night of fun!
URL:https://experienceredmond.com/event/flatstick-pub-study-hall/2024-06-27/
LOCATION:Flatstick Pub\, 7530 164th Ave NE Suite A108\, Redmond\, WA\, 98052\, United States
CATEGORIES:Community & Culture,Food & Beverage
ATTACH;FMTTYPE=image/jpeg:https://experienceredmond.com/wp-content/uploads/2023/08/212586612_2114677702004722_6520674770601856513_n.jpeg
END:VEVENT
BEGIN:VEVENT
DTSTART;TZID=America/Los_Angeles:20240703T190000
DTEND;TZID=America/Los_Angeles:20240703T210000
DTSTAMP:20260424T091146
CREATED:20230809T185104Z
LAST-MODIFIED:20230809T185642Z
UID:10000428-1720033200-1720040400@experienceredmond.com
SUMMARY:Flatstick Pub Bingo
DESCRIPTION:Come play bingo with us on Wednesdays from 7-9PM. Bingo is always free and prizes include\, Flatstick Gift cards\, Brewery swag\, Flatstick Swag\, and much more. Come join the fun!
URL:https://experienceredmond.com/event/flatstick-bingo/2024-07-03/
LOCATION:Flatstick Pub\, 7530 164th Ave NE Suite A108\, Redmond\, WA\, 98052\, United States
CATEGORIES:Food & Beverage
ATTACH;FMTTYPE=image/jpeg:https://experienceredmond.com/wp-content/uploads/2023/08/358638519_774848384643662_1125344034164033401_n.jpeg
END:VEVENT
BEGIN:VEVENT
DTSTART;TZID=America/Los_Angeles:20240704T190000
DTEND;TZID=America/Los_Angeles:20240704T230000
DTSTAMP:20260424T091146
CREATED:20230809T185817Z
LAST-MODIFIED:20230809T185817Z
UID:10000951-1720119600-1720134000@experienceredmond.com
SUMMARY:Flatstick Pub Study Hall
DESCRIPTION:We offer free games for anyone with a valid school ID. This includes teachers and faculty\, bring in your classmates or coworkers for a night of fun!
URL:https://experienceredmond.com/event/flatstick-pub-study-hall/2024-07-04/
LOCATION:Flatstick Pub\, 7530 164th Ave NE Suite A108\, Redmond\, WA\, 98052\, United States
CATEGORIES:Community & Culture,Food & Beverage
ATTACH;FMTTYPE=image/jpeg:https://experienceredmond.com/wp-content/uploads/2023/08/212586612_2114677702004722_6520674770601856513_n.jpeg
END:VEVENT
BEGIN:VEVENT
DTSTART;TZID=America/Los_Angeles:20240710T190000
DTEND;TZID=America/Los_Angeles:20240710T210000
DTSTAMP:20260424T091146
CREATED:20230809T185104Z
LAST-MODIFIED:20230809T185642Z
UID:10000429-1720638000-1720645200@experienceredmond.com
SUMMARY:Flatstick Pub Bingo
DESCRIPTION:Come play bingo with us on Wednesdays from 7-9PM. Bingo is always free and prizes include\, Flatstick Gift cards\, Brewery swag\, Flatstick Swag\, and much more. Come join the fun!
URL:https://experienceredmond.com/event/flatstick-bingo/2024-07-10/
LOCATION:Flatstick Pub\, 7530 164th Ave NE Suite A108\, Redmond\, WA\, 98052\, United States
CATEGORIES:Food & Beverage
ATTACH;FMTTYPE=image/jpeg:https://experienceredmond.com/wp-content/uploads/2023/08/358638519_774848384643662_1125344034164033401_n.jpeg
END:VEVENT
BEGIN:VEVENT
DTSTART;TZID=America/Los_Angeles:20240711T190000
DTEND;TZID=America/Los_Angeles:20240711T230000
DTSTAMP:20260424T091146
CREATED:20230809T185817Z
LAST-MODIFIED:20230809T185817Z
UID:10000952-1720724400-1720738800@experienceredmond.com
SUMMARY:Flatstick Pub Study Hall
DESCRIPTION:We offer free games for anyone with a valid school ID. This includes teachers and faculty\, bring in your classmates or coworkers for a night of fun!
URL:https://experienceredmond.com/event/flatstick-pub-study-hall/2024-07-11/
LOCATION:Flatstick Pub\, 7530 164th Ave NE Suite A108\, Redmond\, WA\, 98052\, United States
CATEGORIES:Community & Culture,Food & Beverage
ATTACH;FMTTYPE=image/jpeg:https://experienceredmond.com/wp-content/uploads/2023/08/212586612_2114677702004722_6520674770601856513_n.jpeg
END:VEVENT
BEGIN:VEVENT
DTSTART;TZID=America/Los_Angeles:20240717T190000
DTEND;TZID=America/Los_Angeles:20240717T210000
DTSTAMP:20260424T091146
CREATED:20230809T185104Z
LAST-MODIFIED:20230809T185642Z
UID:10000430-1721242800-1721250000@experienceredmond.com
SUMMARY:Flatstick Pub Bingo
DESCRIPTION:Come play bingo with us on Wednesdays from 7-9PM. Bingo is always free and prizes include\, Flatstick Gift cards\, Brewery swag\, Flatstick Swag\, and much more. Come join the fun!
URL:https://experienceredmond.com/event/flatstick-bingo/2024-07-17/
LOCATION:Flatstick Pub\, 7530 164th Ave NE Suite A108\, Redmond\, WA\, 98052\, United States
CATEGORIES:Food & Beverage
ATTACH;FMTTYPE=image/jpeg:https://experienceredmond.com/wp-content/uploads/2023/08/358638519_774848384643662_1125344034164033401_n.jpeg
END:VEVENT
BEGIN:VEVENT
DTSTART;TZID=America/Los_Angeles:20240718T190000
DTEND;TZID=America/Los_Angeles:20240718T230000
DTSTAMP:20260424T091146
CREATED:20230809T185817Z
LAST-MODIFIED:20230809T185817Z
UID:10000953-1721329200-1721343600@experienceredmond.com
SUMMARY:Flatstick Pub Study Hall
DESCRIPTION:We offer free games for anyone with a valid school ID. This includes teachers and faculty\, bring in your classmates or coworkers for a night of fun!
URL:https://experienceredmond.com/event/flatstick-pub-study-hall/2024-07-18/
LOCATION:Flatstick Pub\, 7530 164th Ave NE Suite A108\, Redmond\, WA\, 98052\, United States
CATEGORIES:Community & Culture,Food & Beverage
ATTACH;FMTTYPE=image/jpeg:https://experienceredmond.com/wp-content/uploads/2023/08/212586612_2114677702004722_6520674770601856513_n.jpeg
END:VEVENT
BEGIN:VEVENT
DTSTART;TZID=America/Los_Angeles:20240724T190000
DTEND;TZID=America/Los_Angeles:20240724T210000
DTSTAMP:20260424T091146
CREATED:20230809T185104Z
LAST-MODIFIED:20230809T185642Z
UID:10000431-1721847600-1721854800@experienceredmond.com
SUMMARY:Flatstick Pub Bingo
DESCRIPTION:Come play bingo with us on Wednesdays from 7-9PM. Bingo is always free and prizes include\, Flatstick Gift cards\, Brewery swag\, Flatstick Swag\, and much more. Come join the fun!
URL:https://experienceredmond.com/event/flatstick-bingo/2024-07-24/
LOCATION:Flatstick Pub\, 7530 164th Ave NE Suite A108\, Redmond\, WA\, 98052\, United States
CATEGORIES:Food & Beverage
ATTACH;FMTTYPE=image/jpeg:https://experienceredmond.com/wp-content/uploads/2023/08/358638519_774848384643662_1125344034164033401_n.jpeg
END:VEVENT
BEGIN:VEVENT
DTSTART;TZID=America/Los_Angeles:20240725T173000
DTEND;TZID=America/Los_Angeles:20240725T210000
DTSTAMP:20260424T091146
CREATED:20240718T160147Z
LAST-MODIFIED:20240718T160147Z
UID:10003343-1721928600-1721941200@experienceredmond.com
SUMMARY:Latte Art Throwdown
DESCRIPTION:Are you ready to rumble? Rubinstein Bagels in Redmond is hosting a Latte Art Throwdown\, and you’re invited! \nJoin us on Thursday\, July 25th\, for Rubinstein Bagels’ first-ever latte art competition in Redmond\, hosted alongside our roaster\, Olympia Coffee\, and our friends at Doppio Cafe and Creperie. Come watch for free while you enjoy food & beverages\, or join the competition and show off your skills. \nDo you have what it takes to claim victory? Participants pay $5\, and we have exciting prizes waiting for our winners\, thanks to sponsors Mack & Jacks\, Steven Smith Teamaker\, Barista Magazine\, Bean Box\, Fran’s\, Hario\, Spark Pizza\, La Marzocco\, Monin\, Brick & Mortar Books\, Synesso\, Caffe Ladro\, Sweet Bloom Coffee Roasters\, Onyx\, Verve Coffee\, Broadcast\, Armistice Coffee\, Variety Coffee\, Bear Coast Coffee\, Zeek’s Pizza\, and Greater Goods Coffee Company. \nWe’ll also hold a raffle to raise funds for HopeLink of Redmond. 100% of the raffle proceeds will benefit their important work in our community. Winners must be present at the event to claim their prizes.
URL:https://experienceredmond.com/event/latte-art-throwdown/
LOCATION:Rubinstein Bagels\, 16050 Cleveland St unit 130\, Redmond\, WA\, 98052\, United States
CATEGORIES:Community & Culture,Food & Beverage
ATTACH;FMTTYPE=image/webp:https://experienceredmond.com/wp-content/uploads/2024/07/e4c2928ee2d637d55f83ce7b20e95823d1429153-1920x1080-1.webp
END:VEVENT
BEGIN:VEVENT
DTSTART;TZID=America/Los_Angeles:20240725T190000
DTEND;TZID=America/Los_Angeles:20240725T230000
DTSTAMP:20260424T091146
CREATED:20230809T185817Z
LAST-MODIFIED:20230809T185817Z
UID:10000954-1721934000-1721948400@experienceredmond.com
SUMMARY:Flatstick Pub Study Hall
DESCRIPTION:We offer free games for anyone with a valid school ID. This includes teachers and faculty\, bring in your classmates or coworkers for a night of fun!
URL:https://experienceredmond.com/event/flatstick-pub-study-hall/2024-07-25/
LOCATION:Flatstick Pub\, 7530 164th Ave NE Suite A108\, Redmond\, WA\, 98052\, United States
CATEGORIES:Community & Culture,Food & Beverage
ATTACH;FMTTYPE=image/jpeg:https://experienceredmond.com/wp-content/uploads/2023/08/212586612_2114677702004722_6520674770601856513_n.jpeg
END:VEVENT
END:VCALENDAR