BEGIN:VCALENDAR
VERSION:2.0
PRODID:-//Experience Redmond - ECPv6.15.18//NONSGML v1.0//EN
CALSCALE:GREGORIAN
METHOD:PUBLISH
X-WR-CALNAME:Experience Redmond
X-ORIGINAL-URL:https://experienceredmond.com
X-WR-CALDESC:Events for Experience Redmond
REFRESH-INTERVAL;VALUE=DURATION:PT1H
X-Robots-Tag:noindex
X-PUBLISHED-TTL:PT1H
BEGIN:VTIMEZONE
TZID:America/Los_Angeles
BEGIN:DAYLIGHT
TZOFFSETFROM:-0800
TZOFFSETTO:-0700
TZNAME:PDT
DTSTART:20250309T100000
END:DAYLIGHT
BEGIN:STANDARD
TZOFFSETFROM:-0700
TZOFFSETTO:-0800
TZNAME:PST
DTSTART:20251102T090000
END:STANDARD
BEGIN:DAYLIGHT
TZOFFSETFROM:-0800
TZOFFSETTO:-0700
TZNAME:PDT
DTSTART:20260308T100000
END:DAYLIGHT
BEGIN:STANDARD
TZOFFSETFROM:-0700
TZOFFSETTO:-0800
TZNAME:PST
DTSTART:20261101T090000
END:STANDARD
BEGIN:DAYLIGHT
TZOFFSETFROM:-0800
TZOFFSETTO:-0700
TZNAME:PDT
DTSTART:20270314T100000
END:DAYLIGHT
BEGIN:STANDARD
TZOFFSETFROM:-0700
TZOFFSETTO:-0800
TZNAME:PST
DTSTART:20271107T090000
END:STANDARD
END:VTIMEZONE
BEGIN:VEVENT
DTSTART;TZID=America/Los_Angeles:20260418T160000
DTEND;TZID=America/Los_Angeles:20260418T180000
DTSTAMP:20260420T162650
CREATED:20260415T205317Z
LAST-MODIFIED:20260415T205317Z
UID:10009122-1776528000-1776535200@experienceredmond.com
SUMMARY:Happy Hour at Brown's Stockyard Exchange
DESCRIPTION:Raise your glass at Brown’s Stockyard Exchange! Every Friday and Saturday from 4–6 PM\, enjoy our buy 2\, pay for 1 draft beer offer during Happy Hour. Gather your friends and make every sip count. Great drinks\, great company\, great moments—only at Brown’s Stockyard Exchange.
URL:https://experienceredmond.com/event/happy-hour-at-browns-stockyard-exchange-2/2026-04-18/
LOCATION:Brown’s Stockyard Exchange\, 7401 164th Ave NE\, Redmond\, WA
CATEGORIES:Food & Beverage
ATTACH;FMTTYPE=image/jpeg:https://experienceredmond.com/wp-content/uploads/2025/11/matthieu-joannon-6ciLddToTgM-unsplash-scaled.jpeg
END:VEVENT
BEGIN:VEVENT
DTSTART;TZID=America/Los_Angeles:20260417T160000
DTEND;TZID=America/Los_Angeles:20260417T180000
DTSTAMP:20260420T162650
CREATED:20260415T205317Z
LAST-MODIFIED:20260415T205317Z
UID:10005852-1776441600-1776448800@experienceredmond.com
SUMMARY:Happy Hour at Brown's Stockyard Exchange
DESCRIPTION:Raise your glass at Brown’s Stockyard Exchange! Every Friday and Saturday from 4–6 PM\, enjoy our buy 2\, pay for 1 draft beer offer during Happy Hour. Gather your friends and make every sip count. Great drinks\, great company\, great moments—only at Brown’s Stockyard Exchange.
URL:https://experienceredmond.com/event/happy-hour-at-browns-stockyard-exchange-2/2026-04-17/
LOCATION:Brown’s Stockyard Exchange\, 7401 164th Ave NE\, Redmond\, WA
CATEGORIES:Food & Beverage
ATTACH;FMTTYPE=image/jpeg:https://experienceredmond.com/wp-content/uploads/2025/11/matthieu-joannon-6ciLddToTgM-unsplash-scaled.jpeg
END:VEVENT
BEGIN:VEVENT
DTSTART;TZID=America/Los_Angeles:20260416T190000
DTEND;TZID=America/Los_Angeles:20260416T230000
DTSTAMP:20260420T162650
CREATED:20230809T185817Z
LAST-MODIFIED:20230809T185817Z
UID:10001044-1776366000-1776380400@experienceredmond.com
SUMMARY:Flatstick Pub Study Hall
DESCRIPTION:We offer free games for anyone with a valid school ID. This includes teachers and faculty\, bring in your classmates or coworkers for a night of fun!
URL:https://experienceredmond.com/event/flatstick-pub-study-hall/2026-04-16/
LOCATION:Flatstick Pub\, 7530 164th Ave NE Suite A108\, Redmond\, WA\, 98052\, United States
CATEGORIES:Community & Culture,Food & Beverage
ATTACH;FMTTYPE=image/jpeg:https://experienceredmond.com/wp-content/uploads/2023/08/212586612_2114677702004722_6520674770601856513_n.jpeg
END:VEVENT
BEGIN:VEVENT
DTSTART;TZID=America/Los_Angeles:20260416T190000
DTEND;TZID=America/Los_Angeles:20260416T210000
DTSTAMP:20260420T162650
CREATED:20251218T194211Z
LAST-MODIFIED:20251218T194211Z
UID:10007246-1776366000-1776373200@experienceredmond.com
SUMMARY:Trivia at Flatstick Pub
DESCRIPTION:Flatstick Pub hosts 2 rounds of trivia with the first round starting at 7PM and the second one starting at 8PM. Trivia is free to play\, come test your knowledge and have an opportunity to win a $50 Flatstick gift card!
URL:https://experienceredmond.com/event/trivia-at-flatstick-pub/2026-04-16/
LOCATION:Flatstick Pub\, 7530 164th Ave NE Suite A108\, Redmond\, WA\, 98052\, United States
CATEGORIES:Food & Beverage
ATTACH;FMTTYPE=image/jpeg:https://experienceredmond.com/wp-content/uploads/2023/08/Flatstick-Pub.jpeg
END:VEVENT
BEGIN:VEVENT
DTSTART;TZID=America/Los_Angeles:20260415T190000
DTEND;TZID=America/Los_Angeles:20260415T210000
DTSTAMP:20260420T162650
CREATED:20230809T185104Z
LAST-MODIFIED:20230809T185642Z
UID:10000521-1776279600-1776286800@experienceredmond.com
SUMMARY:Flatstick Pub Bingo
DESCRIPTION:Come play bingo with us on Wednesdays from 7-9PM. Bingo is always free and prizes include\, Flatstick Gift cards\, Brewery swag\, Flatstick Swag\, and much more. Come join the fun!
URL:https://experienceredmond.com/event/flatstick-bingo/2026-04-15/
LOCATION:Flatstick Pub\, 7530 164th Ave NE Suite A108\, Redmond\, WA\, 98052\, United States
CATEGORIES:Food & Beverage
ATTACH;FMTTYPE=image/jpeg:https://experienceredmond.com/wp-content/uploads/2023/08/358638519_774848384643662_1125344034164033401_n.jpeg
END:VEVENT
BEGIN:VEVENT
DTSTART;TZID=America/Los_Angeles:20260413T160000
DTEND;TZID=America/Los_Angeles:20260413T180000
DTSTAMP:20260420T162650
CREATED:20251104T005346Z
LAST-MODIFIED:20260415T205201Z
UID:10005850-1776096000-1776103200@experienceredmond.com
SUMMARY:Happy Hour at Brown's Stockyard Exchange
DESCRIPTION:Raise your glass at Brown’s Stockyard Exchange! Every Friday and Saturday from 4–6 PM\, enjoy our buy 2\, pay for 1 draft beer offer during Happy Hour. Gather your friends and make every sip count. Great drinks\, great company\, great moments—only at Brown’s Stockyard Exchange.
URL:https://experienceredmond.com/event/happy-hour-at-browns-stockyard-exchange/2026-04-13/
LOCATION:Brown’s Stockyard Exchange\, 7401 164th Ave NE\, Redmond\, WA
CATEGORIES:Food & Beverage
ATTACH;FMTTYPE=image/jpeg:https://experienceredmond.com/wp-content/uploads/2025/11/matthieu-joannon-6ciLddToTgM-unsplash-scaled.jpeg
END:VEVENT
BEGIN:VEVENT
DTSTART;TZID=America/Los_Angeles:20260412T160000
DTEND;TZID=America/Los_Angeles:20260412T180000
DTSTAMP:20260420T162650
CREATED:20251104T005346Z
LAST-MODIFIED:20260415T205201Z
UID:10005849-1776009600-1776016800@experienceredmond.com
SUMMARY:Happy Hour at Brown's Stockyard Exchange
DESCRIPTION:Raise your glass at Brown’s Stockyard Exchange! Every Friday and Saturday from 4–6 PM\, enjoy our buy 2\, pay for 1 draft beer offer during Happy Hour. Gather your friends and make every sip count. Great drinks\, great company\, great moments—only at Brown’s Stockyard Exchange.
URL:https://experienceredmond.com/event/happy-hour-at-browns-stockyard-exchange/2026-04-12/
LOCATION:Brown’s Stockyard Exchange\, 7401 164th Ave NE\, Redmond\, WA
CATEGORIES:Food & Beverage
ATTACH;FMTTYPE=image/jpeg:https://experienceredmond.com/wp-content/uploads/2025/11/matthieu-joannon-6ciLddToTgM-unsplash-scaled.jpeg
END:VEVENT
BEGIN:VEVENT
DTSTART;TZID=America/Los_Angeles:20260409T190000
DTEND;TZID=America/Los_Angeles:20260409T230000
DTSTAMP:20260420T162650
CREATED:20230809T185817Z
LAST-MODIFIED:20230809T185817Z
UID:10001043-1775761200-1775775600@experienceredmond.com
SUMMARY:Flatstick Pub Study Hall
DESCRIPTION:We offer free games for anyone with a valid school ID. This includes teachers and faculty\, bring in your classmates or coworkers for a night of fun!
URL:https://experienceredmond.com/event/flatstick-pub-study-hall/2026-04-09/
LOCATION:Flatstick Pub\, 7530 164th Ave NE Suite A108\, Redmond\, WA\, 98052\, United States
CATEGORIES:Community & Culture,Food & Beverage
ATTACH;FMTTYPE=image/jpeg:https://experienceredmond.com/wp-content/uploads/2023/08/212586612_2114677702004722_6520674770601856513_n.jpeg
END:VEVENT
BEGIN:VEVENT
DTSTART;TZID=America/Los_Angeles:20260409T190000
DTEND;TZID=America/Los_Angeles:20260409T210000
DTSTAMP:20260420T162650
CREATED:20251218T194211Z
LAST-MODIFIED:20251218T194211Z
UID:10007245-1775761200-1775768400@experienceredmond.com
SUMMARY:Trivia at Flatstick Pub
DESCRIPTION:Flatstick Pub hosts 2 rounds of trivia with the first round starting at 7PM and the second one starting at 8PM. Trivia is free to play\, come test your knowledge and have an opportunity to win a $50 Flatstick gift card!
URL:https://experienceredmond.com/event/trivia-at-flatstick-pub/2026-04-09/
LOCATION:Flatstick Pub\, 7530 164th Ave NE Suite A108\, Redmond\, WA\, 98052\, United States
CATEGORIES:Food & Beverage
ATTACH;FMTTYPE=image/jpeg:https://experienceredmond.com/wp-content/uploads/2023/08/Flatstick-Pub.jpeg
END:VEVENT
BEGIN:VEVENT
DTSTART;TZID=America/Los_Angeles:20260408T190000
DTEND;TZID=America/Los_Angeles:20260408T210000
DTSTAMP:20260420T162650
CREATED:20230809T185104Z
LAST-MODIFIED:20230809T185642Z
UID:10000520-1775674800-1775682000@experienceredmond.com
SUMMARY:Flatstick Pub Bingo
DESCRIPTION:Come play bingo with us on Wednesdays from 7-9PM. Bingo is always free and prizes include\, Flatstick Gift cards\, Brewery swag\, Flatstick Swag\, and much more. Come join the fun!
URL:https://experienceredmond.com/event/flatstick-bingo/2026-04-08/
LOCATION:Flatstick Pub\, 7530 164th Ave NE Suite A108\, Redmond\, WA\, 98052\, United States
CATEGORIES:Food & Beverage
ATTACH;FMTTYPE=image/jpeg:https://experienceredmond.com/wp-content/uploads/2023/08/358638519_774848384643662_1125344034164033401_n.jpeg
END:VEVENT
BEGIN:VEVENT
DTSTART;TZID=America/Los_Angeles:20260406T160000
DTEND;TZID=America/Los_Angeles:20260406T180000
DTSTAMP:20260420T162650
CREATED:20251104T005346Z
LAST-MODIFIED:20260415T205201Z
UID:10005847-1775491200-1775498400@experienceredmond.com
SUMMARY:Happy Hour at Brown's Stockyard Exchange
DESCRIPTION:Raise your glass at Brown’s Stockyard Exchange! Every Friday and Saturday from 4–6 PM\, enjoy our buy 2\, pay for 1 draft beer offer during Happy Hour. Gather your friends and make every sip count. Great drinks\, great company\, great moments—only at Brown’s Stockyard Exchange.
URL:https://experienceredmond.com/event/happy-hour-at-browns-stockyard-exchange/2026-04-06/
LOCATION:Brown’s Stockyard Exchange\, 7401 164th Ave NE\, Redmond\, WA
CATEGORIES:Food & Beverage
ATTACH;FMTTYPE=image/jpeg:https://experienceredmond.com/wp-content/uploads/2025/11/matthieu-joannon-6ciLddToTgM-unsplash-scaled.jpeg
END:VEVENT
BEGIN:VEVENT
DTSTART;TZID=America/Los_Angeles:20260405T160000
DTEND;TZID=America/Los_Angeles:20260405T180000
DTSTAMP:20260420T162650
CREATED:20251104T005346Z
LAST-MODIFIED:20260415T205201Z
UID:10005846-1775404800-1775412000@experienceredmond.com
SUMMARY:Happy Hour at Brown's Stockyard Exchange
DESCRIPTION:Raise your glass at Brown’s Stockyard Exchange! Every Friday and Saturday from 4–6 PM\, enjoy our buy 2\, pay for 1 draft beer offer during Happy Hour. Gather your friends and make every sip count. Great drinks\, great company\, great moments—only at Brown’s Stockyard Exchange.
URL:https://experienceredmond.com/event/happy-hour-at-browns-stockyard-exchange/2026-04-05/
LOCATION:Brown’s Stockyard Exchange\, 7401 164th Ave NE\, Redmond\, WA
CATEGORIES:Food & Beverage
ATTACH;FMTTYPE=image/jpeg:https://experienceredmond.com/wp-content/uploads/2025/11/matthieu-joannon-6ciLddToTgM-unsplash-scaled.jpeg
END:VEVENT
BEGIN:VEVENT
DTSTART;TZID=America/Los_Angeles:20260402T190000
DTEND;TZID=America/Los_Angeles:20260402T230000
DTSTAMP:20260420T162650
CREATED:20230809T185817Z
LAST-MODIFIED:20230809T185817Z
UID:10001042-1775156400-1775170800@experienceredmond.com
SUMMARY:Flatstick Pub Study Hall
DESCRIPTION:We offer free games for anyone with a valid school ID. This includes teachers and faculty\, bring in your classmates or coworkers for a night of fun!
URL:https://experienceredmond.com/event/flatstick-pub-study-hall/2026-04-02/
LOCATION:Flatstick Pub\, 7530 164th Ave NE Suite A108\, Redmond\, WA\, 98052\, United States
CATEGORIES:Community & Culture,Food & Beverage
ATTACH;FMTTYPE=image/jpeg:https://experienceredmond.com/wp-content/uploads/2023/08/212586612_2114677702004722_6520674770601856513_n.jpeg
END:VEVENT
BEGIN:VEVENT
DTSTART;TZID=America/Los_Angeles:20260402T190000
DTEND;TZID=America/Los_Angeles:20260402T210000
DTSTAMP:20260420T162650
CREATED:20251218T194211Z
LAST-MODIFIED:20251218T194211Z
UID:10007244-1775156400-1775163600@experienceredmond.com
SUMMARY:Trivia at Flatstick Pub
DESCRIPTION:Flatstick Pub hosts 2 rounds of trivia with the first round starting at 7PM and the second one starting at 8PM. Trivia is free to play\, come test your knowledge and have an opportunity to win a $50 Flatstick gift card!
URL:https://experienceredmond.com/event/trivia-at-flatstick-pub/2026-04-02/
LOCATION:Flatstick Pub\, 7530 164th Ave NE Suite A108\, Redmond\, WA\, 98052\, United States
CATEGORIES:Food & Beverage
ATTACH;FMTTYPE=image/jpeg:https://experienceredmond.com/wp-content/uploads/2023/08/Flatstick-Pub.jpeg
END:VEVENT
BEGIN:VEVENT
DTSTART;TZID=America/Los_Angeles:20260401T190000
DTEND;TZID=America/Los_Angeles:20260401T210000
DTSTAMP:20260420T162650
CREATED:20230809T185104Z
LAST-MODIFIED:20230809T185642Z
UID:10000519-1775070000-1775077200@experienceredmond.com
SUMMARY:Flatstick Pub Bingo
DESCRIPTION:Come play bingo with us on Wednesdays from 7-9PM. Bingo is always free and prizes include\, Flatstick Gift cards\, Brewery swag\, Flatstick Swag\, and much more. Come join the fun!
URL:https://experienceredmond.com/event/flatstick-bingo/2026-04-01/
LOCATION:Flatstick Pub\, 7530 164th Ave NE Suite A108\, Redmond\, WA\, 98052\, United States
CATEGORIES:Food & Beverage
ATTACH;FMTTYPE=image/jpeg:https://experienceredmond.com/wp-content/uploads/2023/08/358638519_774848384643662_1125344034164033401_n.jpeg
END:VEVENT
BEGIN:VEVENT
DTSTART;TZID=America/Los_Angeles:20260330T160000
DTEND;TZID=America/Los_Angeles:20260330T180000
DTSTAMP:20260420T162650
CREATED:20251104T005346Z
LAST-MODIFIED:20260415T205201Z
UID:10005844-1774886400-1774893600@experienceredmond.com
SUMMARY:Happy Hour at Brown's Stockyard Exchange
DESCRIPTION:Raise your glass at Brown’s Stockyard Exchange! Every Friday and Saturday from 4–6 PM\, enjoy our buy 2\, pay for 1 draft beer offer during Happy Hour. Gather your friends and make every sip count. Great drinks\, great company\, great moments—only at Brown’s Stockyard Exchange.
URL:https://experienceredmond.com/event/happy-hour-at-browns-stockyard-exchange/2026-03-30/
LOCATION:Brown’s Stockyard Exchange\, 7401 164th Ave NE\, Redmond\, WA
CATEGORIES:Food & Beverage
ATTACH;FMTTYPE=image/jpeg:https://experienceredmond.com/wp-content/uploads/2025/11/matthieu-joannon-6ciLddToTgM-unsplash-scaled.jpeg
END:VEVENT
BEGIN:VEVENT
DTSTART;TZID=America/Los_Angeles:20260329T160000
DTEND;TZID=America/Los_Angeles:20260329T180000
DTSTAMP:20260420T162650
CREATED:20251104T005346Z
LAST-MODIFIED:20260415T205201Z
UID:10005843-1774800000-1774807200@experienceredmond.com
SUMMARY:Happy Hour at Brown's Stockyard Exchange
DESCRIPTION:Raise your glass at Brown’s Stockyard Exchange! Every Friday and Saturday from 4–6 PM\, enjoy our buy 2\, pay for 1 draft beer offer during Happy Hour. Gather your friends and make every sip count. Great drinks\, great company\, great moments—only at Brown’s Stockyard Exchange.
URL:https://experienceredmond.com/event/happy-hour-at-browns-stockyard-exchange/2026-03-29/
LOCATION:Brown’s Stockyard Exchange\, 7401 164th Ave NE\, Redmond\, WA
CATEGORIES:Food & Beverage
ATTACH;FMTTYPE=image/jpeg:https://experienceredmond.com/wp-content/uploads/2025/11/matthieu-joannon-6ciLddToTgM-unsplash-scaled.jpeg
END:VEVENT
BEGIN:VEVENT
DTSTART;TZID=America/Los_Angeles:20260326T190000
DTEND;TZID=America/Los_Angeles:20260326T230000
DTSTAMP:20260420T162650
CREATED:20230809T185817Z
LAST-MODIFIED:20230809T185817Z
UID:10001041-1774551600-1774566000@experienceredmond.com
SUMMARY:Flatstick Pub Study Hall
DESCRIPTION:We offer free games for anyone with a valid school ID. This includes teachers and faculty\, bring in your classmates or coworkers for a night of fun!
URL:https://experienceredmond.com/event/flatstick-pub-study-hall/2026-03-26/
LOCATION:Flatstick Pub\, 7530 164th Ave NE Suite A108\, Redmond\, WA\, 98052\, United States
CATEGORIES:Community & Culture,Food & Beverage
ATTACH;FMTTYPE=image/jpeg:https://experienceredmond.com/wp-content/uploads/2023/08/212586612_2114677702004722_6520674770601856513_n.jpeg
END:VEVENT
BEGIN:VEVENT
DTSTART;TZID=America/Los_Angeles:20260326T190000
DTEND;TZID=America/Los_Angeles:20260326T210000
DTSTAMP:20260420T162650
CREATED:20251218T194211Z
LAST-MODIFIED:20251218T194211Z
UID:10007243-1774551600-1774558800@experienceredmond.com
SUMMARY:Trivia at Flatstick Pub
DESCRIPTION:Flatstick Pub hosts 2 rounds of trivia with the first round starting at 7PM and the second one starting at 8PM. Trivia is free to play\, come test your knowledge and have an opportunity to win a $50 Flatstick gift card!
URL:https://experienceredmond.com/event/trivia-at-flatstick-pub/2026-03-26/
LOCATION:Flatstick Pub\, 7530 164th Ave NE Suite A108\, Redmond\, WA\, 98052\, United States
CATEGORIES:Food & Beverage
ATTACH;FMTTYPE=image/jpeg:https://experienceredmond.com/wp-content/uploads/2023/08/Flatstick-Pub.jpeg
END:VEVENT
BEGIN:VEVENT
DTSTART;TZID=America/Los_Angeles:20260325T190000
DTEND;TZID=America/Los_Angeles:20260325T210000
DTSTAMP:20260420T162650
CREATED:20230809T185104Z
LAST-MODIFIED:20230809T185642Z
UID:10000518-1774465200-1774472400@experienceredmond.com
SUMMARY:Flatstick Pub Bingo
DESCRIPTION:Come play bingo with us on Wednesdays from 7-9PM. Bingo is always free and prizes include\, Flatstick Gift cards\, Brewery swag\, Flatstick Swag\, and much more. Come join the fun!
URL:https://experienceredmond.com/event/flatstick-bingo/2026-03-25/
LOCATION:Flatstick Pub\, 7530 164th Ave NE Suite A108\, Redmond\, WA\, 98052\, United States
CATEGORIES:Food & Beverage
ATTACH;FMTTYPE=image/jpeg:https://experienceredmond.com/wp-content/uploads/2023/08/358638519_774848384643662_1125344034164033401_n.jpeg
END:VEVENT
BEGIN:VEVENT
DTSTART;TZID=America/Los_Angeles:20260323T160000
DTEND;TZID=America/Los_Angeles:20260323T180000
DTSTAMP:20260420T162650
CREATED:20251104T005346Z
LAST-MODIFIED:20260415T205201Z
UID:10005841-1774281600-1774288800@experienceredmond.com
SUMMARY:Happy Hour at Brown's Stockyard Exchange
DESCRIPTION:Raise your glass at Brown’s Stockyard Exchange! Every Friday and Saturday from 4–6 PM\, enjoy our buy 2\, pay for 1 draft beer offer during Happy Hour. Gather your friends and make every sip count. Great drinks\, great company\, great moments—only at Brown’s Stockyard Exchange.
URL:https://experienceredmond.com/event/happy-hour-at-browns-stockyard-exchange/2026-03-23/
LOCATION:Brown’s Stockyard Exchange\, 7401 164th Ave NE\, Redmond\, WA
CATEGORIES:Food & Beverage
ATTACH;FMTTYPE=image/jpeg:https://experienceredmond.com/wp-content/uploads/2025/11/matthieu-joannon-6ciLddToTgM-unsplash-scaled.jpeg
END:VEVENT
BEGIN:VEVENT
DTSTART;TZID=America/Los_Angeles:20260322T160000
DTEND;TZID=America/Los_Angeles:20260322T180000
DTSTAMP:20260420T162650
CREATED:20251104T005346Z
LAST-MODIFIED:20260415T205201Z
UID:10005840-1774195200-1774202400@experienceredmond.com
SUMMARY:Happy Hour at Brown's Stockyard Exchange
DESCRIPTION:Raise your glass at Brown’s Stockyard Exchange! Every Friday and Saturday from 4–6 PM\, enjoy our buy 2\, pay for 1 draft beer offer during Happy Hour. Gather your friends and make every sip count. Great drinks\, great company\, great moments—only at Brown’s Stockyard Exchange.
URL:https://experienceredmond.com/event/happy-hour-at-browns-stockyard-exchange/2026-03-22/
LOCATION:Brown’s Stockyard Exchange\, 7401 164th Ave NE\, Redmond\, WA
CATEGORIES:Food & Beverage
ATTACH;FMTTYPE=image/jpeg:https://experienceredmond.com/wp-content/uploads/2025/11/matthieu-joannon-6ciLddToTgM-unsplash-scaled.jpeg
END:VEVENT
BEGIN:VEVENT
DTSTART;TZID=America/Los_Angeles:20260319T190000
DTEND;TZID=America/Los_Angeles:20260319T230000
DTSTAMP:20260420T162650
CREATED:20230809T185817Z
LAST-MODIFIED:20230809T185817Z
UID:10001040-1773946800-1773961200@experienceredmond.com
SUMMARY:Flatstick Pub Study Hall
DESCRIPTION:We offer free games for anyone with a valid school ID. This includes teachers and faculty\, bring in your classmates or coworkers for a night of fun!
URL:https://experienceredmond.com/event/flatstick-pub-study-hall/2026-03-19/
LOCATION:Flatstick Pub\, 7530 164th Ave NE Suite A108\, Redmond\, WA\, 98052\, United States
CATEGORIES:Community & Culture,Food & Beverage
ATTACH;FMTTYPE=image/jpeg:https://experienceredmond.com/wp-content/uploads/2023/08/212586612_2114677702004722_6520674770601856513_n.jpeg
END:VEVENT
BEGIN:VEVENT
DTSTART;TZID=America/Los_Angeles:20260319T190000
DTEND;TZID=America/Los_Angeles:20260319T210000
DTSTAMP:20260420T162650
CREATED:20251218T194211Z
LAST-MODIFIED:20251218T194211Z
UID:10007242-1773946800-1773954000@experienceredmond.com
SUMMARY:Trivia at Flatstick Pub
DESCRIPTION:Flatstick Pub hosts 2 rounds of trivia with the first round starting at 7PM and the second one starting at 8PM. Trivia is free to play\, come test your knowledge and have an opportunity to win a $50 Flatstick gift card!
URL:https://experienceredmond.com/event/trivia-at-flatstick-pub/2026-03-19/
LOCATION:Flatstick Pub\, 7530 164th Ave NE Suite A108\, Redmond\, WA\, 98052\, United States
CATEGORIES:Food & Beverage
ATTACH;FMTTYPE=image/jpeg:https://experienceredmond.com/wp-content/uploads/2023/08/Flatstick-Pub.jpeg
END:VEVENT
BEGIN:VEVENT
DTSTART;TZID=America/Los_Angeles:20260318T190000
DTEND;TZID=America/Los_Angeles:20260318T210000
DTSTAMP:20260420T162650
CREATED:20230809T185104Z
LAST-MODIFIED:20230809T185642Z
UID:10000517-1773860400-1773867600@experienceredmond.com
SUMMARY:Flatstick Pub Bingo
DESCRIPTION:Come play bingo with us on Wednesdays from 7-9PM. Bingo is always free and prizes include\, Flatstick Gift cards\, Brewery swag\, Flatstick Swag\, and much more. Come join the fun!
URL:https://experienceredmond.com/event/flatstick-bingo/2026-03-18/
LOCATION:Flatstick Pub\, 7530 164th Ave NE Suite A108\, Redmond\, WA\, 98052\, United States
CATEGORIES:Food & Beverage
ATTACH;FMTTYPE=image/jpeg:https://experienceredmond.com/wp-content/uploads/2023/08/358638519_774848384643662_1125344034164033401_n.jpeg
END:VEVENT
BEGIN:VEVENT
DTSTART;TZID=America/Los_Angeles:20260316T160000
DTEND;TZID=America/Los_Angeles:20260316T180000
DTSTAMP:20260420T162650
CREATED:20251104T005346Z
LAST-MODIFIED:20260415T205201Z
UID:10005838-1773676800-1773684000@experienceredmond.com
SUMMARY:Happy Hour at Brown's Stockyard Exchange
DESCRIPTION:Raise your glass at Brown’s Stockyard Exchange! Every Friday and Saturday from 4–6 PM\, enjoy our buy 2\, pay for 1 draft beer offer during Happy Hour. Gather your friends and make every sip count. Great drinks\, great company\, great moments—only at Brown’s Stockyard Exchange.
URL:https://experienceredmond.com/event/happy-hour-at-browns-stockyard-exchange/2026-03-16/
LOCATION:Brown’s Stockyard Exchange\, 7401 164th Ave NE\, Redmond\, WA
CATEGORIES:Food & Beverage
ATTACH;FMTTYPE=image/jpeg:https://experienceredmond.com/wp-content/uploads/2025/11/matthieu-joannon-6ciLddToTgM-unsplash-scaled.jpeg
END:VEVENT
BEGIN:VEVENT
DTSTART;TZID=America/Los_Angeles:20260315T160000
DTEND;TZID=America/Los_Angeles:20260315T180000
DTSTAMP:20260420T162650
CREATED:20251104T005346Z
LAST-MODIFIED:20260415T205201Z
UID:10005837-1773590400-1773597600@experienceredmond.com
SUMMARY:Happy Hour at Brown's Stockyard Exchange
DESCRIPTION:Raise your glass at Brown’s Stockyard Exchange! Every Friday and Saturday from 4–6 PM\, enjoy our buy 2\, pay for 1 draft beer offer during Happy Hour. Gather your friends and make every sip count. Great drinks\, great company\, great moments—only at Brown’s Stockyard Exchange.
URL:https://experienceredmond.com/event/happy-hour-at-browns-stockyard-exchange/2026-03-15/
LOCATION:Brown’s Stockyard Exchange\, 7401 164th Ave NE\, Redmond\, WA
CATEGORIES:Food & Beverage
ATTACH;FMTTYPE=image/jpeg:https://experienceredmond.com/wp-content/uploads/2025/11/matthieu-joannon-6ciLddToTgM-unsplash-scaled.jpeg
END:VEVENT
BEGIN:VEVENT
DTSTART;TZID=America/Los_Angeles:20260312T190000
DTEND;TZID=America/Los_Angeles:20260312T230000
DTSTAMP:20260420T162650
CREATED:20230809T185817Z
LAST-MODIFIED:20230809T185817Z
UID:10001039-1773342000-1773356400@experienceredmond.com
SUMMARY:Flatstick Pub Study Hall
DESCRIPTION:We offer free games for anyone with a valid school ID. This includes teachers and faculty\, bring in your classmates or coworkers for a night of fun!
URL:https://experienceredmond.com/event/flatstick-pub-study-hall/2026-03-12/
LOCATION:Flatstick Pub\, 7530 164th Ave NE Suite A108\, Redmond\, WA\, 98052\, United States
CATEGORIES:Community & Culture,Food & Beverage
ATTACH;FMTTYPE=image/jpeg:https://experienceredmond.com/wp-content/uploads/2023/08/212586612_2114677702004722_6520674770601856513_n.jpeg
END:VEVENT
BEGIN:VEVENT
DTSTART;TZID=America/Los_Angeles:20260312T190000
DTEND;TZID=America/Los_Angeles:20260312T210000
DTSTAMP:20260420T162650
CREATED:20251218T194211Z
LAST-MODIFIED:20251218T194211Z
UID:10007241-1773342000-1773349200@experienceredmond.com
SUMMARY:Trivia at Flatstick Pub
DESCRIPTION:Flatstick Pub hosts 2 rounds of trivia with the first round starting at 7PM and the second one starting at 8PM. Trivia is free to play\, come test your knowledge and have an opportunity to win a $50 Flatstick gift card!
URL:https://experienceredmond.com/event/trivia-at-flatstick-pub/2026-03-12/
LOCATION:Flatstick Pub\, 7530 164th Ave NE Suite A108\, Redmond\, WA\, 98052\, United States
CATEGORIES:Food & Beverage
ATTACH;FMTTYPE=image/jpeg:https://experienceredmond.com/wp-content/uploads/2023/08/Flatstick-Pub.jpeg
END:VEVENT
BEGIN:VEVENT
DTSTART;TZID=America/Los_Angeles:20260311T190000
DTEND;TZID=America/Los_Angeles:20260311T210000
DTSTAMP:20260420T162650
CREATED:20230809T185104Z
LAST-MODIFIED:20230809T185642Z
UID:10000516-1773255600-1773262800@experienceredmond.com
SUMMARY:Flatstick Pub Bingo
DESCRIPTION:Come play bingo with us on Wednesdays from 7-9PM. Bingo is always free and prizes include\, Flatstick Gift cards\, Brewery swag\, Flatstick Swag\, and much more. Come join the fun!
URL:https://experienceredmond.com/event/flatstick-bingo/2026-03-11/
LOCATION:Flatstick Pub\, 7530 164th Ave NE Suite A108\, Redmond\, WA\, 98052\, United States
CATEGORIES:Food & Beverage
ATTACH;FMTTYPE=image/jpeg:https://experienceredmond.com/wp-content/uploads/2023/08/358638519_774848384643662_1125344034164033401_n.jpeg
END:VEVENT
END:VCALENDAR