BEGIN:VCALENDAR
VERSION:2.0
PRODID:-//Experience Redmond - ECPv6.15.18//NONSGML v1.0//EN
CALSCALE:GREGORIAN
METHOD:PUBLISH
X-ORIGINAL-URL:https://experienceredmond.com
X-WR-CALDESC:Events for Experience Redmond
REFRESH-INTERVAL;VALUE=DURATION:PT1H
X-Robots-Tag:noindex
X-PUBLISHED-TTL:PT1H
BEGIN:VTIMEZONE
TZID:America/Los_Angeles
BEGIN:DAYLIGHT
TZOFFSETFROM:-0800
TZOFFSETTO:-0700
TZNAME:PDT
DTSTART:20250309T100000
END:DAYLIGHT
BEGIN:STANDARD
TZOFFSETFROM:-0700
TZOFFSETTO:-0800
TZNAME:PST
DTSTART:20251102T090000
END:STANDARD
BEGIN:DAYLIGHT
TZOFFSETFROM:-0800
TZOFFSETTO:-0700
TZNAME:PDT
DTSTART:20260308T100000
END:DAYLIGHT
BEGIN:STANDARD
TZOFFSETFROM:-0700
TZOFFSETTO:-0800
TZNAME:PST
DTSTART:20261101T090000
END:STANDARD
BEGIN:DAYLIGHT
TZOFFSETFROM:-0800
TZOFFSETTO:-0700
TZNAME:PDT
DTSTART:20270314T100000
END:DAYLIGHT
BEGIN:STANDARD
TZOFFSETFROM:-0700
TZOFFSETTO:-0800
TZNAME:PST
DTSTART:20271107T090000
END:STANDARD
END:VTIMEZONE
BEGIN:VEVENT
DTSTART;TZID=America/Los_Angeles:20260303T100000
DTEND;TZID=America/Los_Angeles:20260303T120000
DTSTAMP:20260420T211542
CREATED:20250918T185924Z
LAST-MODIFIED:20260212T235403Z
UID:10005248-1772532000-1772539200@experienceredmond.com
SUMMARY:Drop-In Play at the Redmond Senior & Community Center
DESCRIPTION:Drop-In Play for your little one happens every Tuesday and Thursday at the Redmond Senior & Community Center! Drop-In Indoor Play is a time for socialization and fun! Children will play indoors with our fun interactive toys while you meet other parents and enjoy play time in a welcoming space. \nWhat to bring: It is recommended that participants wear gym clothes and athletic/tennis shoes. All other equipment is provided. Children playing together offers a range of benefits\, both developmental and social. It provides little ones with valuable opportunities for learning\, growth\, and socialization while laying the groundwork for healthy development and relationships in the future. \nThis is an unsupervised activity\, and an adult must be present with children at all times. \nPlease call in to apply for fee assistance to drop-in purchases. \nClick here to learn more and register \nRefund and Transfer Policy: Cancellations and transfer requests received at least 7 days prior to the activity start date receive a full refund of activity fees\, minus a 10% processing fee. Cancellations or transfers received less than 7 days prior to the activity start date receive a 50% refund of the activity fee\, or 50% of the activity fee transferred to a future program. There are no refunds for cancellations received less than 3 business days before the start date. The credit card processing fee is nonrefundable. Exceptions can be made for illness.
URL:https://experienceredmond.com/event/drop-in-play-at-the-redmond-senior-community-center/2026-03-03/
LOCATION:Redmond Senior & Community Center\, 8703 160th Ave NE\, Redmond\, WA\, 98052\, United States
CATEGORIES:Kids & Family
ATTACH;FMTTYPE=image/jpeg:https://experienceredmond.com/wp-content/uploads/2025/09/Drop-In-Play-Image.jpg-scaled.jpeg
END:VEVENT
BEGIN:VEVENT
DTSTART;TZID=America/Los_Angeles:20260305T100000
DTEND;TZID=America/Los_Angeles:20260305T120000
DTSTAMP:20260420T211542
CREATED:20250918T185924Z
LAST-MODIFIED:20260212T235403Z
UID:10005249-1772704800-1772712000@experienceredmond.com
SUMMARY:Drop-In Play at the Redmond Senior & Community Center
DESCRIPTION:Drop-In Play for your little one happens every Tuesday and Thursday at the Redmond Senior & Community Center! Drop-In Indoor Play is a time for socialization and fun! Children will play indoors with our fun interactive toys while you meet other parents and enjoy play time in a welcoming space. \nWhat to bring: It is recommended that participants wear gym clothes and athletic/tennis shoes. All other equipment is provided. Children playing together offers a range of benefits\, both developmental and social. It provides little ones with valuable opportunities for learning\, growth\, and socialization while laying the groundwork for healthy development and relationships in the future. \nThis is an unsupervised activity\, and an adult must be present with children at all times. \nPlease call in to apply for fee assistance to drop-in purchases. \nClick here to learn more and register \nRefund and Transfer Policy: Cancellations and transfer requests received at least 7 days prior to the activity start date receive a full refund of activity fees\, minus a 10% processing fee. Cancellations or transfers received less than 7 days prior to the activity start date receive a 50% refund of the activity fee\, or 50% of the activity fee transferred to a future program. There are no refunds for cancellations received less than 3 business days before the start date. The credit card processing fee is nonrefundable. Exceptions can be made for illness.
URL:https://experienceredmond.com/event/drop-in-play-at-the-redmond-senior-community-center/2026-03-05/
LOCATION:Redmond Senior & Community Center\, 8703 160th Ave NE\, Redmond\, WA\, 98052\, United States
CATEGORIES:Kids & Family
ATTACH;FMTTYPE=image/jpeg:https://experienceredmond.com/wp-content/uploads/2025/09/Drop-In-Play-Image.jpg-scaled.jpeg
END:VEVENT
BEGIN:VEVENT
DTSTART;TZID=America/Los_Angeles:20260310T100000
DTEND;TZID=America/Los_Angeles:20260310T120000
DTSTAMP:20260420T211542
CREATED:20250918T185924Z
LAST-MODIFIED:20260212T235403Z
UID:10005250-1773136800-1773144000@experienceredmond.com
SUMMARY:Drop-In Play at the Redmond Senior & Community Center
DESCRIPTION:Drop-In Play for your little one happens every Tuesday and Thursday at the Redmond Senior & Community Center! Drop-In Indoor Play is a time for socialization and fun! Children will play indoors with our fun interactive toys while you meet other parents and enjoy play time in a welcoming space. \nWhat to bring: It is recommended that participants wear gym clothes and athletic/tennis shoes. All other equipment is provided. Children playing together offers a range of benefits\, both developmental and social. It provides little ones with valuable opportunities for learning\, growth\, and socialization while laying the groundwork for healthy development and relationships in the future. \nThis is an unsupervised activity\, and an adult must be present with children at all times. \nPlease call in to apply for fee assistance to drop-in purchases. \nClick here to learn more and register \nRefund and Transfer Policy: Cancellations and transfer requests received at least 7 days prior to the activity start date receive a full refund of activity fees\, minus a 10% processing fee. Cancellations or transfers received less than 7 days prior to the activity start date receive a 50% refund of the activity fee\, or 50% of the activity fee transferred to a future program. There are no refunds for cancellations received less than 3 business days before the start date. The credit card processing fee is nonrefundable. Exceptions can be made for illness.
URL:https://experienceredmond.com/event/drop-in-play-at-the-redmond-senior-community-center/2026-03-10/
LOCATION:Redmond Senior & Community Center\, 8703 160th Ave NE\, Redmond\, WA\, 98052\, United States
CATEGORIES:Kids & Family
ATTACH;FMTTYPE=image/jpeg:https://experienceredmond.com/wp-content/uploads/2025/09/Drop-In-Play-Image.jpg-scaled.jpeg
END:VEVENT
BEGIN:VEVENT
DTSTART;TZID=America/Los_Angeles:20260312T100000
DTEND;TZID=America/Los_Angeles:20260312T120000
DTSTAMP:20260420T211542
CREATED:20250918T185924Z
LAST-MODIFIED:20260212T235403Z
UID:10005251-1773309600-1773316800@experienceredmond.com
SUMMARY:Drop-In Play at the Redmond Senior & Community Center
DESCRIPTION:Drop-In Play for your little one happens every Tuesday and Thursday at the Redmond Senior & Community Center! Drop-In Indoor Play is a time for socialization and fun! Children will play indoors with our fun interactive toys while you meet other parents and enjoy play time in a welcoming space. \nWhat to bring: It is recommended that participants wear gym clothes and athletic/tennis shoes. All other equipment is provided. Children playing together offers a range of benefits\, both developmental and social. It provides little ones with valuable opportunities for learning\, growth\, and socialization while laying the groundwork for healthy development and relationships in the future. \nThis is an unsupervised activity\, and an adult must be present with children at all times. \nPlease call in to apply for fee assistance to drop-in purchases. \nClick here to learn more and register \nRefund and Transfer Policy: Cancellations and transfer requests received at least 7 days prior to the activity start date receive a full refund of activity fees\, minus a 10% processing fee. Cancellations or transfers received less than 7 days prior to the activity start date receive a 50% refund of the activity fee\, or 50% of the activity fee transferred to a future program. There are no refunds for cancellations received less than 3 business days before the start date. The credit card processing fee is nonrefundable. Exceptions can be made for illness.
URL:https://experienceredmond.com/event/drop-in-play-at-the-redmond-senior-community-center/2026-03-12/
LOCATION:Redmond Senior & Community Center\, 8703 160th Ave NE\, Redmond\, WA\, 98052\, United States
CATEGORIES:Kids & Family
ATTACH;FMTTYPE=image/jpeg:https://experienceredmond.com/wp-content/uploads/2025/09/Drop-In-Play-Image.jpg-scaled.jpeg
END:VEVENT
BEGIN:VEVENT
DTSTART;TZID=America/Los_Angeles:20260317T100000
DTEND;TZID=America/Los_Angeles:20260317T120000
DTSTAMP:20260420T211542
CREATED:20250918T185924Z
LAST-MODIFIED:20260212T235403Z
UID:10005252-1773741600-1773748800@experienceredmond.com
SUMMARY:Drop-In Play at the Redmond Senior & Community Center
DESCRIPTION:Drop-In Play for your little one happens every Tuesday and Thursday at the Redmond Senior & Community Center! Drop-In Indoor Play is a time for socialization and fun! Children will play indoors with our fun interactive toys while you meet other parents and enjoy play time in a welcoming space. \nWhat to bring: It is recommended that participants wear gym clothes and athletic/tennis shoes. All other equipment is provided. Children playing together offers a range of benefits\, both developmental and social. It provides little ones with valuable opportunities for learning\, growth\, and socialization while laying the groundwork for healthy development and relationships in the future. \nThis is an unsupervised activity\, and an adult must be present with children at all times. \nPlease call in to apply for fee assistance to drop-in purchases. \nClick here to learn more and register \nRefund and Transfer Policy: Cancellations and transfer requests received at least 7 days prior to the activity start date receive a full refund of activity fees\, minus a 10% processing fee. Cancellations or transfers received less than 7 days prior to the activity start date receive a 50% refund of the activity fee\, or 50% of the activity fee transferred to a future program. There are no refunds for cancellations received less than 3 business days before the start date. The credit card processing fee is nonrefundable. Exceptions can be made for illness.
URL:https://experienceredmond.com/event/drop-in-play-at-the-redmond-senior-community-center/2026-03-17/
LOCATION:Redmond Senior & Community Center\, 8703 160th Ave NE\, Redmond\, WA\, 98052\, United States
CATEGORIES:Kids & Family
ATTACH;FMTTYPE=image/jpeg:https://experienceredmond.com/wp-content/uploads/2025/09/Drop-In-Play-Image.jpg-scaled.jpeg
END:VEVENT
BEGIN:VEVENT
DTSTART;TZID=America/Los_Angeles:20260318T100000
DTEND;TZID=America/Los_Angeles:20260318T110000
DTSTAMP:20260420T211542
CREATED:20260122T184528Z
LAST-MODIFIED:20260213T002711Z
UID:10007541-1773828000-1773831600@experienceredmond.com
SUMMARY:Coffee\, Chat & Play
DESCRIPTION:(Ages 0 – 5) Get ready for a cozy and fun-filled morning at Coffee\, Chat\, and Play in the Kids Zone at the Redmond Senior & Community Center! \nEvery third Wednesday of the month\, parents\, guardians\, babysitters\, and little ones are invited to enjoy complimentary beverages and snacks while kids have a blast playing and exploring in our Kids Zone. It’s the perfect time to relax\, sip on some coffee\, strike up a chat with other grown-ups\, and let the kids dive into fun games\, toys\, and activities. Whether you’re catching up with friends or meeting new ones\, this is the ideal way to spend a midweek morning with family\, community\, and a whole lot of playtime! \nThis is an unsupervised activity\, and an adult must be present with children at all times. Kids Zone staff will be in attendance as well. Registration is required for a child/adult pair. Click here to learn more and register. \nRefund and Transfer Policy: Cancellations and transfer requests received at least 7 days prior to the activity start date receive a full refund of activity fees\, minus a 10% processing fee. Cancellations or transfers received less than 7 days prior to activity start date receive a 50% refund of activity fee\, or 50% of activity fee transferred to a future program. No refunds are issued for cancellations received less than 3 business days before the start date. The credit card processing fee is nonrefundable. Exceptions can be made for illness.
URL:https://experienceredmond.com/event/coffee-chat-play/2026-03-18/
LOCATION:Redmond Senior & Community Center\, 8703 160th Ave NE\, Redmond\, WA\, 98052\, United States
CATEGORIES:Kids & Family
ATTACH;FMTTYPE=image/jpeg:https://experienceredmond.com/wp-content/uploads/2026/01/RSCC-Kids-Classes-3.pdf-11-x-8.5-in.jpg
END:VEVENT
BEGIN:VEVENT
DTSTART;TZID=America/Los_Angeles:20260319T100000
DTEND;TZID=America/Los_Angeles:20260319T120000
DTSTAMP:20260420T211542
CREATED:20250918T185924Z
LAST-MODIFIED:20260212T235403Z
UID:10005253-1773914400-1773921600@experienceredmond.com
SUMMARY:Drop-In Play at the Redmond Senior & Community Center
DESCRIPTION:Drop-In Play for your little one happens every Tuesday and Thursday at the Redmond Senior & Community Center! Drop-In Indoor Play is a time for socialization and fun! Children will play indoors with our fun interactive toys while you meet other parents and enjoy play time in a welcoming space. \nWhat to bring: It is recommended that participants wear gym clothes and athletic/tennis shoes. All other equipment is provided. Children playing together offers a range of benefits\, both developmental and social. It provides little ones with valuable opportunities for learning\, growth\, and socialization while laying the groundwork for healthy development and relationships in the future. \nThis is an unsupervised activity\, and an adult must be present with children at all times. \nPlease call in to apply for fee assistance to drop-in purchases. \nClick here to learn more and register \nRefund and Transfer Policy: Cancellations and transfer requests received at least 7 days prior to the activity start date receive a full refund of activity fees\, minus a 10% processing fee. Cancellations or transfers received less than 7 days prior to the activity start date receive a 50% refund of the activity fee\, or 50% of the activity fee transferred to a future program. There are no refunds for cancellations received less than 3 business days before the start date. The credit card processing fee is nonrefundable. Exceptions can be made for illness.
URL:https://experienceredmond.com/event/drop-in-play-at-the-redmond-senior-community-center/2026-03-19/
LOCATION:Redmond Senior & Community Center\, 8703 160th Ave NE\, Redmond\, WA\, 98052\, United States
CATEGORIES:Kids & Family
ATTACH;FMTTYPE=image/jpeg:https://experienceredmond.com/wp-content/uploads/2025/09/Drop-In-Play-Image.jpg-scaled.jpeg
END:VEVENT
BEGIN:VEVENT
DTSTART;TZID=America/Los_Angeles:20260324T100000
DTEND;TZID=America/Los_Angeles:20260324T120000
DTSTAMP:20260420T211542
CREATED:20250918T185924Z
LAST-MODIFIED:20260212T235403Z
UID:10005254-1774346400-1774353600@experienceredmond.com
SUMMARY:Drop-In Play at the Redmond Senior & Community Center
DESCRIPTION:Drop-In Play for your little one happens every Tuesday and Thursday at the Redmond Senior & Community Center! Drop-In Indoor Play is a time for socialization and fun! Children will play indoors with our fun interactive toys while you meet other parents and enjoy play time in a welcoming space. \nWhat to bring: It is recommended that participants wear gym clothes and athletic/tennis shoes. All other equipment is provided. Children playing together offers a range of benefits\, both developmental and social. It provides little ones with valuable opportunities for learning\, growth\, and socialization while laying the groundwork for healthy development and relationships in the future. \nThis is an unsupervised activity\, and an adult must be present with children at all times. \nPlease call in to apply for fee assistance to drop-in purchases. \nClick here to learn more and register \nRefund and Transfer Policy: Cancellations and transfer requests received at least 7 days prior to the activity start date receive a full refund of activity fees\, minus a 10% processing fee. Cancellations or transfers received less than 7 days prior to the activity start date receive a 50% refund of the activity fee\, or 50% of the activity fee transferred to a future program. There are no refunds for cancellations received less than 3 business days before the start date. The credit card processing fee is nonrefundable. Exceptions can be made for illness.
URL:https://experienceredmond.com/event/drop-in-play-at-the-redmond-senior-community-center/2026-03-24/
LOCATION:Redmond Senior & Community Center\, 8703 160th Ave NE\, Redmond\, WA\, 98052\, United States
CATEGORIES:Kids & Family
ATTACH;FMTTYPE=image/jpeg:https://experienceredmond.com/wp-content/uploads/2025/09/Drop-In-Play-Image.jpg-scaled.jpeg
END:VEVENT
BEGIN:VEVENT
DTSTART;TZID=America/Los_Angeles:20260326T100000
DTEND;TZID=America/Los_Angeles:20260326T120000
DTSTAMP:20260420T211542
CREATED:20250918T185924Z
LAST-MODIFIED:20260212T235403Z
UID:10005255-1774519200-1774526400@experienceredmond.com
SUMMARY:Drop-In Play at the Redmond Senior & Community Center
DESCRIPTION:Drop-In Play for your little one happens every Tuesday and Thursday at the Redmond Senior & Community Center! Drop-In Indoor Play is a time for socialization and fun! Children will play indoors with our fun interactive toys while you meet other parents and enjoy play time in a welcoming space. \nWhat to bring: It is recommended that participants wear gym clothes and athletic/tennis shoes. All other equipment is provided. Children playing together offers a range of benefits\, both developmental and social. It provides little ones with valuable opportunities for learning\, growth\, and socialization while laying the groundwork for healthy development and relationships in the future. \nThis is an unsupervised activity\, and an adult must be present with children at all times. \nPlease call in to apply for fee assistance to drop-in purchases. \nClick here to learn more and register \nRefund and Transfer Policy: Cancellations and transfer requests received at least 7 days prior to the activity start date receive a full refund of activity fees\, minus a 10% processing fee. Cancellations or transfers received less than 7 days prior to the activity start date receive a 50% refund of the activity fee\, or 50% of the activity fee transferred to a future program. There are no refunds for cancellations received less than 3 business days before the start date. The credit card processing fee is nonrefundable. Exceptions can be made for illness.
URL:https://experienceredmond.com/event/drop-in-play-at-the-redmond-senior-community-center/2026-03-26/
LOCATION:Redmond Senior & Community Center\, 8703 160th Ave NE\, Redmond\, WA\, 98052\, United States
CATEGORIES:Kids & Family
ATTACH;FMTTYPE=image/jpeg:https://experienceredmond.com/wp-content/uploads/2025/09/Drop-In-Play-Image.jpg-scaled.jpeg
END:VEVENT
BEGIN:VEVENT
DTSTART;TZID=America/Los_Angeles:20260331T100000
DTEND;TZID=America/Los_Angeles:20260331T120000
DTSTAMP:20260420T211542
CREATED:20250918T185924Z
LAST-MODIFIED:20260212T235403Z
UID:10005256-1774951200-1774958400@experienceredmond.com
SUMMARY:Drop-In Play at the Redmond Senior & Community Center
DESCRIPTION:Drop-In Play for your little one happens every Tuesday and Thursday at the Redmond Senior & Community Center! Drop-In Indoor Play is a time for socialization and fun! Children will play indoors with our fun interactive toys while you meet other parents and enjoy play time in a welcoming space. \nWhat to bring: It is recommended that participants wear gym clothes and athletic/tennis shoes. All other equipment is provided. Children playing together offers a range of benefits\, both developmental and social. It provides little ones with valuable opportunities for learning\, growth\, and socialization while laying the groundwork for healthy development and relationships in the future. \nThis is an unsupervised activity\, and an adult must be present with children at all times. \nPlease call in to apply for fee assistance to drop-in purchases. \nClick here to learn more and register \nRefund and Transfer Policy: Cancellations and transfer requests received at least 7 days prior to the activity start date receive a full refund of activity fees\, minus a 10% processing fee. Cancellations or transfers received less than 7 days prior to the activity start date receive a 50% refund of the activity fee\, or 50% of the activity fee transferred to a future program. There are no refunds for cancellations received less than 3 business days before the start date. The credit card processing fee is nonrefundable. Exceptions can be made for illness.
URL:https://experienceredmond.com/event/drop-in-play-at-the-redmond-senior-community-center/2026-03-31/
LOCATION:Redmond Senior & Community Center\, 8703 160th Ave NE\, Redmond\, WA\, 98052\, United States
CATEGORIES:Kids & Family
ATTACH;FMTTYPE=image/jpeg:https://experienceredmond.com/wp-content/uploads/2025/09/Drop-In-Play-Image.jpg-scaled.jpeg
END:VEVENT
END:VCALENDAR