BEGIN:VCALENDAR
VERSION:2.0
PRODID:-//Experience Redmond - ECPv6.15.18//NONSGML v1.0//EN
CALSCALE:GREGORIAN
METHOD:PUBLISH
X-WR-CALNAME:Experience Redmond
X-ORIGINAL-URL:https://experienceredmond.com
X-WR-CALDESC:Events for Experience Redmond
REFRESH-INTERVAL;VALUE=DURATION:PT1H
X-Robots-Tag:noindex
X-PUBLISHED-TTL:PT1H
BEGIN:VTIMEZONE
TZID:America/Los_Angeles
BEGIN:DAYLIGHT
TZOFFSETFROM:-0800
TZOFFSETTO:-0700
TZNAME:PDT
DTSTART:20250309T100000
END:DAYLIGHT
BEGIN:STANDARD
TZOFFSETFROM:-0700
TZOFFSETTO:-0800
TZNAME:PST
DTSTART:20251102T090000
END:STANDARD
BEGIN:DAYLIGHT
TZOFFSETFROM:-0800
TZOFFSETTO:-0700
TZNAME:PDT
DTSTART:20260308T100000
END:DAYLIGHT
BEGIN:STANDARD
TZOFFSETFROM:-0700
TZOFFSETTO:-0800
TZNAME:PST
DTSTART:20261101T090000
END:STANDARD
BEGIN:DAYLIGHT
TZOFFSETFROM:-0800
TZOFFSETTO:-0700
TZNAME:PDT
DTSTART:20270314T100000
END:DAYLIGHT
BEGIN:STANDARD
TZOFFSETFROM:-0700
TZOFFSETTO:-0800
TZNAME:PST
DTSTART:20271107T090000
END:STANDARD
END:VTIMEZONE
BEGIN:VEVENT
DTSTART;TZID=America/Los_Angeles:20260307T140000
DTEND;TZID=America/Los_Angeles:20260307T170000
DTSTAMP:20260421T090325
CREATED:20260303T220105Z
LAST-MODIFIED:20260303T220105Z
UID:10008237-1772892000-1772902800@experienceredmond.com
SUMMARY:Artforms of India: Cheriyal Scroll Painting Workshop on Silk
DESCRIPTION:Purnakala School of Indian Art presents Art for All workshops- a monthly hand-on workshop featuring a traditional visual artform of India.\nCome celebrate women’s day with story and art at March’s workshop on Cheriyal Scroll Painting on silk— bring your favorite women along and paint together! \nIf you’ve ever wanted to paint on fabrics here is your chance to learn the medium! In this workshop\, we will explore the vibrant storytelling tradition of Cheriyal art and learn specific tips and techniques for painting on silk. These skills will enable you to create any artwork of your choice in this unique medium. \nTake home a Cheriyal Painting on pure silk that can be framed or stitched. \nIn this workshop we will learn about:\n– The history and cultural ethos of Cheriyal Scroll Paintings\, including it’s deep connection to local folklore and storytelling\n– ⁠Foundational pattern design and compositional structure for creating a Cheriyal image\n– Crafting specific color themes and brushwork details to achieve the nostalgic feel of a Cheriyal Painting\n– ⁠Preparation of a traditional patam (cloth surface) and how to achieve it using modern\, accessible materials. Learn to prepare and paint on a Silk cloth panel. \nLimited to 10 spots. All details and Registration here:\nhttps://pages.purnakala.com/products/cheriyal-march-2026
URL:https://experienceredmond.com/event/artforms-of-india-cheriyal-scroll-painting-workshop-on-silk/
LOCATION:Redmond Senior & Community Center\, 8703 160th Ave NE\, Redmond\, WA\, 98052\, United States
CATEGORIES:Community & Culture,Redmond Arts
ATTACH;FMTTYPE=image/jpeg:https://experienceredmond.com/wp-content/uploads/2026/03/IMG_0298.jpeg
END:VEVENT
BEGIN:VEVENT
DTSTART;TZID=America/Los_Angeles:20260313T183000
DTEND;TZID=America/Los_Angeles:20260313T203000
DTSTAMP:20260421T090325
CREATED:20251210T200547Z
LAST-MODIFIED:20260220T161303Z
UID:10006621-1773426600-1773433800@experienceredmond.com
SUMMARY:Improv Student Showcase
DESCRIPTION:A fun evening of improv comedy for your family. Laugh as our adult students\, beginners and advanced\, create unique\, never-to-be-seen stories\, scenes & jokes for you. You will provide suggestions\, energy & cheers. \nTickets are required. $10-$12. \nClick here to purchase tickets.
URL:https://experienceredmond.com/event/student-showcase-improv/
LOCATION:Redmond Senior & Community Center\, 8703 160th Ave NE\, Redmond\, WA\, 98052\, United States
CATEGORIES:Community & Culture,Redmond Arts
ATTACH;FMTTYPE=image/jpeg:https://experienceredmond.com/wp-content/uploads/2025/12/Improv-Student-Showcase.jpeg
END:VEVENT
END:VCALENDAR