BEGIN:VCALENDAR
VERSION:2.0
PRODID:-//Experience Redmond - ECPv6.15.18//NONSGML v1.0//EN
CALSCALE:GREGORIAN
METHOD:PUBLISH
X-WR-CALNAME:Experience Redmond
X-ORIGINAL-URL:https://experienceredmond.com
X-WR-CALDESC:Events for Experience Redmond
REFRESH-INTERVAL;VALUE=DURATION:PT1H
X-Robots-Tag:noindex
X-PUBLISHED-TTL:PT1H
BEGIN:VTIMEZONE
TZID:America/Los_Angeles
BEGIN:DAYLIGHT
TZOFFSETFROM:-0800
TZOFFSETTO:-0700
TZNAME:PDT
DTSTART:20250309T100000
END:DAYLIGHT
BEGIN:STANDARD
TZOFFSETFROM:-0700
TZOFFSETTO:-0800
TZNAME:PST
DTSTART:20251102T090000
END:STANDARD
BEGIN:DAYLIGHT
TZOFFSETFROM:-0800
TZOFFSETTO:-0700
TZNAME:PDT
DTSTART:20260308T100000
END:DAYLIGHT
BEGIN:STANDARD
TZOFFSETFROM:-0700
TZOFFSETTO:-0800
TZNAME:PST
DTSTART:20261101T090000
END:STANDARD
BEGIN:DAYLIGHT
TZOFFSETFROM:-0800
TZOFFSETTO:-0700
TZNAME:PDT
DTSTART:20270314T100000
END:DAYLIGHT
BEGIN:STANDARD
TZOFFSETFROM:-0700
TZOFFSETTO:-0800
TZNAME:PST
DTSTART:20271107T090000
END:STANDARD
END:VTIMEZONE
BEGIN:VEVENT
DTSTART;TZID=America/Los_Angeles:20260404T140000
DTEND;TZID=America/Los_Angeles:20260404T170000
DTSTAMP:20260425T065804
CREATED:20260326T163342Z
LAST-MODIFIED:20260326T213223Z
UID:10008260-1775311200-1775322000@experienceredmond.com
SUMMARY:Artforms of India: Spring Workshop Bundle (3 Spring workshops)
DESCRIPTION:Reconnect with Your Creativity This Spring 🎨\nTrade the weekend hustle for pure\, artistic serenity this Spring. Join us at the Redmond Senior and Community Center on the first Saturday of every month for a curated journey through three unique and beautiful painting traditions of India. \nWhether you’re a seasoned artist or haven’t picked up a brush since school\, you’ll leave each session with a finished masterpiece and a calm mind. \nThe “Spring Art Series” Experience:\n3 Traditions: Explore a different Indian art style each month.\n3 Keepsakes: Create keepsake paintings to brighten your home\nTotal Immersion: All premium materials and expert guidance provided—just bring your curiosity. \nSpring Term Schedule\nFirst Saturday of each month from 2 to 5 pm.\nApril 4 – Chitrakathi Painting (Maharashtra)​\nMay 2 – Assamese Scroll Painting (Assam)​\nJune 6 – Phad Painting (Rajasthan) + Closing Celebration​\n​Take home three beautiful paintings\, each showcasing a unique Indian art form—designed to bring vibrant color and timeless beauty to your walls. \nCome to one workshop or come to all three!\nAll details and registration here. \nLook forward to creating together and celebrate Indian Art!\n– Purnakala School of Indian Art
URL:https://experienceredmond.com/event/artforms-of-india-spring-workshop-bundle/
LOCATION:Redmond Senior & Community Center\, 8703 160th Ave NE\, Redmond\, WA\, 98052\, United States
CATEGORIES:Community & Culture,Redmond Arts
ATTACH;FMTTYPE=image/jpeg:https://experienceredmond.com/wp-content/uploads/2026/03/gMjKVQrTJ6JpgyobEtCyyZ.jpeg
END:VEVENT
BEGIN:VEVENT
DTSTART;TZID=America/Los_Angeles:20260425T110000
DTEND;TZID=America/Los_Angeles:20260425T140000
DTSTAMP:20260425T065804
CREATED:20260420T151710Z
LAST-MODIFIED:20260420T151908Z
UID:10010015-1777114800-1777125600@experienceredmond.com
SUMMARY:Spring Studio workshop: Oil Pastel & Watercolor
DESCRIPTION:Explore the magic of mixed media this spring!\nIn this free hands-on workshop\, you’ll combine oil pastel + watercolor to create vibrant still lifes and blooming landscapes—featuring almond blossoms and local flowering branches. \nLayer bold pastel marks\, then watch watercolor glide around them. The result? Beautiful contrast\, texture\, and natural separation that bring your work to life. \n🎨 What’s Provided\n• Oil pastels\n• Watercolor paints\n• Brushes & water containers\n• Spring-inspired reference images \n✨ Inspired By\n• Vincent van Gogh’s Almond Blossom\n• Traditional floral still life\n• Seasonal plants from our local surroundings \nNo pressure\, no perfect outcome—just experimentation\, observation\, and expressive mark-making.
URL:https://experienceredmond.com/event/spring-studio-workshop-oil-pastel-watercolor/
LOCATION:VALA Art Center\, 8020 161st Avenue NE #104\, Redmond\, WA\, 98052\, United States
CATEGORIES:Community & Culture,Kids & Family,Redmond Arts
ATTACH;FMTTYPE=image/png:https://experienceredmond.com/wp-content/uploads/2026/04/Untitled-design-1.png
END:VEVENT
BEGIN:VEVENT
DTSTART;TZID=America/Los_Angeles:20260501T190000
DTEND;TZID=America/Los_Angeles:20260501T210000
DTSTAMP:20260425T065804
CREATED:20260416T192044Z
LAST-MODIFIED:20260416T192236Z
UID:10010008-1777662000-1777669200@experienceredmond.com
SUMMARY:Don't Let The Pigeon Drive The Bus! Theatre for Young Audiences
DESCRIPTION:Show Dates: \n\nFri\, May 1\, 7pm – 9pm\nSat\, May 2\, 2pm – 4pm\nSat\, May 2\, 7pm – 9pm\nSun\, May 3\, 5pm – 7pm\nTue\, May 5\, 10am – 12pm\nWed\, May 6\, 10am – 12pm\nThu\, May 7\, 10am – 12pm\n\nWhatever you do\, don’t let the Pigeon star in his own musical production! With a script written by Mo Willems\, the creator of the #1 New York Times best-selling\, Caldecott Honor award-winning “Pigeon” picture books\, and featuring music by Deborah Wicks La Puma (Elephant & Piggie’s We Are in a Play!)\, Don’t Let the Pigeon Drive the Bus! The Musical! is even more fun than staying up late and having a hot dog party! \nIt’s not easy being the Pigeon-you never get to do ANYTHING! But when the Bus Driver has a crisis that threatens to make her passengers (gasp!) late\, maybe that wily bird CAN do something. \nFeaturing an innovative mix of songs\, and feathers\, Don’t Let the Pigeon Drive the Bus! The Musical! is sure to get everyone’s wings flapping. \nGroup rates are available! Please email businessmanager@redmondacademy.org for more details. \nRated G
URL:https://experienceredmond.com/event/dont-let-the-pigeon-drive-the-bus-theatre-for-young-audiences/2026-05-01/
LOCATION:Redmond Academy of Theatre Arts\, 18001 NE 76th St\, Suite 100\, Redmond\, WA\, 98052
CATEGORIES:Kids & Family,Redmond Arts
ATTACH;FMTTYPE=image/png:https://experienceredmond.com/wp-content/uploads/2026/04/Pigeon-Poster-No-Ticketing-e1776367237360.png
END:VEVENT
BEGIN:VEVENT
DTSTART;TZID=America/Los_Angeles:20260502T140000
DTEND;TZID=America/Los_Angeles:20260502T160000
DTSTAMP:20260425T065804
CREATED:20260416T192044Z
LAST-MODIFIED:20260416T192236Z
UID:10010009-1777730400-1777737600@experienceredmond.com
SUMMARY:Don't Let The Pigeon Drive The Bus! Theatre for Young Audiences
DESCRIPTION:Show Dates: \n\nFri\, May 1\, 7pm – 9pm\nSat\, May 2\, 2pm – 4pm\nSat\, May 2\, 7pm – 9pm\nSun\, May 3\, 5pm – 7pm\nTue\, May 5\, 10am – 12pm\nWed\, May 6\, 10am – 12pm\nThu\, May 7\, 10am – 12pm\n\nWhatever you do\, don’t let the Pigeon star in his own musical production! With a script written by Mo Willems\, the creator of the #1 New York Times best-selling\, Caldecott Honor award-winning “Pigeon” picture books\, and featuring music by Deborah Wicks La Puma (Elephant & Piggie’s We Are in a Play!)\, Don’t Let the Pigeon Drive the Bus! The Musical! is even more fun than staying up late and having a hot dog party! \nIt’s not easy being the Pigeon-you never get to do ANYTHING! But when the Bus Driver has a crisis that threatens to make her passengers (gasp!) late\, maybe that wily bird CAN do something. \nFeaturing an innovative mix of songs\, and feathers\, Don’t Let the Pigeon Drive the Bus! The Musical! is sure to get everyone’s wings flapping. \nGroup rates are available! Please email businessmanager@redmondacademy.org for more details. \nRated G
URL:https://experienceredmond.com/event/dont-let-the-pigeon-drive-the-bus-theatre-for-young-audiences/2026-05-02/1/
LOCATION:Redmond Academy of Theatre Arts\, 18001 NE 76th St\, Suite 100\, Redmond\, WA\, 98052
CATEGORIES:Kids & Family,Redmond Arts
ATTACH;FMTTYPE=image/png:https://experienceredmond.com/wp-content/uploads/2026/04/Pigeon-Poster-No-Ticketing-e1776367237360.png
END:VEVENT
BEGIN:VEVENT
DTSTART;TZID=America/Los_Angeles:20260502T190000
DTEND;TZID=America/Los_Angeles:20260502T210000
DTSTAMP:20260425T065804
CREATED:20260416T192044Z
LAST-MODIFIED:20260416T192236Z
UID:10010014-1777748400-1777755600@experienceredmond.com
SUMMARY:Don't Let The Pigeon Drive The Bus! Theatre for Young Audiences
DESCRIPTION:Show Dates: \n\nFri\, May 1\, 7pm – 9pm\nSat\, May 2\, 2pm – 4pm\nSat\, May 2\, 7pm – 9pm\nSun\, May 3\, 5pm – 7pm\nTue\, May 5\, 10am – 12pm\nWed\, May 6\, 10am – 12pm\nThu\, May 7\, 10am – 12pm\n\nWhatever you do\, don’t let the Pigeon star in his own musical production! With a script written by Mo Willems\, the creator of the #1 New York Times best-selling\, Caldecott Honor award-winning “Pigeon” picture books\, and featuring music by Deborah Wicks La Puma (Elephant & Piggie’s We Are in a Play!)\, Don’t Let the Pigeon Drive the Bus! The Musical! is even more fun than staying up late and having a hot dog party! \nIt’s not easy being the Pigeon-you never get to do ANYTHING! But when the Bus Driver has a crisis that threatens to make her passengers (gasp!) late\, maybe that wily bird CAN do something. \nFeaturing an innovative mix of songs\, and feathers\, Don’t Let the Pigeon Drive the Bus! The Musical! is sure to get everyone’s wings flapping. \nGroup rates are available! Please email businessmanager@redmondacademy.org for more details. \nRated G
URL:https://experienceredmond.com/event/dont-let-the-pigeon-drive-the-bus-theatre-for-young-audiences/2026-05-02/2/
LOCATION:Redmond Academy of Theatre Arts\, 18001 NE 76th St\, Suite 100\, Redmond\, WA\, 98052
CATEGORIES:Kids & Family,Redmond Arts
ATTACH;FMTTYPE=image/png:https://experienceredmond.com/wp-content/uploads/2026/04/Pigeon-Poster-No-Ticketing-e1776367237360.png
END:VEVENT
BEGIN:VEVENT
DTSTART;TZID=America/Los_Angeles:20260503T170000
DTEND;TZID=America/Los_Angeles:20260503T190000
DTSTAMP:20260425T065804
CREATED:20260416T192044Z
LAST-MODIFIED:20260416T192236Z
UID:10010010-1777827600-1777834800@experienceredmond.com
SUMMARY:Don't Let The Pigeon Drive The Bus! Theatre for Young Audiences
DESCRIPTION:Show Dates: \n\nFri\, May 1\, 7pm – 9pm\nSat\, May 2\, 2pm – 4pm\nSat\, May 2\, 7pm – 9pm\nSun\, May 3\, 5pm – 7pm\nTue\, May 5\, 10am – 12pm\nWed\, May 6\, 10am – 12pm\nThu\, May 7\, 10am – 12pm\n\nWhatever you do\, don’t let the Pigeon star in his own musical production! With a script written by Mo Willems\, the creator of the #1 New York Times best-selling\, Caldecott Honor award-winning “Pigeon” picture books\, and featuring music by Deborah Wicks La Puma (Elephant & Piggie’s We Are in a Play!)\, Don’t Let the Pigeon Drive the Bus! The Musical! is even more fun than staying up late and having a hot dog party! \nIt’s not easy being the Pigeon-you never get to do ANYTHING! But when the Bus Driver has a crisis that threatens to make her passengers (gasp!) late\, maybe that wily bird CAN do something. \nFeaturing an innovative mix of songs\, and feathers\, Don’t Let the Pigeon Drive the Bus! The Musical! is sure to get everyone’s wings flapping. \nGroup rates are available! Please email businessmanager@redmondacademy.org for more details. \nRated G
URL:https://experienceredmond.com/event/dont-let-the-pigeon-drive-the-bus-theatre-for-young-audiences/2026-05-03/
LOCATION:Redmond Academy of Theatre Arts\, 18001 NE 76th St\, Suite 100\, Redmond\, WA\, 98052
CATEGORIES:Kids & Family,Redmond Arts
ATTACH;FMTTYPE=image/png:https://experienceredmond.com/wp-content/uploads/2026/04/Pigeon-Poster-No-Ticketing-e1776367237360.png
END:VEVENT
BEGIN:VEVENT
DTSTART;TZID=America/Los_Angeles:20260505T100000
DTEND;TZID=America/Los_Angeles:20260505T120000
DTSTAMP:20260425T065804
CREATED:20260416T192044Z
LAST-MODIFIED:20260416T192236Z
UID:10010011-1777975200-1777982400@experienceredmond.com
SUMMARY:Don't Let The Pigeon Drive The Bus! Theatre for Young Audiences
DESCRIPTION:Show Dates: \n\nFri\, May 1\, 7pm – 9pm\nSat\, May 2\, 2pm – 4pm\nSat\, May 2\, 7pm – 9pm\nSun\, May 3\, 5pm – 7pm\nTue\, May 5\, 10am – 12pm\nWed\, May 6\, 10am – 12pm\nThu\, May 7\, 10am – 12pm\n\nWhatever you do\, don’t let the Pigeon star in his own musical production! With a script written by Mo Willems\, the creator of the #1 New York Times best-selling\, Caldecott Honor award-winning “Pigeon” picture books\, and featuring music by Deborah Wicks La Puma (Elephant & Piggie’s We Are in a Play!)\, Don’t Let the Pigeon Drive the Bus! The Musical! is even more fun than staying up late and having a hot dog party! \nIt’s not easy being the Pigeon-you never get to do ANYTHING! But when the Bus Driver has a crisis that threatens to make her passengers (gasp!) late\, maybe that wily bird CAN do something. \nFeaturing an innovative mix of songs\, and feathers\, Don’t Let the Pigeon Drive the Bus! The Musical! is sure to get everyone’s wings flapping. \nGroup rates are available! Please email businessmanager@redmondacademy.org for more details. \nRated G
URL:https://experienceredmond.com/event/dont-let-the-pigeon-drive-the-bus-theatre-for-young-audiences/2026-05-05/
LOCATION:Redmond Academy of Theatre Arts\, 18001 NE 76th St\, Suite 100\, Redmond\, WA\, 98052
CATEGORIES:Kids & Family,Redmond Arts
ATTACH;FMTTYPE=image/png:https://experienceredmond.com/wp-content/uploads/2026/04/Pigeon-Poster-No-Ticketing-e1776367237360.png
END:VEVENT
BEGIN:VEVENT
DTSTART;TZID=America/Los_Angeles:20260506T100000
DTEND;TZID=America/Los_Angeles:20260506T120000
DTSTAMP:20260425T065804
CREATED:20260416T192044Z
LAST-MODIFIED:20260416T192236Z
UID:10010012-1778061600-1778068800@experienceredmond.com
SUMMARY:Don't Let The Pigeon Drive The Bus! Theatre for Young Audiences
DESCRIPTION:Show Dates: \n\nFri\, May 1\, 7pm – 9pm\nSat\, May 2\, 2pm – 4pm\nSat\, May 2\, 7pm – 9pm\nSun\, May 3\, 5pm – 7pm\nTue\, May 5\, 10am – 12pm\nWed\, May 6\, 10am – 12pm\nThu\, May 7\, 10am – 12pm\n\nWhatever you do\, don’t let the Pigeon star in his own musical production! With a script written by Mo Willems\, the creator of the #1 New York Times best-selling\, Caldecott Honor award-winning “Pigeon” picture books\, and featuring music by Deborah Wicks La Puma (Elephant & Piggie’s We Are in a Play!)\, Don’t Let the Pigeon Drive the Bus! The Musical! is even more fun than staying up late and having a hot dog party! \nIt’s not easy being the Pigeon-you never get to do ANYTHING! But when the Bus Driver has a crisis that threatens to make her passengers (gasp!) late\, maybe that wily bird CAN do something. \nFeaturing an innovative mix of songs\, and feathers\, Don’t Let the Pigeon Drive the Bus! The Musical! is sure to get everyone’s wings flapping. \nGroup rates are available! Please email businessmanager@redmondacademy.org for more details. \nRated G
URL:https://experienceredmond.com/event/dont-let-the-pigeon-drive-the-bus-theatre-for-young-audiences/2026-05-06/
LOCATION:Redmond Academy of Theatre Arts\, 18001 NE 76th St\, Suite 100\, Redmond\, WA\, 98052
CATEGORIES:Kids & Family,Redmond Arts
ATTACH;FMTTYPE=image/png:https://experienceredmond.com/wp-content/uploads/2026/04/Pigeon-Poster-No-Ticketing-e1776367237360.png
END:VEVENT
BEGIN:VEVENT
DTSTART;TZID=America/Los_Angeles:20260507T100000
DTEND;TZID=America/Los_Angeles:20260507T120000
DTSTAMP:20260425T065804
CREATED:20260416T192044Z
LAST-MODIFIED:20260416T192236Z
UID:10010013-1778148000-1778155200@experienceredmond.com
SUMMARY:Don't Let The Pigeon Drive The Bus! Theatre for Young Audiences
DESCRIPTION:Show Dates: \n\nFri\, May 1\, 7pm – 9pm\nSat\, May 2\, 2pm – 4pm\nSat\, May 2\, 7pm – 9pm\nSun\, May 3\, 5pm – 7pm\nTue\, May 5\, 10am – 12pm\nWed\, May 6\, 10am – 12pm\nThu\, May 7\, 10am – 12pm\n\nWhatever you do\, don’t let the Pigeon star in his own musical production! With a script written by Mo Willems\, the creator of the #1 New York Times best-selling\, Caldecott Honor award-winning “Pigeon” picture books\, and featuring music by Deborah Wicks La Puma (Elephant & Piggie’s We Are in a Play!)\, Don’t Let the Pigeon Drive the Bus! The Musical! is even more fun than staying up late and having a hot dog party! \nIt’s not easy being the Pigeon-you never get to do ANYTHING! But when the Bus Driver has a crisis that threatens to make her passengers (gasp!) late\, maybe that wily bird CAN do something. \nFeaturing an innovative mix of songs\, and feathers\, Don’t Let the Pigeon Drive the Bus! The Musical! is sure to get everyone’s wings flapping. \nGroup rates are available! Please email businessmanager@redmondacademy.org for more details. \nRated G
URL:https://experienceredmond.com/event/dont-let-the-pigeon-drive-the-bus-theatre-for-young-audiences/2026-05-07/
LOCATION:Redmond Academy of Theatre Arts\, 18001 NE 76th St\, Suite 100\, Redmond\, WA\, 98052
CATEGORIES:Kids & Family,Redmond Arts
ATTACH;FMTTYPE=image/png:https://experienceredmond.com/wp-content/uploads/2026/04/Pigeon-Poster-No-Ticketing-e1776367237360.png
END:VEVENT
BEGIN:VEVENT
DTSTART;TZID=America/Los_Angeles:20260819T173000
DTEND;TZID=America/Los_Angeles:20260819T193000
DTSTAMP:20260425T065804
CREATED:20260224T161707Z
LAST-MODIFIED:20260224T161718Z
UID:10008224-1787160600-1787167800@experienceredmond.com
SUMMARY:Marymoor Live Concert Series: Trombone Shorty & Orleans Avenue And St. Paul & The Broken Bones
DESCRIPTION:Trombone Shorty & Orleans Avenue And St. Paul & The Broken Bones\nwith St. Paul and the Broken Bones\, Tre Burt \nDoors Open 4:00pm / Show Starts 5:30pm \nClick here to get tickets
URL:https://experienceredmond.com/event/marymoor-live-concert-series-trombone-shorty-orleans-avenue-and-st-paul-the-broken-bones/
LOCATION:Marymoor Ampitheater\, 6046 West Lake Sammamish Pkwy NE\, Redmond\, WA\, 98052
CATEGORIES:Redmond Arts
ATTACH;FMTTYPE=image/jpeg:https://experienceredmond.com/wp-content/uploads/2024/06/marymoor.jpg
END:VEVENT
END:VCALENDAR