BEGIN:VCALENDAR
VERSION:2.0
PRODID:-//Experience Redmond - ECPv6.15.18//NONSGML v1.0//EN
CALSCALE:GREGORIAN
METHOD:PUBLISH
X-WR-CALNAME:Experience Redmond
X-ORIGINAL-URL:https://experienceredmond.com
X-WR-CALDESC:Events for Experience Redmond
REFRESH-INTERVAL;VALUE=DURATION:PT1H
X-Robots-Tag:noindex
X-PUBLISHED-TTL:PT1H
BEGIN:VTIMEZONE
TZID:America/Los_Angeles
BEGIN:DAYLIGHT
TZOFFSETFROM:-0800
TZOFFSETTO:-0700
TZNAME:PDT
DTSTART:20250309T100000
END:DAYLIGHT
BEGIN:STANDARD
TZOFFSETFROM:-0700
TZOFFSETTO:-0800
TZNAME:PST
DTSTART:20251102T090000
END:STANDARD
BEGIN:DAYLIGHT
TZOFFSETFROM:-0800
TZOFFSETTO:-0700
TZNAME:PDT
DTSTART:20260308T100000
END:DAYLIGHT
BEGIN:STANDARD
TZOFFSETFROM:-0700
TZOFFSETTO:-0800
TZNAME:PST
DTSTART:20261101T090000
END:STANDARD
BEGIN:DAYLIGHT
TZOFFSETFROM:-0800
TZOFFSETTO:-0700
TZNAME:PDT
DTSTART:20270314T100000
END:DAYLIGHT
BEGIN:STANDARD
TZOFFSETFROM:-0700
TZOFFSETTO:-0800
TZNAME:PST
DTSTART:20271107T090000
END:STANDARD
END:VTIMEZONE
BEGIN:VEVENT
DTSTART;TZID=America/Los_Angeles:20260703T190000
DTEND;TZID=America/Los_Angeles:20260703T213000
DTSTAMP:20260425T064849
CREATED:20240328T172633Z
LAST-MODIFIED:20260407T210748Z
UID:10009029-1783105200-1783114200@experienceredmond.com
SUMMARY:JBMV Junior Takeover
DESCRIPTION:Get ready for an electrifying event as the JBMV Junior Takeover hits the Jerry Baker Memorial Velodrome in Redmond! Join us for an action-packed weekend of thrilling races featuring talented junior cyclists. Mark your calendars for July 4th at 7pm\, July 5th at 5pm\, and July 6th at 2pm\, and witness these young athletes showcase their skills on the track. Don’t miss this exciting opportunity to support the next generation of cycling stars as they compete in an atmosphere of excitement and camaraderie.
URL:https://experienceredmond.com/event/jbmv-junior-takeover/2026-07-03/
LOCATION:Jerry Baker Memorial Velodrome\, Velodrome 6046 West Lake Sammamish Pkwy NE\, Redmond\, WA\, 98052
CATEGORIES:Featured Events,Sports & Fitness
ATTACH;FMTTYPE=image/jpeg:https://experienceredmond.com/wp-content/uploads/2024/03/366110897_1268619783826314_8803804593930232292_n.jpg
END:VEVENT
BEGIN:VEVENT
DTSTART;TZID=America/Los_Angeles:20260704T170000
DTEND;TZID=America/Los_Angeles:20260704T193000
DTSTAMP:20260425T064849
CREATED:20240328T172633Z
LAST-MODIFIED:20260407T210748Z
UID:10009030-1783184400-1783193400@experienceredmond.com
SUMMARY:JBMV Junior Takeover
DESCRIPTION:Get ready for an electrifying event as the JBMV Junior Takeover hits the Jerry Baker Memorial Velodrome in Redmond! Join us for an action-packed weekend of thrilling races featuring talented junior cyclists. Mark your calendars for July 4th at 7pm\, July 5th at 5pm\, and July 6th at 2pm\, and witness these young athletes showcase their skills on the track. Don’t miss this exciting opportunity to support the next generation of cycling stars as they compete in an atmosphere of excitement and camaraderie.
URL:https://experienceredmond.com/event/jbmv-junior-takeover/2026-07-04/
LOCATION:Jerry Baker Memorial Velodrome\, Velodrome 6046 West Lake Sammamish Pkwy NE\, Redmond\, WA\, 98052
CATEGORIES:Featured Events,Sports & Fitness
ATTACH;FMTTYPE=image/jpeg:https://experienceredmond.com/wp-content/uploads/2024/03/366110897_1268619783826314_8803804593930232292_n.jpg
END:VEVENT
BEGIN:VEVENT
DTSTART;TZID=America/Los_Angeles:20260705T140000
DTEND;TZID=America/Los_Angeles:20260705T163000
DTSTAMP:20260425T064849
CREATED:20240328T172633Z
LAST-MODIFIED:20260407T210748Z
UID:10009031-1783260000-1783269000@experienceredmond.com
SUMMARY:JBMV Junior Takeover
DESCRIPTION:Get ready for an electrifying event as the JBMV Junior Takeover hits the Jerry Baker Memorial Velodrome in Redmond! Join us for an action-packed weekend of thrilling races featuring talented junior cyclists. Mark your calendars for July 4th at 7pm\, July 5th at 5pm\, and July 6th at 2pm\, and witness these young athletes showcase their skills on the track. Don’t miss this exciting opportunity to support the next generation of cycling stars as they compete in an atmosphere of excitement and camaraderie.
URL:https://experienceredmond.com/event/jbmv-junior-takeover/2026-07-05/
LOCATION:Jerry Baker Memorial Velodrome\, Velodrome 6046 West Lake Sammamish Pkwy NE\, Redmond\, WA\, 98052
CATEGORIES:Featured Events,Sports & Fitness
ATTACH;FMTTYPE=image/jpeg:https://experienceredmond.com/wp-content/uploads/2024/03/366110897_1268619783826314_8803804593930232292_n.jpg
END:VEVENT
END:VCALENDAR