BEGIN:VCALENDAR
VERSION:2.0
PRODID:-//Experience Redmond - ECPv6.15.18//NONSGML v1.0//EN
CALSCALE:GREGORIAN
METHOD:PUBLISH
X-WR-CALNAME:Experience Redmond
X-ORIGINAL-URL:https://experienceredmond.com
X-WR-CALDESC:Events for Experience Redmond
REFRESH-INTERVAL;VALUE=DURATION:PT1H
X-Robots-Tag:noindex
X-PUBLISHED-TTL:PT1H
BEGIN:VTIMEZONE
TZID:America/Los_Angeles
BEGIN:DAYLIGHT
TZOFFSETFROM:-0800
TZOFFSETTO:-0700
TZNAME:PDT
DTSTART:20250309T100000
END:DAYLIGHT
BEGIN:STANDARD
TZOFFSETFROM:-0700
TZOFFSETTO:-0800
TZNAME:PST
DTSTART:20251102T090000
END:STANDARD
BEGIN:DAYLIGHT
TZOFFSETFROM:-0800
TZOFFSETTO:-0700
TZNAME:PDT
DTSTART:20260308T100000
END:DAYLIGHT
BEGIN:STANDARD
TZOFFSETFROM:-0700
TZOFFSETTO:-0800
TZNAME:PST
DTSTART:20261101T090000
END:STANDARD
BEGIN:DAYLIGHT
TZOFFSETFROM:-0800
TZOFFSETTO:-0700
TZNAME:PDT
DTSTART:20270314T100000
END:DAYLIGHT
BEGIN:STANDARD
TZOFFSETFROM:-0700
TZOFFSETTO:-0800
TZNAME:PST
DTSTART:20271107T090000
END:STANDARD
END:VTIMEZONE
BEGIN:VEVENT
DTSTART;TZID=America/Los_Angeles:20260723T153000
DTEND;TZID=America/Los_Angeles:20260723T173000
DTSTAMP:20260419T172144
CREATED:20250110T225506Z
LAST-MODIFIED:20260413T203044Z
UID:10009082-1784820600-1784827800@experienceredmond.com
SUMMARY:Beyond Binary Connections
DESCRIPTION:Come as you are to this bimonthly no-expectations social space for our transgender and non-binary community. Enjoy good food\, board and card games\, and chill conversation with others in the queer community. You are also welcome to bring a book to read or an art project to work on while quietly enjoying the company of other gender-diverse folks. Feel free to bring a game of your own to share or just hang out and chat!\nEach meet-up will be at a different location\, so sign up for Pride Across the Bridge newsletter or watch our website. Meetings on the fourth Thursday of each month are hosted at Redmond Library in meeting room 1. Masks are encouraged to keep our community safe! All ages are welcome to come. This space is led by our Good Vibes Fairy\, Milo! Please observe Pride Across the Bridge general event rules. Snacks and drinks are occasionally provided in this space.\n-This is a safe space for all. Any behavior that goes against the 2SLGBTQIA+ and BIPOC community will result in an individual being asked to leave. \n-All ages are welcome\, but we ask minors or other folks who are under legal guardianship be accompanied by a guardian or friend when attending this social event. Youth can be accompanied by another youth. Guardians\, friends or caretakers don’t need to be transgender or non-binary. \nClick here to find more information.
URL:https://experienceredmond.com/event/beyond-binary-connections/2026-07-23/
LOCATION:Redmond Library\, 15990 NE 85th St\, Redmond\, WA\, 98052\, United States
CATEGORIES:Community & Culture
ATTACH;FMTTYPE=image/jpeg:https://experienceredmond.com/wp-content/uploads/2025/01/Pride-Across-The-Bridge-Beyond-Binary-Connections-Photo-B.jpeg
END:VEVENT
BEGIN:VEVENT
DTSTART;VALUE=DATE:20260724
DTEND;VALUE=DATE:20260725
DTSTAMP:20260419T172144
CREATED:20240320T154954Z
LAST-MODIFIED:20260304T163549Z
UID:10008239-1784908800-1784930400@experienceredmond.com
SUMMARY:Derby Days
DESCRIPTION:Derby Days is an event that is rooted in the spirit of competition that celebrates the uniqueness of Redmond through parades\, races\, contests\, game booths\, carnival rides\, arts\, music\, food and much more! It all started in 1940 as a bike derby and parade for the community to raise money for holiday decorations and athletic equipment. Today\, Derby Days celebrates the spirit of friendly competition and offers all of Redmond an opportunity to enjoy a fun\, summer festival.
URL:https://experienceredmond.com/event/derby-days/2026-07-24/
LOCATION:Redmond City Hall Campus\, 15670 NE 85th St\, Redmond\, WA\, 98052\, United States
CATEGORIES:Community & Culture,Featured Events
ATTACH;FMTTYPE=image/jpeg:https://experienceredmond.com/wp-content/uploads/2024/03/Derby-Days-ferris-wheel-family.jpg-scaled.jpeg
END:VEVENT
BEGIN:VEVENT
DTSTART;TZID=America/Los_Angeles:20260801T063000
DTEND;TZID=America/Los_Angeles:20260801T120000
DTSTAMP:20260419T172144
CREATED:20240702T222225Z
LAST-MODIFIED:20260402T204026Z
UID:10008270-1785565800-1785585600@experienceredmond.com
SUMMARY:Craft Classic Half Marathon & 5K
DESCRIPTION:Indulge in two of Seattle’s true loves: Running and Craft Beer sponsored by Georgetown Brewery! The Craft Classic Half Marathon and 5K offers a fast Seattle area course with riverside views. This race is flat and fast and offers plenty to do post-race in charming downtown Redmond. Craft Classic Seattle has become a local classic for many runners.
URL:https://experienceredmond.com/event/craft-classic-half-marathon-5k/2026-08-01/
LOCATION:Redmond Downtown Park\, 16101 Redmond Way\, Redmond\, WA\, 98052
CATEGORIES:Sports & Fitness
ATTACH;FMTTYPE=image/jpeg:https://experienceredmond.com/wp-content/uploads/2024/07/maxresdefault.jpg
END:VEVENT
BEGIN:VEVENT
DTSTART;TZID=America/Los_Angeles:20260808T120000
DTEND;TZID=America/Los_Angeles:20260808T210000
DTSTAMP:20260419T172144
CREATED:20240326T213532Z
LAST-MODIFIED:20260402T230712Z
UID:10008271-1786190400-1786222800@experienceredmond.com
SUMMARY:Ananda Mela: Joyful Festival of India
DESCRIPTION:Redmond City Hall campus will play host to Ananda Mela: Joyful Festival of India\, presented to you by the Vedic Cultural Center (VCC) of Sammamish in collaboration with the City of Redmond. The founder and visionary leader of Ananda Mela\, Harry Terhanian\, and dozens of tireless volunteers of VCC have worked year-round to offer this beautiful\, free festival to Redmond’s residents and visitors this weekend. Ananda Mela has been conducted annually since 2010. Ananda Mela aims to showcase Indian arts and culture with intricately crafted displays\, entertainment on multiple stages\, participatory activities and contests for everyone\, informative and enlightening presentations\, and other memorable experiences including tasty food and irresistible shopping.
URL:https://experienceredmond.com/event/ananda-mela-joyful-festival-of-india/2026-08-08/
LOCATION:Redmond City Hall Campus\, 15670 NE 85th St\, Redmond\, WA\, 98052\, United States
CATEGORIES:Community & Culture,Featured Events
ATTACH;FMTTYPE=image/jpeg:https://experienceredmond.com/wp-content/uploads/2024/03/AM2024_FBCover.jpeg
END:VEVENT
BEGIN:VEVENT
DTSTART;TZID=America/Los_Angeles:20260907T083000
DTEND;TZID=America/Los_Angeles:20260907T120000
DTSTAMP:20260419T172144
CREATED:20240327T151412Z
LAST-MODIFIED:20250924T221151Z
UID:10003079-1788769800-1788782400@experienceredmond.com
SUMMARY:Redmond Harvest Half Marathon
DESCRIPTION:Harvest the fruits of your training at the Redmond Harvest Half Marathon\, to be held Labor Day Monday (September 7\, 2026)! Starting from Redmond’s Marymoor Park\, the Harvest Half is a fast\, flat out-and-back half-marathon that goes west out of Marymoor Park and north on the Sammamish River Trail before returning to the start. Whether this is your first half-marathon\, or you are experienced with this distance\, this 13.1-mile course will give you an opportunity for your running goals to come to fruition. Come support a local race put on by Lake Sammamish Run Club and Seattle United Runners and finish your summer with a bang.
URL:https://experienceredmond.com/event/redmond-harvest-half-marathon/
LOCATION:Marymoor Park\, 6046 W LAKE SAMMAMISH PKWY NE\, REDMOND\, WA\, 98052
CATEGORIES:Sports & Fitness
ATTACH;FMTTYPE=image/jpeg:https://experienceredmond.com/wp-content/uploads/2024/03/2024HHstart.jpg-scaled.jpeg
END:VEVENT
END:VCALENDAR