BEGIN:VCALENDAR
VERSION:2.0
PRODID:-//Experience Redmond - ECPv6.15.18//NONSGML v1.0//EN
CALSCALE:GREGORIAN
METHOD:PUBLISH
X-WR-CALNAME:Experience Redmond
X-ORIGINAL-URL:https://experienceredmond.com
X-WR-CALDESC:Events for Experience Redmond
REFRESH-INTERVAL;VALUE=DURATION:PT1H
X-Robots-Tag:noindex
X-PUBLISHED-TTL:PT1H
BEGIN:VTIMEZONE
TZID:America/Los_Angeles
BEGIN:DAYLIGHT
TZOFFSETFROM:-0800
TZOFFSETTO:-0700
TZNAME:PDT
DTSTART:20230312T100000
END:DAYLIGHT
BEGIN:STANDARD
TZOFFSETFROM:-0700
TZOFFSETTO:-0800
TZNAME:PST
DTSTART:20231105T090000
END:STANDARD
BEGIN:DAYLIGHT
TZOFFSETFROM:-0800
TZOFFSETTO:-0700
TZNAME:PDT
DTSTART:20240310T100000
END:DAYLIGHT
BEGIN:STANDARD
TZOFFSETFROM:-0700
TZOFFSETTO:-0800
TZNAME:PST
DTSTART:20241103T090000
END:STANDARD
BEGIN:DAYLIGHT
TZOFFSETFROM:-0800
TZOFFSETTO:-0700
TZNAME:PDT
DTSTART:20250309T100000
END:DAYLIGHT
BEGIN:STANDARD
TZOFFSETFROM:-0700
TZOFFSETTO:-0800
TZNAME:PST
DTSTART:20251102T090000
END:STANDARD
END:VTIMEZONE
BEGIN:VEVENT
DTSTART;TZID=America/Los_Angeles:20241013T100000
DTEND;TZID=America/Los_Angeles:20241013T170000
DTSTAMP:20260424T040316
CREATED:20240828T225853Z
LAST-MODIFIED:20240828T230002Z
UID:10003385-1728813600-1728838800@experienceredmond.com
SUMMARY:The Gundam Base Mobile USA Tour
DESCRIPTION:Mobile Suit Gundam Lands at Redmond as part of the Gundam Base Mobile USA Tour\nFrom Saturday\, October 12 to Sunday\, October 13\, the Gundam Mobile Base Tour USA is rolling into Redmond\, WA to offer Gundam fans of all ages the ultimate GUNPLA experience. \nAttendees will immerse themselves with a FREE hands-on GUNPLA workshops where they can build the iconic RX-78-2 Gundam\, grab exclusive model kits available to buy at tour locations\, snap epic photos with a nearly 6-foot tall RX-78-2 Gundam Fighter\, play the latest Gundam video games\, and immerse themselves in a thrilling VR experience! Participants can also virtually enter the Gundam world with an exclusive photo opp that lets them select their background and receive a print or digital version of their pic. \nAll attendees are admitted on a first-come\, first-served basis for activities and product sales. Please note – this event accepts cashless payment only.
URL:https://experienceredmond.com/event/the-gundam-base-mobile-usa-tour-2/
LOCATION:HobbyTown\, 7425 166th Ave NE\, Redmond\, WA\, 98052\, United States
CATEGORIES:Community & Culture,Redmond Arts
ATTACH;FMTTYPE=image/png:https://experienceredmond.com/wp-content/uploads/2024/08/img_mv_sp.png
END:VEVENT
BEGIN:VEVENT
DTSTART;TZID=America/Los_Angeles:20241012T100000
DTEND;TZID=America/Los_Angeles:20241012T180000
DTSTAMP:20260424T040316
CREATED:20240828T225820Z
LAST-MODIFIED:20240828T230000Z
UID:10003384-1728727200-1728756000@experienceredmond.com
SUMMARY:The Gundam Base Mobile USA Tour
DESCRIPTION:Mobile Suit Gundam Lands at Redmond as part of the Gundam Base Mobile USA Tour\nFrom Saturday\, October 12 to Sunday\, October 13\, the Gundam Mobile Base Tour USA is rolling into Redmond\, WA to offer Gundam fans of all ages the ultimate GUNPLA experience. \nAttendees will immerse themselves with a FREE hands-on GUNPLA workshops where they can build the iconic RX-78-2 Gundam\, grab exclusive model kits available to buy at tour locations\, snap epic photos with a nearly 6-foot tall RX-78-2 Gundam Fighter\, play the latest Gundam video games\, and immerse themselves in a thrilling VR experience! Participants can also virtually enter the Gundam world with an exclusive photo opp that lets them select their background and receive a print or digital version of their pic. \nAll attendees are admitted on a first-come\, first-served basis for activities and product sales. Please note – this event accepts cashless payment only.
URL:https://experienceredmond.com/event/the-gundam-base-mobile-usa-tour/
LOCATION:HobbyTown\, 7425 166th Ave NE\, Redmond\, WA\, 98052\, United States
CATEGORIES:Community & Culture,Redmond Arts
ATTACH;FMTTYPE=image/png:https://experienceredmond.com/wp-content/uploads/2024/08/img_mv_sp.png
END:VEVENT
END:VCALENDAR