BEGIN:VCALENDAR
VERSION:2.0
PRODID:-//Experience Redmond - ECPv6.15.18//NONSGML v1.0//EN
CALSCALE:GREGORIAN
METHOD:PUBLISH
X-ORIGINAL-URL:https://experienceredmond.com
X-WR-CALDESC:Events for Experience Redmond
REFRESH-INTERVAL;VALUE=DURATION:PT1H
X-Robots-Tag:noindex
X-PUBLISHED-TTL:PT1H
BEGIN:VTIMEZONE
TZID:America/Los_Angeles
BEGIN:DAYLIGHT
TZOFFSETFROM:-0800
TZOFFSETTO:-0700
TZNAME:PDT
DTSTART:20230312T100000
END:DAYLIGHT
BEGIN:STANDARD
TZOFFSETFROM:-0700
TZOFFSETTO:-0800
TZNAME:PST
DTSTART:20231105T090000
END:STANDARD
BEGIN:DAYLIGHT
TZOFFSETFROM:-0800
TZOFFSETTO:-0700
TZNAME:PDT
DTSTART:20240310T100000
END:DAYLIGHT
BEGIN:STANDARD
TZOFFSETFROM:-0700
TZOFFSETTO:-0800
TZNAME:PST
DTSTART:20241103T090000
END:STANDARD
BEGIN:DAYLIGHT
TZOFFSETFROM:-0800
TZOFFSETTO:-0700
TZNAME:PDT
DTSTART:20250309T100000
END:DAYLIGHT
BEGIN:STANDARD
TZOFFSETFROM:-0700
TZOFFSETTO:-0800
TZNAME:PST
DTSTART:20251102T090000
END:STANDARD
BEGIN:DAYLIGHT
TZOFFSETFROM:-0800
TZOFFSETTO:-0700
TZNAME:PDT
DTSTART:20260308T100000
END:DAYLIGHT
BEGIN:STANDARD
TZOFFSETFROM:-0700
TZOFFSETTO:-0800
TZNAME:PST
DTSTART:20261101T090000
END:STANDARD
END:VTIMEZONE
BEGIN:VEVENT
DTSTART;TZID=America/Los_Angeles:20250212T190000
DTEND;TZID=America/Los_Angeles:20250212T210000
DTSTAMP:20260422T022328
CREATED:20240923T190449Z
LAST-MODIFIED:20250310T154643Z
UID:10003426-1739386800-1739394000@experienceredmond.com
SUMMARY:Cirque du Soleil KOOZA
DESCRIPTION:Experience Cirque du Soleil KOOZA under the Big Top at Marymoor Park! \nKOOZA combines acrobatic performance and the art of clowning while exploring fear\, identity\, recognition\, and power. The Innocent’s journey brings him into contact with comic characters from an electrifying world full of surprises. \nBuy Tickets Here
URL:https://experienceredmond.com/event/cirque-du-soleil-kooza/2025-02-12/
LOCATION:Marymoor Park\, 6046 W LAKE SAMMAMISH PKWY NE\, REDMOND\, WA\, 98052
ATTACH;FMTTYPE=image/jpeg:https://experienceredmond.com/wp-content/uploads/2024/09/03_Charivari_091-scaled.jpeg
END:VEVENT
BEGIN:VEVENT
DTSTART;TZID=America/Los_Angeles:20250209T170000
DTEND;TZID=America/Los_Angeles:20250209T190000
DTSTAMP:20260422T022328
CREATED:20240923T190449Z
LAST-MODIFIED:20250310T154643Z
UID:10003425-1739120400-1739127600@experienceredmond.com
SUMMARY:Cirque du Soleil KOOZA
DESCRIPTION:Experience Cirque du Soleil KOOZA under the Big Top at Marymoor Park! \nKOOZA combines acrobatic performance and the art of clowning while exploring fear\, identity\, recognition\, and power. The Innocent’s journey brings him into contact with comic characters from an electrifying world full of surprises. \nBuy Tickets Here
URL:https://experienceredmond.com/event/cirque-du-soleil-kooza/2025-02-09/2/
LOCATION:Marymoor Park\, 6046 W LAKE SAMMAMISH PKWY NE\, REDMOND\, WA\, 98052
ATTACH;FMTTYPE=image/jpeg:https://experienceredmond.com/wp-content/uploads/2024/09/03_Charivari_091-scaled.jpeg
END:VEVENT
BEGIN:VEVENT
DTSTART;TZID=America/Los_Angeles:20250209T130000
DTEND;TZID=America/Los_Angeles:20250209T150000
DTSTAMP:20260422T022328
CREATED:20240923T190449Z
LAST-MODIFIED:20250310T154643Z
UID:10003424-1739106000-1739113200@experienceredmond.com
SUMMARY:Cirque du Soleil KOOZA
DESCRIPTION:Experience Cirque du Soleil KOOZA under the Big Top at Marymoor Park! \nKOOZA combines acrobatic performance and the art of clowning while exploring fear\, identity\, recognition\, and power. The Innocent’s journey brings him into contact with comic characters from an electrifying world full of surprises. \nBuy Tickets Here
URL:https://experienceredmond.com/event/cirque-du-soleil-kooza/2025-02-09/1/
LOCATION:Marymoor Park\, 6046 W LAKE SAMMAMISH PKWY NE\, REDMOND\, WA\, 98052
ATTACH;FMTTYPE=image/jpeg:https://experienceredmond.com/wp-content/uploads/2024/09/03_Charivari_091-scaled.jpeg
END:VEVENT
BEGIN:VEVENT
DTSTART;TZID=America/Los_Angeles:20250208T200000
DTEND;TZID=America/Los_Angeles:20250208T220000
DTSTAMP:20260422T022328
CREATED:20240923T190449Z
LAST-MODIFIED:20250310T154643Z
UID:10003423-1739044800-1739052000@experienceredmond.com
SUMMARY:Cirque du Soleil KOOZA
DESCRIPTION:Experience Cirque du Soleil KOOZA under the Big Top at Marymoor Park! \nKOOZA combines acrobatic performance and the art of clowning while exploring fear\, identity\, recognition\, and power. The Innocent’s journey brings him into contact with comic characters from an electrifying world full of surprises. \nBuy Tickets Here
URL:https://experienceredmond.com/event/cirque-du-soleil-kooza/2025-02-08/3/
LOCATION:Marymoor Park\, 6046 W LAKE SAMMAMISH PKWY NE\, REDMOND\, WA\, 98052
ATTACH;FMTTYPE=image/jpeg:https://experienceredmond.com/wp-content/uploads/2024/09/03_Charivari_091-scaled.jpeg
END:VEVENT
BEGIN:VEVENT
DTSTART;TZID=America/Los_Angeles:20250208T160000
DTEND;TZID=America/Los_Angeles:20250208T180000
DTSTAMP:20260422T022328
CREATED:20240923T190449Z
LAST-MODIFIED:20250310T154643Z
UID:10003422-1739030400-1739037600@experienceredmond.com
SUMMARY:Cirque du Soleil KOOZA
DESCRIPTION:Experience Cirque du Soleil KOOZA under the Big Top at Marymoor Park! \nKOOZA combines acrobatic performance and the art of clowning while exploring fear\, identity\, recognition\, and power. The Innocent’s journey brings him into contact with comic characters from an electrifying world full of surprises. \nBuy Tickets Here
URL:https://experienceredmond.com/event/cirque-du-soleil-kooza/2025-02-08/2/
LOCATION:Marymoor Park\, 6046 W LAKE SAMMAMISH PKWY NE\, REDMOND\, WA\, 98052
ATTACH;FMTTYPE=image/jpeg:https://experienceredmond.com/wp-content/uploads/2024/09/03_Charivari_091-scaled.jpeg
END:VEVENT
BEGIN:VEVENT
DTSTART;TZID=America/Los_Angeles:20250208T120000
DTEND;TZID=America/Los_Angeles:20250208T140000
DTSTAMP:20260422T022328
CREATED:20240923T190449Z
LAST-MODIFIED:20250310T154643Z
UID:10003421-1739016000-1739023200@experienceredmond.com
SUMMARY:Cirque du Soleil KOOZA
DESCRIPTION:Experience Cirque du Soleil KOOZA under the Big Top at Marymoor Park! \nKOOZA combines acrobatic performance and the art of clowning while exploring fear\, identity\, recognition\, and power. The Innocent’s journey brings him into contact with comic characters from an electrifying world full of surprises. \nBuy Tickets Here
URL:https://experienceredmond.com/event/cirque-du-soleil-kooza/2025-02-08/1/
LOCATION:Marymoor Park\, 6046 W LAKE SAMMAMISH PKWY NE\, REDMOND\, WA\, 98052
ATTACH;FMTTYPE=image/jpeg:https://experienceredmond.com/wp-content/uploads/2024/09/03_Charivari_091-scaled.jpeg
END:VEVENT
BEGIN:VEVENT
DTSTART;TZID=America/Los_Angeles:20250207T193000
DTEND;TZID=America/Los_Angeles:20250207T213000
DTSTAMP:20260422T022328
CREATED:20240923T190449Z
LAST-MODIFIED:20250310T154643Z
UID:10003419-1738956600-1738963800@experienceredmond.com
SUMMARY:Cirque du Soleil KOOZA
DESCRIPTION:Experience Cirque du Soleil KOOZA under the Big Top at Marymoor Park! \nKOOZA combines acrobatic performance and the art of clowning while exploring fear\, identity\, recognition\, and power. The Innocent’s journey brings him into contact with comic characters from an electrifying world full of surprises. \nBuy Tickets Here
URL:https://experienceredmond.com/event/cirque-du-soleil-kooza/2025-02-07/2/
LOCATION:Marymoor Park\, 6046 W LAKE SAMMAMISH PKWY NE\, REDMOND\, WA\, 98052
ATTACH;FMTTYPE=image/jpeg:https://experienceredmond.com/wp-content/uploads/2024/09/03_Charivari_091-scaled.jpeg
END:VEVENT
BEGIN:VEVENT
DTSTART;TZID=America/Los_Angeles:20250207T153000
DTEND;TZID=America/Los_Angeles:20250207T173000
DTSTAMP:20260422T022328
CREATED:20240923T190449Z
LAST-MODIFIED:20250310T154643Z
UID:10003418-1738942200-1738949400@experienceredmond.com
SUMMARY:Cirque du Soleil KOOZA
DESCRIPTION:Experience Cirque du Soleil KOOZA under the Big Top at Marymoor Park! \nKOOZA combines acrobatic performance and the art of clowning while exploring fear\, identity\, recognition\, and power. The Innocent’s journey brings him into contact with comic characters from an electrifying world full of surprises. \nBuy Tickets Here
URL:https://experienceredmond.com/event/cirque-du-soleil-kooza/2025-02-07/1/
LOCATION:Marymoor Park\, 6046 W LAKE SAMMAMISH PKWY NE\, REDMOND\, WA\, 98052
ATTACH;FMTTYPE=image/jpeg:https://experienceredmond.com/wp-content/uploads/2024/09/03_Charivari_091-scaled.jpeg
END:VEVENT
BEGIN:VEVENT
DTSTART;TZID=America/Los_Angeles:20250206T190000
DTEND;TZID=America/Los_Angeles:20250206T210000
DTSTAMP:20260422T022328
CREATED:20240923T190449Z
LAST-MODIFIED:20250310T154643Z
UID:10003417-1738868400-1738875600@experienceredmond.com
SUMMARY:Cirque du Soleil KOOZA
DESCRIPTION:Experience Cirque du Soleil KOOZA under the Big Top at Marymoor Park! \nKOOZA combines acrobatic performance and the art of clowning while exploring fear\, identity\, recognition\, and power. The Innocent’s journey brings him into contact with comic characters from an electrifying world full of surprises. \nBuy Tickets Here
URL:https://experienceredmond.com/event/cirque-du-soleil-kooza/2025-02-06/
LOCATION:Marymoor Park\, 6046 W LAKE SAMMAMISH PKWY NE\, REDMOND\, WA\, 98052
ATTACH;FMTTYPE=image/jpeg:https://experienceredmond.com/wp-content/uploads/2024/09/03_Charivari_091-scaled.jpeg
END:VEVENT
BEGIN:VEVENT
DTSTART;TZID=America/Los_Angeles:20250205T190000
DTEND;TZID=America/Los_Angeles:20250205T210000
DTSTAMP:20260422T022328
CREATED:20240923T190449Z
LAST-MODIFIED:20250310T154643Z
UID:10003416-1738782000-1738789200@experienceredmond.com
SUMMARY:Cirque du Soleil KOOZA
DESCRIPTION:Experience Cirque du Soleil KOOZA under the Big Top at Marymoor Park! \nKOOZA combines acrobatic performance and the art of clowning while exploring fear\, identity\, recognition\, and power. The Innocent’s journey brings him into contact with comic characters from an electrifying world full of surprises. \nBuy Tickets Here
URL:https://experienceredmond.com/event/cirque-du-soleil-kooza/2025-02-05/
LOCATION:Marymoor Park\, 6046 W LAKE SAMMAMISH PKWY NE\, REDMOND\, WA\, 98052
ATTACH;FMTTYPE=image/jpeg:https://experienceredmond.com/wp-content/uploads/2024/09/03_Charivari_091-scaled.jpeg
END:VEVENT
BEGIN:VEVENT
DTSTART;TZID=America/Los_Angeles:20250202T170000
DTEND;TZID=America/Los_Angeles:20250202T190000
DTSTAMP:20260422T022328
CREATED:20240923T190449Z
LAST-MODIFIED:20250310T154643Z
UID:10003415-1738515600-1738522800@experienceredmond.com
SUMMARY:Cirque du Soleil KOOZA
DESCRIPTION:Experience Cirque du Soleil KOOZA under the Big Top at Marymoor Park! \nKOOZA combines acrobatic performance and the art of clowning while exploring fear\, identity\, recognition\, and power. The Innocent’s journey brings him into contact with comic characters from an electrifying world full of surprises. \nBuy Tickets Here
URL:https://experienceredmond.com/event/cirque-du-soleil-kooza/2025-02-02/2/
LOCATION:Marymoor Park\, 6046 W LAKE SAMMAMISH PKWY NE\, REDMOND\, WA\, 98052
ATTACH;FMTTYPE=image/jpeg:https://experienceredmond.com/wp-content/uploads/2024/09/03_Charivari_091-scaled.jpeg
END:VEVENT
BEGIN:VEVENT
DTSTART;TZID=America/Los_Angeles:20250202T130000
DTEND;TZID=America/Los_Angeles:20250202T150000
DTSTAMP:20260422T022328
CREATED:20240923T190449Z
LAST-MODIFIED:20250310T154643Z
UID:10003414-1738501200-1738508400@experienceredmond.com
SUMMARY:Cirque du Soleil KOOZA
DESCRIPTION:Experience Cirque du Soleil KOOZA under the Big Top at Marymoor Park! \nKOOZA combines acrobatic performance and the art of clowning while exploring fear\, identity\, recognition\, and power. The Innocent’s journey brings him into contact with comic characters from an electrifying world full of surprises. \nBuy Tickets Here
URL:https://experienceredmond.com/event/cirque-du-soleil-kooza/2025-02-02/1/
LOCATION:Marymoor Park\, 6046 W LAKE SAMMAMISH PKWY NE\, REDMOND\, WA\, 98052
ATTACH;FMTTYPE=image/jpeg:https://experienceredmond.com/wp-content/uploads/2024/09/03_Charivari_091-scaled.jpeg
END:VEVENT
BEGIN:VEVENT
DTSTART;TZID=America/Los_Angeles:20250201T200000
DTEND;TZID=America/Los_Angeles:20250201T220000
DTSTAMP:20260422T022328
CREATED:20240923T190449Z
LAST-MODIFIED:20250310T154643Z
UID:10003413-1738440000-1738447200@experienceredmond.com
SUMMARY:Cirque du Soleil KOOZA
DESCRIPTION:Experience Cirque du Soleil KOOZA under the Big Top at Marymoor Park! \nKOOZA combines acrobatic performance and the art of clowning while exploring fear\, identity\, recognition\, and power. The Innocent’s journey brings him into contact with comic characters from an electrifying world full of surprises. \nBuy Tickets Here
URL:https://experienceredmond.com/event/cirque-du-soleil-kooza/2025-02-01/3/
LOCATION:Marymoor Park\, 6046 W LAKE SAMMAMISH PKWY NE\, REDMOND\, WA\, 98052
ATTACH;FMTTYPE=image/jpeg:https://experienceredmond.com/wp-content/uploads/2024/09/03_Charivari_091-scaled.jpeg
END:VEVENT
BEGIN:VEVENT
DTSTART;TZID=America/Los_Angeles:20250201T160000
DTEND;TZID=America/Los_Angeles:20250201T180000
DTSTAMP:20260422T022328
CREATED:20240923T190449Z
LAST-MODIFIED:20250310T154643Z
UID:10003412-1738425600-1738432800@experienceredmond.com
SUMMARY:Cirque du Soleil KOOZA
DESCRIPTION:Experience Cirque du Soleil KOOZA under the Big Top at Marymoor Park! \nKOOZA combines acrobatic performance and the art of clowning while exploring fear\, identity\, recognition\, and power. The Innocent’s journey brings him into contact with comic characters from an electrifying world full of surprises. \nBuy Tickets Here
URL:https://experienceredmond.com/event/cirque-du-soleil-kooza/2025-02-01/2/
LOCATION:Marymoor Park\, 6046 W LAKE SAMMAMISH PKWY NE\, REDMOND\, WA\, 98052
ATTACH;FMTTYPE=image/jpeg:https://experienceredmond.com/wp-content/uploads/2024/09/03_Charivari_091-scaled.jpeg
END:VEVENT
BEGIN:VEVENT
DTSTART;TZID=America/Los_Angeles:20250201T120000
DTEND;TZID=America/Los_Angeles:20250201T140000
DTSTAMP:20260422T022328
CREATED:20240923T190449Z
LAST-MODIFIED:20250310T154643Z
UID:10003411-1738411200-1738418400@experienceredmond.com
SUMMARY:Cirque du Soleil KOOZA
DESCRIPTION:Experience Cirque du Soleil KOOZA under the Big Top at Marymoor Park! \nKOOZA combines acrobatic performance and the art of clowning while exploring fear\, identity\, recognition\, and power. The Innocent’s journey brings him into contact with comic characters from an electrifying world full of surprises. \nBuy Tickets Here
URL:https://experienceredmond.com/event/cirque-du-soleil-kooza/2025-02-01/1/
LOCATION:Marymoor Park\, 6046 W LAKE SAMMAMISH PKWY NE\, REDMOND\, WA\, 98052
ATTACH;FMTTYPE=image/jpeg:https://experienceredmond.com/wp-content/uploads/2024/09/03_Charivari_091-scaled.jpeg
END:VEVENT
BEGIN:VEVENT
DTSTART;TZID=America/Los_Angeles:20250131T193000
DTEND;TZID=America/Los_Angeles:20250131T213000
DTSTAMP:20260422T022328
CREATED:20240923T190449Z
LAST-MODIFIED:20250310T154643Z
UID:10003410-1738351800-1738359000@experienceredmond.com
SUMMARY:Cirque du Soleil KOOZA
DESCRIPTION:Experience Cirque du Soleil KOOZA under the Big Top at Marymoor Park! \nKOOZA combines acrobatic performance and the art of clowning while exploring fear\, identity\, recognition\, and power. The Innocent’s journey brings him into contact with comic characters from an electrifying world full of surprises. \nBuy Tickets Here
URL:https://experienceredmond.com/event/cirque-du-soleil-kooza/2025-01-31/2/
LOCATION:Marymoor Park\, 6046 W LAKE SAMMAMISH PKWY NE\, REDMOND\, WA\, 98052
ATTACH;FMTTYPE=image/jpeg:https://experienceredmond.com/wp-content/uploads/2024/09/03_Charivari_091-scaled.jpeg
END:VEVENT
BEGIN:VEVENT
DTSTART;TZID=America/Los_Angeles:20250131T153000
DTEND;TZID=America/Los_Angeles:20250131T173000
DTSTAMP:20260422T022328
CREATED:20240923T190449Z
LAST-MODIFIED:20250310T154643Z
UID:10003409-1738337400-1738344600@experienceredmond.com
SUMMARY:Cirque du Soleil KOOZA
DESCRIPTION:Experience Cirque du Soleil KOOZA under the Big Top at Marymoor Park! \nKOOZA combines acrobatic performance and the art of clowning while exploring fear\, identity\, recognition\, and power. The Innocent’s journey brings him into contact with comic characters from an electrifying world full of surprises. \nBuy Tickets Here
URL:https://experienceredmond.com/event/cirque-du-soleil-kooza/2025-01-31/1/
LOCATION:Marymoor Park\, 6046 W LAKE SAMMAMISH PKWY NE\, REDMOND\, WA\, 98052
ATTACH;FMTTYPE=image/jpeg:https://experienceredmond.com/wp-content/uploads/2024/09/03_Charivari_091-scaled.jpeg
END:VEVENT
BEGIN:VEVENT
DTSTART;TZID=America/Los_Angeles:20250130T190000
DTEND;TZID=America/Los_Angeles:20250130T210000
DTSTAMP:20260422T022328
CREATED:20240923T190449Z
LAST-MODIFIED:20250310T154643Z
UID:10003408-1738263600-1738270800@experienceredmond.com
SUMMARY:Cirque du Soleil KOOZA
DESCRIPTION:Experience Cirque du Soleil KOOZA under the Big Top at Marymoor Park! \nKOOZA combines acrobatic performance and the art of clowning while exploring fear\, identity\, recognition\, and power. The Innocent’s journey brings him into contact with comic characters from an electrifying world full of surprises. \nBuy Tickets Here
URL:https://experienceredmond.com/event/cirque-du-soleil-kooza/2025-01-30/
LOCATION:Marymoor Park\, 6046 W LAKE SAMMAMISH PKWY NE\, REDMOND\, WA\, 98052
ATTACH;FMTTYPE=image/jpeg:https://experienceredmond.com/wp-content/uploads/2024/09/03_Charivari_091-scaled.jpeg
END:VEVENT
BEGIN:VEVENT
DTSTART;TZID=America/Los_Angeles:20250129T190000
DTEND;TZID=America/Los_Angeles:20250129T210000
DTSTAMP:20260422T022328
CREATED:20240923T190449Z
LAST-MODIFIED:20250310T154643Z
UID:10003407-1738177200-1738184400@experienceredmond.com
SUMMARY:Cirque du Soleil KOOZA
DESCRIPTION:Experience Cirque du Soleil KOOZA under the Big Top at Marymoor Park! \nKOOZA combines acrobatic performance and the art of clowning while exploring fear\, identity\, recognition\, and power. The Innocent’s journey brings him into contact with comic characters from an electrifying world full of surprises. \nBuy Tickets Here
URL:https://experienceredmond.com/event/cirque-du-soleil-kooza/2025-01-29/
LOCATION:Marymoor Park\, 6046 W LAKE SAMMAMISH PKWY NE\, REDMOND\, WA\, 98052
ATTACH;FMTTYPE=image/jpeg:https://experienceredmond.com/wp-content/uploads/2024/09/03_Charivari_091-scaled.jpeg
END:VEVENT
BEGIN:VEVENT
DTSTART;TZID=America/Los_Angeles:20250126T170000
DTEND;TZID=America/Los_Angeles:20250126T190000
DTSTAMP:20260422T022328
CREATED:20240923T190449Z
LAST-MODIFIED:20250310T154643Z
UID:10003406-1737910800-1737918000@experienceredmond.com
SUMMARY:Cirque du Soleil KOOZA
DESCRIPTION:Experience Cirque du Soleil KOOZA under the Big Top at Marymoor Park! \nKOOZA combines acrobatic performance and the art of clowning while exploring fear\, identity\, recognition\, and power. The Innocent’s journey brings him into contact with comic characters from an electrifying world full of surprises. \nBuy Tickets Here
URL:https://experienceredmond.com/event/cirque-du-soleil-kooza/2025-01-26/2/
LOCATION:Marymoor Park\, 6046 W LAKE SAMMAMISH PKWY NE\, REDMOND\, WA\, 98052
ATTACH;FMTTYPE=image/jpeg:https://experienceredmond.com/wp-content/uploads/2024/09/03_Charivari_091-scaled.jpeg
END:VEVENT
BEGIN:VEVENT
DTSTART;TZID=America/Los_Angeles:20250126T130000
DTEND;TZID=America/Los_Angeles:20250126T150000
DTSTAMP:20260422T022328
CREATED:20240923T190449Z
LAST-MODIFIED:20250310T154643Z
UID:10003405-1737896400-1737903600@experienceredmond.com
SUMMARY:Cirque du Soleil KOOZA
DESCRIPTION:Experience Cirque du Soleil KOOZA under the Big Top at Marymoor Park! \nKOOZA combines acrobatic performance and the art of clowning while exploring fear\, identity\, recognition\, and power. The Innocent’s journey brings him into contact with comic characters from an electrifying world full of surprises. \nBuy Tickets Here
URL:https://experienceredmond.com/event/cirque-du-soleil-kooza/2025-01-26/1/
LOCATION:Marymoor Park\, 6046 W LAKE SAMMAMISH PKWY NE\, REDMOND\, WA\, 98052
ATTACH;FMTTYPE=image/jpeg:https://experienceredmond.com/wp-content/uploads/2024/09/03_Charivari_091-scaled.jpeg
END:VEVENT
BEGIN:VEVENT
DTSTART;TZID=America/Los_Angeles:20250125T170000
DTEND;TZID=America/Los_Angeles:20250125T190000
DTSTAMP:20260422T022328
CREATED:20240923T190449Z
LAST-MODIFIED:20250310T154643Z
UID:10003404-1737824400-1737831600@experienceredmond.com
SUMMARY:Cirque du Soleil KOOZA
DESCRIPTION:Experience Cirque du Soleil KOOZA under the Big Top at Marymoor Park! \nKOOZA combines acrobatic performance and the art of clowning while exploring fear\, identity\, recognition\, and power. The Innocent’s journey brings him into contact with comic characters from an electrifying world full of surprises. \nBuy Tickets Here
URL:https://experienceredmond.com/event/cirque-du-soleil-kooza/2025-01-25/2/
LOCATION:Marymoor Park\, 6046 W LAKE SAMMAMISH PKWY NE\, REDMOND\, WA\, 98052
ATTACH;FMTTYPE=image/jpeg:https://experienceredmond.com/wp-content/uploads/2024/09/03_Charivari_091-scaled.jpeg
END:VEVENT
BEGIN:VEVENT
DTSTART;TZID=America/Los_Angeles:20250125T130000
DTEND;TZID=America/Los_Angeles:20250125T150000
DTSTAMP:20260422T022328
CREATED:20240923T190449Z
LAST-MODIFIED:20250310T154643Z
UID:10003403-1737810000-1737817200@experienceredmond.com
SUMMARY:Cirque du Soleil KOOZA
DESCRIPTION:Experience Cirque du Soleil KOOZA under the Big Top at Marymoor Park! \nKOOZA combines acrobatic performance and the art of clowning while exploring fear\, identity\, recognition\, and power. The Innocent’s journey brings him into contact with comic characters from an electrifying world full of surprises. \nBuy Tickets Here
URL:https://experienceredmond.com/event/cirque-du-soleil-kooza/2025-01-25/1/
LOCATION:Marymoor Park\, 6046 W LAKE SAMMAMISH PKWY NE\, REDMOND\, WA\, 98052
ATTACH;FMTTYPE=image/jpeg:https://experienceredmond.com/wp-content/uploads/2024/09/03_Charivari_091-scaled.jpeg
END:VEVENT
BEGIN:VEVENT
DTSTART;TZID=America/Los_Angeles:20250124T193000
DTEND;TZID=America/Los_Angeles:20250124T213000
DTSTAMP:20260422T022328
CREATED:20240923T190449Z
LAST-MODIFIED:20250310T154643Z
UID:10003402-1737747000-1737754200@experienceredmond.com
SUMMARY:Cirque du Soleil KOOZA
DESCRIPTION:Experience Cirque du Soleil KOOZA under the Big Top at Marymoor Park! \nKOOZA combines acrobatic performance and the art of clowning while exploring fear\, identity\, recognition\, and power. The Innocent’s journey brings him into contact with comic characters from an electrifying world full of surprises. \nBuy Tickets Here
URL:https://experienceredmond.com/event/cirque-du-soleil-kooza/2025-01-24/2/
LOCATION:Marymoor Park\, 6046 W LAKE SAMMAMISH PKWY NE\, REDMOND\, WA\, 98052
ATTACH;FMTTYPE=image/jpeg:https://experienceredmond.com/wp-content/uploads/2024/09/03_Charivari_091-scaled.jpeg
END:VEVENT
BEGIN:VEVENT
DTSTART;TZID=America/Los_Angeles:20250124T153000
DTEND;TZID=America/Los_Angeles:20250124T173000
DTSTAMP:20260422T022328
CREATED:20240923T190449Z
LAST-MODIFIED:20250310T154643Z
UID:10003401-1737732600-1737739800@experienceredmond.com
SUMMARY:Cirque du Soleil KOOZA
DESCRIPTION:Experience Cirque du Soleil KOOZA under the Big Top at Marymoor Park! \nKOOZA combines acrobatic performance and the art of clowning while exploring fear\, identity\, recognition\, and power. The Innocent’s journey brings him into contact with comic characters from an electrifying world full of surprises. \nBuy Tickets Here
URL:https://experienceredmond.com/event/cirque-du-soleil-kooza/2025-01-24/1/
LOCATION:Marymoor Park\, 6046 W LAKE SAMMAMISH PKWY NE\, REDMOND\, WA\, 98052
ATTACH;FMTTYPE=image/jpeg:https://experienceredmond.com/wp-content/uploads/2024/09/03_Charivari_091-scaled.jpeg
END:VEVENT
BEGIN:VEVENT
DTSTART;TZID=America/Los_Angeles:20250123T193000
DTEND;TZID=America/Los_Angeles:20250123T213000
DTSTAMP:20260422T022328
CREATED:20240923T190449Z
LAST-MODIFIED:20250310T154643Z
UID:10003400-1737660600-1737667800@experienceredmond.com
SUMMARY:Cirque du Soleil KOOZA
DESCRIPTION:Experience Cirque du Soleil KOOZA under the Big Top at Marymoor Park! \nKOOZA combines acrobatic performance and the art of clowning while exploring fear\, identity\, recognition\, and power. The Innocent’s journey brings him into contact with comic characters from an electrifying world full of surprises. \nBuy Tickets Here
URL:https://experienceredmond.com/event/cirque-du-soleil-kooza/2025-01-23/
LOCATION:Marymoor Park\, 6046 W LAKE SAMMAMISH PKWY NE\, REDMOND\, WA\, 98052
ATTACH;FMTTYPE=image/jpeg:https://experienceredmond.com/wp-content/uploads/2024/09/03_Charivari_091-scaled.jpeg
END:VEVENT
BEGIN:VEVENT
DTSTART;TZID=America/Los_Angeles:20250122T190000
DTEND;TZID=America/Los_Angeles:20250122T210000
DTSTAMP:20260422T022328
CREATED:20240923T190449Z
LAST-MODIFIED:20250310T154643Z
UID:10003399-1737572400-1737579600@experienceredmond.com
SUMMARY:Cirque du Soleil KOOZA
DESCRIPTION:Experience Cirque du Soleil KOOZA under the Big Top at Marymoor Park! \nKOOZA combines acrobatic performance and the art of clowning while exploring fear\, identity\, recognition\, and power. The Innocent’s journey brings him into contact with comic characters from an electrifying world full of surprises. \nBuy Tickets Here
URL:https://experienceredmond.com/event/cirque-du-soleil-kooza/2025-01-22/
LOCATION:Marymoor Park\, 6046 W LAKE SAMMAMISH PKWY NE\, REDMOND\, WA\, 98052
ATTACH;FMTTYPE=image/jpeg:https://experienceredmond.com/wp-content/uploads/2024/09/03_Charivari_091-scaled.jpeg
END:VEVENT
BEGIN:VEVENT
DTSTART;TZID=America/Los_Angeles:20250119T170000
DTEND;TZID=America/Los_Angeles:20250119T190000
DTSTAMP:20260422T022328
CREATED:20240923T190449Z
LAST-MODIFIED:20250310T154643Z
UID:10003398-1737306000-1737313200@experienceredmond.com
SUMMARY:Cirque du Soleil KOOZA
DESCRIPTION:Experience Cirque du Soleil KOOZA under the Big Top at Marymoor Park! \nKOOZA combines acrobatic performance and the art of clowning while exploring fear\, identity\, recognition\, and power. The Innocent’s journey brings him into contact with comic characters from an electrifying world full of surprises. \nBuy Tickets Here
URL:https://experienceredmond.com/event/cirque-du-soleil-kooza/2025-01-19/
LOCATION:Marymoor Park\, 6046 W LAKE SAMMAMISH PKWY NE\, REDMOND\, WA\, 98052
ATTACH;FMTTYPE=image/jpeg:https://experienceredmond.com/wp-content/uploads/2024/09/03_Charivari_091-scaled.jpeg
END:VEVENT
BEGIN:VEVENT
DTSTART;TZID=America/Los_Angeles:20241005T073000
DTEND;TZID=America/Los_Angeles:20241005T170000
DTSTAMP:20260422T022328
CREATED:20240923T181533Z
LAST-MODIFIED:20240923T181533Z
UID:10003396-1728113400-1728147600@experienceredmond.com
SUMMARY:Seattle Miles for Melanoma 5K
DESCRIPTION:Miles for Melanoma is a nationwide series of 5K run/walks that allows participants to support and raise funds for the MRF by coming together in their community alongside fellow melanoma patients\, survivors\, caregivers and supporters.
URL:https://experienceredmond.com/event/seattle-miles-for-melanoma-5k/
LOCATION:Marymoor Park\, 6046 W LAKE SAMMAMISH PKWY NE\, REDMOND\, WA\, 98052
CATEGORIES:Sports & Fitness
ATTACH;FMTTYPE=image/jpeg:https://experienceredmond.com/wp-content/uploads/2024/09/450548448_863690299125008_993128405735602777_n.jpg
END:VEVENT
BEGIN:VEVENT
DTSTART;TZID=America/Los_Angeles:20240913T110000
DTEND;TZID=America/Los_Angeles:20240913T210000
DTSTAMP:20260422T022328
CREATED:20240807T151802Z
LAST-MODIFIED:20240823T201542Z
UID:10003358-1726225200-1726261200@experienceredmond.com
SUMMARY:Redmond Ganesh Festival 2024
DESCRIPTION:We invite you to the Northwest’s most anticipated Ganesh Festival brought to you by Beats of Washington. \nEnjoy FREE parking\, FREE entry\, and FREE entertainment. \nThe Ganesh Festival\, also known as Ganesh Chaturthi\, is one of the most widely celebrated festivals in India\, particularly in the state of Maharashtra. It is dedicated to Lord Ganesha\, the elephant-headed Hindu deity of wisdom\, prosperity\, and new beginnings. The festival typically spans 10 days\, with the main event being the installation and worship of Ganesha idols\, followed by immersion ceremonies. \nIf you wish to participate or perform at the festival\, or even have your own vendor booth\, the registration links can be found at the end of this message. \nDate: September 12th-15th \nRSVP HERE \nJoin us in celebrating three days of pure joy\, cultural immersion\, and festive merriment. Mark your calendars and make sure you’re a part of this exhilarating experience!
URL:https://experienceredmond.com/event/redmond-ganesh-festival-2024/
LOCATION:Marymoor Park\, 6046 W LAKE SAMMAMISH PKWY NE\, REDMOND\, WA\, 98052
CATEGORIES:Community & Culture
ATTACH;FMTTYPE=image/jpeg:https://experienceredmond.com/wp-content/uploads/2024/08/bappa-1_huebbfad1edfa8e198fe68a27ac6a615ca_11309602_1200x0_resize_q75_box-1.jpg
END:VEVENT
END:VCALENDAR