BEGIN:VCALENDAR
VERSION:2.0
PRODID:-//Experience Redmond - ECPv6.15.18//NONSGML v1.0//EN
CALSCALE:GREGORIAN
METHOD:PUBLISH
X-WR-CALNAME:Experience Redmond
X-ORIGINAL-URL:https://experienceredmond.com
X-WR-CALDESC:Events for Experience Redmond
REFRESH-INTERVAL;VALUE=DURATION:PT1H
X-Robots-Tag:noindex
X-PUBLISHED-TTL:PT1H
BEGIN:VTIMEZONE
TZID:America/Los_Angeles
BEGIN:DAYLIGHT
TZOFFSETFROM:-0800
TZOFFSETTO:-0700
TZNAME:PDT
DTSTART:20240310T100000
END:DAYLIGHT
BEGIN:STANDARD
TZOFFSETFROM:-0700
TZOFFSETTO:-0800
TZNAME:PST
DTSTART:20241103T090000
END:STANDARD
BEGIN:DAYLIGHT
TZOFFSETFROM:-0800
TZOFFSETTO:-0700
TZNAME:PDT
DTSTART:20250309T100000
END:DAYLIGHT
BEGIN:STANDARD
TZOFFSETFROM:-0700
TZOFFSETTO:-0800
TZNAME:PST
DTSTART:20251102T090000
END:STANDARD
BEGIN:DAYLIGHT
TZOFFSETFROM:-0800
TZOFFSETTO:-0700
TZNAME:PDT
DTSTART:20260308T100000
END:DAYLIGHT
BEGIN:STANDARD
TZOFFSETFROM:-0700
TZOFFSETTO:-0800
TZNAME:PST
DTSTART:20261101T090000
END:STANDARD
END:VTIMEZONE
BEGIN:VEVENT
DTSTART;TZID=America/Los_Angeles:20250809T080000
DTEND;TZID=America/Los_Angeles:20250809T180000
DTSTAMP:20260425T044529
CREATED:20250710T221858Z
LAST-MODIFIED:20250710T221858Z
UID:10004454-1754726400-1754762400@experienceredmond.com
SUMMARY:Matcha Magic's Redmond Grand Opening
DESCRIPTION:Mark your calendar\, Bellevue’s first matcha bar\, Matcha Magic\, welcomes the Redmond community to its grand opening on August 9th from 8 AM – 6 PM with delicious offers all day\, including: \n\nFirst 25 customers: will get a free drink and a mystery goodie bag\nFirst 100 customers: will get 50% off their matcha and a Matcha Magic flamingo drink koozie\nAll customers will get 20% off matcha\, enjoy free samples of signature drinks\, a free Macadons macaron with purchase\, and guests who leave a Google review and follow Matcha Magic on Instagram will spin a prize wheel to win even more goodies and free matcha\n\nKnown for its expertly crafted\, ceremonial-grade organic matcha drinks and smoothies\, Matcha Magic works closely with matcha farmers to source the highest-quality ceremonial and organic matcha used to craft its creative menu. \nSee you there!
URL:https://experienceredmond.com/event/matcha-magics-redmond-grand-opening/
LOCATION:Matcha Magic Redmond\, 7705 168th Ave NE\, Redmond\, WA\, 98052
CATEGORIES:Food & Beverage
ATTACH;FMTTYPE=image/jpeg:https://experienceredmond.com/wp-content/uploads/2025/07/Matcha-Magic.jpg
END:VEVENT
END:VCALENDAR