BEGIN:VCALENDAR
VERSION:2.0
PRODID:-//Experience Redmond - ECPv6.15.18//NONSGML v1.0//EN
CALSCALE:GREGORIAN
METHOD:PUBLISH
X-WR-CALNAME:Experience Redmond
X-ORIGINAL-URL:https://experienceredmond.com
X-WR-CALDESC:Events for Experience Redmond
REFRESH-INTERVAL;VALUE=DURATION:PT1H
X-Robots-Tag:noindex
X-PUBLISHED-TTL:PT1H
BEGIN:VTIMEZONE
TZID:America/Los_Angeles
BEGIN:DAYLIGHT
TZOFFSETFROM:-0800
TZOFFSETTO:-0700
TZNAME:PDT
DTSTART:20250309T100000
END:DAYLIGHT
BEGIN:STANDARD
TZOFFSETFROM:-0700
TZOFFSETTO:-0800
TZNAME:PST
DTSTART:20251102T090000
END:STANDARD
BEGIN:DAYLIGHT
TZOFFSETFROM:-0800
TZOFFSETTO:-0700
TZNAME:PDT
DTSTART:20260308T100000
END:DAYLIGHT
BEGIN:STANDARD
TZOFFSETFROM:-0700
TZOFFSETTO:-0800
TZNAME:PST
DTSTART:20261101T090000
END:STANDARD
BEGIN:DAYLIGHT
TZOFFSETFROM:-0800
TZOFFSETTO:-0700
TZNAME:PDT
DTSTART:20270314T100000
END:DAYLIGHT
BEGIN:STANDARD
TZOFFSETFROM:-0700
TZOFFSETTO:-0800
TZNAME:PST
DTSTART:20271107T090000
END:STANDARD
END:VTIMEZONE
BEGIN:VEVENT
DTSTART;TZID=America/Los_Angeles:20260509T153000
DTEND;TZID=America/Los_Angeles:20260509T170000
DTSTAMP:20260425T062728
CREATED:20260309T202941Z
LAST-MODIFIED:20260309T202941Z
UID:10008247-1778340600-1778346000@experienceredmond.com
SUMMARY:Flamenco + Mexican Folk Dance @ Redmond Performing Arts Theater
DESCRIPTION:Don’t miss Semilla Folklorica 2026 Show. \nShowcasing local artists dancing Mexican folk dance and flamenco\, along with professional local artists\, the World Youth Orchestra\, and a special flamenco star coming all the way from Cadiz\, Spain\, to be at this show. \nThis is a super family-friendly event not to miss
URL:https://experienceredmond.com/event/flamenco-mexican-folk-dance-redmond-performing-arts-theater/2026-05-09/
LOCATION:Redmond High School\, 17272 NE 104th St\, Redmond\, WA\, 98052
ATTACH;FMTTYPE=image/png:https://experienceredmond.com/wp-content/uploads/2026/03/Untitled-design-10.png
END:VEVENT
BEGIN:VEVENT
DTSTART;TZID=America/Los_Angeles:20260510T153000
DTEND;TZID=America/Los_Angeles:20260510T170000
DTSTAMP:20260425T062728
CREATED:20260309T202941Z
LAST-MODIFIED:20260309T202941Z
UID:10008248-1778427000-1778432400@experienceredmond.com
SUMMARY:Flamenco + Mexican Folk Dance @ Redmond Performing Arts Theater
DESCRIPTION:Don’t miss Semilla Folklorica 2026 Show. \nShowcasing local artists dancing Mexican folk dance and flamenco\, along with professional local artists\, the World Youth Orchestra\, and a special flamenco star coming all the way from Cadiz\, Spain\, to be at this show. \nThis is a super family-friendly event not to miss
URL:https://experienceredmond.com/event/flamenco-mexican-folk-dance-redmond-performing-arts-theater/2026-05-10/
LOCATION:Redmond High School\, 17272 NE 104th St\, Redmond\, WA\, 98052
ATTACH;FMTTYPE=image/png:https://experienceredmond.com/wp-content/uploads/2026/03/Untitled-design-10.png
END:VEVENT
BEGIN:VEVENT
DTSTART;TZID=America/Los_Angeles:20260601T170000
DTEND;TZID=America/Los_Angeles:20260601T183000
DTSTAMP:20260425T062728
CREATED:20260416T184809Z
LAST-MODIFIED:20260423T185543Z
UID:10009781-1780333200-1780338600@experienceredmond.com
SUMMARY:Redmond Track & Field Club
DESCRIPTION:(Ages 5 – 14) The City of Redmond is excited to launch its first Youth Track & Field Club this summer! Redmond is joining neighboring cities — Issaquah\, North Bend\, Renton\, and Auburn — for an exciting Summer Track & Field season. \nTrack & Field Club is open to all skill levels\, from beginners to more experienced athletes. Participants will compete in age groups and have the opportunity to take part in a variety of events\, including the 50m\, 100m\, 200m\, 400m\, 800m\, and 1600m races\, as well as Turbo Javelin\, Long Jump\, and Ball Throw. There is something for everyone! \nPractices will be held on Mondays and Thursdays from 5:00 pm–6:30 pm at the Redmond High School track stadium. Registration is required. Click here to register. \nThursday practices change to meet days beginning June 18. Below is the meet schedule: \n\nJune 18 – at Issaquah High School\nJune 25 – at Mount Si High School\nJuly 2 – at Mount Si High School\nJuly 9 – at Renton Memorial Stadium\n\nRedmond will not host a meet in the first year. \nVolunteer coaches are needed to help make this season a success\, so please consider volunteering your time and energy to support our young athletes. Don’t hesitate to sign up and be part of Redmond’s first Youth Track & Field Club season! All skill levels welcome. No Experience necessary.
URL:https://experienceredmond.com/event/redmond-track-field-club/2026-06-01/
LOCATION:Redmond High School\, 17272 NE 104th St\, Redmond\, WA\, 98052
CATEGORIES:Community & Culture,Kids & Family,Sports & Fitness
ATTACH;FMTTYPE=image/jpeg:https://experienceredmond.com/wp-content/uploads/2026/04/Track-Field-picture.jpg
END:VEVENT
BEGIN:VEVENT
DTSTART;TZID=America/Los_Angeles:20260604T170000
DTEND;TZID=America/Los_Angeles:20260604T183000
DTSTAMP:20260425T062728
CREATED:20260416T184809Z
LAST-MODIFIED:20260423T185543Z
UID:10009782-1780592400-1780597800@experienceredmond.com
SUMMARY:Redmond Track & Field Club
DESCRIPTION:(Ages 5 – 14) The City of Redmond is excited to launch its first Youth Track & Field Club this summer! Redmond is joining neighboring cities — Issaquah\, North Bend\, Renton\, and Auburn — for an exciting Summer Track & Field season. \nTrack & Field Club is open to all skill levels\, from beginners to more experienced athletes. Participants will compete in age groups and have the opportunity to take part in a variety of events\, including the 50m\, 100m\, 200m\, 400m\, 800m\, and 1600m races\, as well as Turbo Javelin\, Long Jump\, and Ball Throw. There is something for everyone! \nPractices will be held on Mondays and Thursdays from 5:00 pm–6:30 pm at the Redmond High School track stadium. Registration is required. Click here to register. \nThursday practices change to meet days beginning June 18. Below is the meet schedule: \n\nJune 18 – at Issaquah High School\nJune 25 – at Mount Si High School\nJuly 2 – at Mount Si High School\nJuly 9 – at Renton Memorial Stadium\n\nRedmond will not host a meet in the first year. \nVolunteer coaches are needed to help make this season a success\, so please consider volunteering your time and energy to support our young athletes. Don’t hesitate to sign up and be part of Redmond’s first Youth Track & Field Club season! All skill levels welcome. No Experience necessary.
URL:https://experienceredmond.com/event/redmond-track-field-club/2026-06-04/
LOCATION:Redmond High School\, 17272 NE 104th St\, Redmond\, WA\, 98052
CATEGORIES:Community & Culture,Kids & Family,Sports & Fitness
ATTACH;FMTTYPE=image/jpeg:https://experienceredmond.com/wp-content/uploads/2026/04/Track-Field-picture.jpg
END:VEVENT
BEGIN:VEVENT
DTSTART;TZID=America/Los_Angeles:20260608T170000
DTEND;TZID=America/Los_Angeles:20260608T183000
DTSTAMP:20260425T062728
CREATED:20260416T184809Z
LAST-MODIFIED:20260423T185543Z
UID:10009783-1780938000-1780943400@experienceredmond.com
SUMMARY:Redmond Track & Field Club
DESCRIPTION:(Ages 5 – 14) The City of Redmond is excited to launch its first Youth Track & Field Club this summer! Redmond is joining neighboring cities — Issaquah\, North Bend\, Renton\, and Auburn — for an exciting Summer Track & Field season. \nTrack & Field Club is open to all skill levels\, from beginners to more experienced athletes. Participants will compete in age groups and have the opportunity to take part in a variety of events\, including the 50m\, 100m\, 200m\, 400m\, 800m\, and 1600m races\, as well as Turbo Javelin\, Long Jump\, and Ball Throw. There is something for everyone! \nPractices will be held on Mondays and Thursdays from 5:00 pm–6:30 pm at the Redmond High School track stadium. Registration is required. Click here to register. \nThursday practices change to meet days beginning June 18. Below is the meet schedule: \n\nJune 18 – at Issaquah High School\nJune 25 – at Mount Si High School\nJuly 2 – at Mount Si High School\nJuly 9 – at Renton Memorial Stadium\n\nRedmond will not host a meet in the first year. \nVolunteer coaches are needed to help make this season a success\, so please consider volunteering your time and energy to support our young athletes. Don’t hesitate to sign up and be part of Redmond’s first Youth Track & Field Club season! All skill levels welcome. No Experience necessary.
URL:https://experienceredmond.com/event/redmond-track-field-club/2026-06-08/
LOCATION:Redmond High School\, 17272 NE 104th St\, Redmond\, WA\, 98052
CATEGORIES:Community & Culture,Kids & Family,Sports & Fitness
ATTACH;FMTTYPE=image/jpeg:https://experienceredmond.com/wp-content/uploads/2026/04/Track-Field-picture.jpg
END:VEVENT
BEGIN:VEVENT
DTSTART;TZID=America/Los_Angeles:20260611T170000
DTEND;TZID=America/Los_Angeles:20260611T183000
DTSTAMP:20260425T062728
CREATED:20260416T184809Z
LAST-MODIFIED:20260423T185543Z
UID:10009784-1781197200-1781202600@experienceredmond.com
SUMMARY:Redmond Track & Field Club
DESCRIPTION:(Ages 5 – 14) The City of Redmond is excited to launch its first Youth Track & Field Club this summer! Redmond is joining neighboring cities — Issaquah\, North Bend\, Renton\, and Auburn — for an exciting Summer Track & Field season. \nTrack & Field Club is open to all skill levels\, from beginners to more experienced athletes. Participants will compete in age groups and have the opportunity to take part in a variety of events\, including the 50m\, 100m\, 200m\, 400m\, 800m\, and 1600m races\, as well as Turbo Javelin\, Long Jump\, and Ball Throw. There is something for everyone! \nPractices will be held on Mondays and Thursdays from 5:00 pm–6:30 pm at the Redmond High School track stadium. Registration is required. Click here to register. \nThursday practices change to meet days beginning June 18. Below is the meet schedule: \n\nJune 18 – at Issaquah High School\nJune 25 – at Mount Si High School\nJuly 2 – at Mount Si High School\nJuly 9 – at Renton Memorial Stadium\n\nRedmond will not host a meet in the first year. \nVolunteer coaches are needed to help make this season a success\, so please consider volunteering your time and energy to support our young athletes. Don’t hesitate to sign up and be part of Redmond’s first Youth Track & Field Club season! All skill levels welcome. No Experience necessary.
URL:https://experienceredmond.com/event/redmond-track-field-club/2026-06-11/
LOCATION:Redmond High School\, 17272 NE 104th St\, Redmond\, WA\, 98052
CATEGORIES:Community & Culture,Kids & Family,Sports & Fitness
ATTACH;FMTTYPE=image/jpeg:https://experienceredmond.com/wp-content/uploads/2026/04/Track-Field-picture.jpg
END:VEVENT
BEGIN:VEVENT
DTSTART;TZID=America/Los_Angeles:20260615T170000
DTEND;TZID=America/Los_Angeles:20260615T183000
DTSTAMP:20260425T062728
CREATED:20260416T184809Z
LAST-MODIFIED:20260423T185543Z
UID:10009785-1781542800-1781548200@experienceredmond.com
SUMMARY:Redmond Track & Field Club
DESCRIPTION:(Ages 5 – 14) The City of Redmond is excited to launch its first Youth Track & Field Club this summer! Redmond is joining neighboring cities — Issaquah\, North Bend\, Renton\, and Auburn — for an exciting Summer Track & Field season. \nTrack & Field Club is open to all skill levels\, from beginners to more experienced athletes. Participants will compete in age groups and have the opportunity to take part in a variety of events\, including the 50m\, 100m\, 200m\, 400m\, 800m\, and 1600m races\, as well as Turbo Javelin\, Long Jump\, and Ball Throw. There is something for everyone! \nPractices will be held on Mondays and Thursdays from 5:00 pm–6:30 pm at the Redmond High School track stadium. Registration is required. Click here to register. \nThursday practices change to meet days beginning June 18. Below is the meet schedule: \n\nJune 18 – at Issaquah High School\nJune 25 – at Mount Si High School\nJuly 2 – at Mount Si High School\nJuly 9 – at Renton Memorial Stadium\n\nRedmond will not host a meet in the first year. \nVolunteer coaches are needed to help make this season a success\, so please consider volunteering your time and energy to support our young athletes. Don’t hesitate to sign up and be part of Redmond’s first Youth Track & Field Club season! All skill levels welcome. No Experience necessary.
URL:https://experienceredmond.com/event/redmond-track-field-club/2026-06-15/
LOCATION:Redmond High School\, 17272 NE 104th St\, Redmond\, WA\, 98052
CATEGORIES:Community & Culture,Kids & Family,Sports & Fitness
ATTACH;FMTTYPE=image/jpeg:https://experienceredmond.com/wp-content/uploads/2026/04/Track-Field-picture.jpg
END:VEVENT
BEGIN:VEVENT
DTSTART;TZID=America/Los_Angeles:20260618T170000
DTEND;TZID=America/Los_Angeles:20260618T183000
DTSTAMP:20260425T062728
CREATED:20260416T184809Z
LAST-MODIFIED:20260423T185543Z
UID:10009786-1781802000-1781807400@experienceredmond.com
SUMMARY:Redmond Track & Field Club
DESCRIPTION:(Ages 5 – 14) The City of Redmond is excited to launch its first Youth Track & Field Club this summer! Redmond is joining neighboring cities — Issaquah\, North Bend\, Renton\, and Auburn — for an exciting Summer Track & Field season. \nTrack & Field Club is open to all skill levels\, from beginners to more experienced athletes. Participants will compete in age groups and have the opportunity to take part in a variety of events\, including the 50m\, 100m\, 200m\, 400m\, 800m\, and 1600m races\, as well as Turbo Javelin\, Long Jump\, and Ball Throw. There is something for everyone! \nPractices will be held on Mondays and Thursdays from 5:00 pm–6:30 pm at the Redmond High School track stadium. Registration is required. Click here to register. \nThursday practices change to meet days beginning June 18. Below is the meet schedule: \n\nJune 18 – at Issaquah High School\nJune 25 – at Mount Si High School\nJuly 2 – at Mount Si High School\nJuly 9 – at Renton Memorial Stadium\n\nRedmond will not host a meet in the first year. \nVolunteer coaches are needed to help make this season a success\, so please consider volunteering your time and energy to support our young athletes. Don’t hesitate to sign up and be part of Redmond’s first Youth Track & Field Club season! All skill levels welcome. No Experience necessary.
URL:https://experienceredmond.com/event/redmond-track-field-club/2026-06-18/
LOCATION:Redmond High School\, 17272 NE 104th St\, Redmond\, WA\, 98052
CATEGORIES:Community & Culture,Kids & Family,Sports & Fitness
ATTACH;FMTTYPE=image/jpeg:https://experienceredmond.com/wp-content/uploads/2026/04/Track-Field-picture.jpg
END:VEVENT
BEGIN:VEVENT
DTSTART;TZID=America/Los_Angeles:20260622T170000
DTEND;TZID=America/Los_Angeles:20260622T183000
DTSTAMP:20260425T062728
CREATED:20260416T184809Z
LAST-MODIFIED:20260423T185543Z
UID:10009787-1782147600-1782153000@experienceredmond.com
SUMMARY:Redmond Track & Field Club
DESCRIPTION:(Ages 5 – 14) The City of Redmond is excited to launch its first Youth Track & Field Club this summer! Redmond is joining neighboring cities — Issaquah\, North Bend\, Renton\, and Auburn — for an exciting Summer Track & Field season. \nTrack & Field Club is open to all skill levels\, from beginners to more experienced athletes. Participants will compete in age groups and have the opportunity to take part in a variety of events\, including the 50m\, 100m\, 200m\, 400m\, 800m\, and 1600m races\, as well as Turbo Javelin\, Long Jump\, and Ball Throw. There is something for everyone! \nPractices will be held on Mondays and Thursdays from 5:00 pm–6:30 pm at the Redmond High School track stadium. Registration is required. Click here to register. \nThursday practices change to meet days beginning June 18. Below is the meet schedule: \n\nJune 18 – at Issaquah High School\nJune 25 – at Mount Si High School\nJuly 2 – at Mount Si High School\nJuly 9 – at Renton Memorial Stadium\n\nRedmond will not host a meet in the first year. \nVolunteer coaches are needed to help make this season a success\, so please consider volunteering your time and energy to support our young athletes. Don’t hesitate to sign up and be part of Redmond’s first Youth Track & Field Club season! All skill levels welcome. No Experience necessary.
URL:https://experienceredmond.com/event/redmond-track-field-club/2026-06-22/
LOCATION:Redmond High School\, 17272 NE 104th St\, Redmond\, WA\, 98052
CATEGORIES:Community & Culture,Kids & Family,Sports & Fitness
ATTACH;FMTTYPE=image/jpeg:https://experienceredmond.com/wp-content/uploads/2026/04/Track-Field-picture.jpg
END:VEVENT
BEGIN:VEVENT
DTSTART;TZID=America/Los_Angeles:20260625T170000
DTEND;TZID=America/Los_Angeles:20260625T183000
DTSTAMP:20260425T062728
CREATED:20260416T184809Z
LAST-MODIFIED:20260423T185543Z
UID:10009788-1782406800-1782412200@experienceredmond.com
SUMMARY:Redmond Track & Field Club
DESCRIPTION:(Ages 5 – 14) The City of Redmond is excited to launch its first Youth Track & Field Club this summer! Redmond is joining neighboring cities — Issaquah\, North Bend\, Renton\, and Auburn — for an exciting Summer Track & Field season. \nTrack & Field Club is open to all skill levels\, from beginners to more experienced athletes. Participants will compete in age groups and have the opportunity to take part in a variety of events\, including the 50m\, 100m\, 200m\, 400m\, 800m\, and 1600m races\, as well as Turbo Javelin\, Long Jump\, and Ball Throw. There is something for everyone! \nPractices will be held on Mondays and Thursdays from 5:00 pm–6:30 pm at the Redmond High School track stadium. Registration is required. Click here to register. \nThursday practices change to meet days beginning June 18. Below is the meet schedule: \n\nJune 18 – at Issaquah High School\nJune 25 – at Mount Si High School\nJuly 2 – at Mount Si High School\nJuly 9 – at Renton Memorial Stadium\n\nRedmond will not host a meet in the first year. \nVolunteer coaches are needed to help make this season a success\, so please consider volunteering your time and energy to support our young athletes. Don’t hesitate to sign up and be part of Redmond’s first Youth Track & Field Club season! All skill levels welcome. No Experience necessary.
URL:https://experienceredmond.com/event/redmond-track-field-club/2026-06-25/
LOCATION:Redmond High School\, 17272 NE 104th St\, Redmond\, WA\, 98052
CATEGORIES:Community & Culture,Kids & Family,Sports & Fitness
ATTACH;FMTTYPE=image/jpeg:https://experienceredmond.com/wp-content/uploads/2026/04/Track-Field-picture.jpg
END:VEVENT
BEGIN:VEVENT
DTSTART;TZID=America/Los_Angeles:20260629T170000
DTEND;TZID=America/Los_Angeles:20260629T183000
DTSTAMP:20260425T062728
CREATED:20260416T184809Z
LAST-MODIFIED:20260423T185543Z
UID:10009789-1782752400-1782757800@experienceredmond.com
SUMMARY:Redmond Track & Field Club
DESCRIPTION:(Ages 5 – 14) The City of Redmond is excited to launch its first Youth Track & Field Club this summer! Redmond is joining neighboring cities — Issaquah\, North Bend\, Renton\, and Auburn — for an exciting Summer Track & Field season. \nTrack & Field Club is open to all skill levels\, from beginners to more experienced athletes. Participants will compete in age groups and have the opportunity to take part in a variety of events\, including the 50m\, 100m\, 200m\, 400m\, 800m\, and 1600m races\, as well as Turbo Javelin\, Long Jump\, and Ball Throw. There is something for everyone! \nPractices will be held on Mondays and Thursdays from 5:00 pm–6:30 pm at the Redmond High School track stadium. Registration is required. Click here to register. \nThursday practices change to meet days beginning June 18. Below is the meet schedule: \n\nJune 18 – at Issaquah High School\nJune 25 – at Mount Si High School\nJuly 2 – at Mount Si High School\nJuly 9 – at Renton Memorial Stadium\n\nRedmond will not host a meet in the first year. \nVolunteer coaches are needed to help make this season a success\, so please consider volunteering your time and energy to support our young athletes. Don’t hesitate to sign up and be part of Redmond’s first Youth Track & Field Club season! All skill levels welcome. No Experience necessary.
URL:https://experienceredmond.com/event/redmond-track-field-club/2026-06-29/
LOCATION:Redmond High School\, 17272 NE 104th St\, Redmond\, WA\, 98052
CATEGORIES:Community & Culture,Kids & Family,Sports & Fitness
ATTACH;FMTTYPE=image/jpeg:https://experienceredmond.com/wp-content/uploads/2026/04/Track-Field-picture.jpg
END:VEVENT
BEGIN:VEVENT
DTSTART;TZID=America/Los_Angeles:20260702T170000
DTEND;TZID=America/Los_Angeles:20260702T183000
DTSTAMP:20260425T062728
CREATED:20260416T184809Z
LAST-MODIFIED:20260423T185543Z
UID:10009790-1783011600-1783017000@experienceredmond.com
SUMMARY:Redmond Track & Field Club
DESCRIPTION:(Ages 5 – 14) The City of Redmond is excited to launch its first Youth Track & Field Club this summer! Redmond is joining neighboring cities — Issaquah\, North Bend\, Renton\, and Auburn — for an exciting Summer Track & Field season. \nTrack & Field Club is open to all skill levels\, from beginners to more experienced athletes. Participants will compete in age groups and have the opportunity to take part in a variety of events\, including the 50m\, 100m\, 200m\, 400m\, 800m\, and 1600m races\, as well as Turbo Javelin\, Long Jump\, and Ball Throw. There is something for everyone! \nPractices will be held on Mondays and Thursdays from 5:00 pm–6:30 pm at the Redmond High School track stadium. Registration is required. Click here to register. \nThursday practices change to meet days beginning June 18. Below is the meet schedule: \n\nJune 18 – at Issaquah High School\nJune 25 – at Mount Si High School\nJuly 2 – at Mount Si High School\nJuly 9 – at Renton Memorial Stadium\n\nRedmond will not host a meet in the first year. \nVolunteer coaches are needed to help make this season a success\, so please consider volunteering your time and energy to support our young athletes. Don’t hesitate to sign up and be part of Redmond’s first Youth Track & Field Club season! All skill levels welcome. No Experience necessary.
URL:https://experienceredmond.com/event/redmond-track-field-club/2026-07-02/
LOCATION:Redmond High School\, 17272 NE 104th St\, Redmond\, WA\, 98052
CATEGORIES:Community & Culture,Kids & Family,Sports & Fitness
ATTACH;FMTTYPE=image/jpeg:https://experienceredmond.com/wp-content/uploads/2026/04/Track-Field-picture.jpg
END:VEVENT
BEGIN:VEVENT
DTSTART;TZID=America/Los_Angeles:20260706T170000
DTEND;TZID=America/Los_Angeles:20260706T183000
DTSTAMP:20260425T062728
CREATED:20260416T184809Z
LAST-MODIFIED:20260423T185543Z
UID:10009791-1783357200-1783362600@experienceredmond.com
SUMMARY:Redmond Track & Field Club
DESCRIPTION:(Ages 5 – 14) The City of Redmond is excited to launch its first Youth Track & Field Club this summer! Redmond is joining neighboring cities — Issaquah\, North Bend\, Renton\, and Auburn — for an exciting Summer Track & Field season. \nTrack & Field Club is open to all skill levels\, from beginners to more experienced athletes. Participants will compete in age groups and have the opportunity to take part in a variety of events\, including the 50m\, 100m\, 200m\, 400m\, 800m\, and 1600m races\, as well as Turbo Javelin\, Long Jump\, and Ball Throw. There is something for everyone! \nPractices will be held on Mondays and Thursdays from 5:00 pm–6:30 pm at the Redmond High School track stadium. Registration is required. Click here to register. \nThursday practices change to meet days beginning June 18. Below is the meet schedule: \n\nJune 18 – at Issaquah High School\nJune 25 – at Mount Si High School\nJuly 2 – at Mount Si High School\nJuly 9 – at Renton Memorial Stadium\n\nRedmond will not host a meet in the first year. \nVolunteer coaches are needed to help make this season a success\, so please consider volunteering your time and energy to support our young athletes. Don’t hesitate to sign up and be part of Redmond’s first Youth Track & Field Club season! All skill levels welcome. No Experience necessary.
URL:https://experienceredmond.com/event/redmond-track-field-club/2026-07-06/
LOCATION:Redmond High School\, 17272 NE 104th St\, Redmond\, WA\, 98052
CATEGORIES:Community & Culture,Kids & Family,Sports & Fitness
ATTACH;FMTTYPE=image/jpeg:https://experienceredmond.com/wp-content/uploads/2026/04/Track-Field-picture.jpg
END:VEVENT
BEGIN:VEVENT
DTSTART;TZID=America/Los_Angeles:20260709T170000
DTEND;TZID=America/Los_Angeles:20260709T183000
DTSTAMP:20260425T062728
CREATED:20260416T184809Z
LAST-MODIFIED:20260423T185543Z
UID:10009792-1783616400-1783621800@experienceredmond.com
SUMMARY:Redmond Track & Field Club
DESCRIPTION:(Ages 5 – 14) The City of Redmond is excited to launch its first Youth Track & Field Club this summer! Redmond is joining neighboring cities — Issaquah\, North Bend\, Renton\, and Auburn — for an exciting Summer Track & Field season. \nTrack & Field Club is open to all skill levels\, from beginners to more experienced athletes. Participants will compete in age groups and have the opportunity to take part in a variety of events\, including the 50m\, 100m\, 200m\, 400m\, 800m\, and 1600m races\, as well as Turbo Javelin\, Long Jump\, and Ball Throw. There is something for everyone! \nPractices will be held on Mondays and Thursdays from 5:00 pm–6:30 pm at the Redmond High School track stadium. Registration is required. Click here to register. \nThursday practices change to meet days beginning June 18. Below is the meet schedule: \n\nJune 18 – at Issaquah High School\nJune 25 – at Mount Si High School\nJuly 2 – at Mount Si High School\nJuly 9 – at Renton Memorial Stadium\n\nRedmond will not host a meet in the first year. \nVolunteer coaches are needed to help make this season a success\, so please consider volunteering your time and energy to support our young athletes. Don’t hesitate to sign up and be part of Redmond’s first Youth Track & Field Club season! All skill levels welcome. No Experience necessary.
URL:https://experienceredmond.com/event/redmond-track-field-club/2026-07-09/
LOCATION:Redmond High School\, 17272 NE 104th St\, Redmond\, WA\, 98052
CATEGORIES:Community & Culture,Kids & Family,Sports & Fitness
ATTACH;FMTTYPE=image/jpeg:https://experienceredmond.com/wp-content/uploads/2026/04/Track-Field-picture.jpg
END:VEVENT
END:VCALENDAR