BEGIN:VCALENDAR
VERSION:2.0
PRODID:-//Experience Redmond - ECPv6.15.18//NONSGML v1.0//EN
CALSCALE:GREGORIAN
METHOD:PUBLISH
X-WR-CALNAME:Experience Redmond
X-ORIGINAL-URL:https://experienceredmond.com
X-WR-CALDESC:Events for Experience Redmond
REFRESH-INTERVAL;VALUE=DURATION:PT1H
X-Robots-Tag:noindex
X-PUBLISHED-TTL:PT1H
BEGIN:VTIMEZONE
TZID:America/Los_Angeles
BEGIN:DAYLIGHT
TZOFFSETFROM:-0800
TZOFFSETTO:-0700
TZNAME:PDT
DTSTART:20240310T100000
END:DAYLIGHT
BEGIN:STANDARD
TZOFFSETFROM:-0700
TZOFFSETTO:-0800
TZNAME:PST
DTSTART:20241103T090000
END:STANDARD
BEGIN:DAYLIGHT
TZOFFSETFROM:-0800
TZOFFSETTO:-0700
TZNAME:PDT
DTSTART:20250309T100000
END:DAYLIGHT
BEGIN:STANDARD
TZOFFSETFROM:-0700
TZOFFSETTO:-0800
TZNAME:PST
DTSTART:20251102T090000
END:STANDARD
BEGIN:DAYLIGHT
TZOFFSETFROM:-0800
TZOFFSETTO:-0700
TZNAME:PDT
DTSTART:20260308T100000
END:DAYLIGHT
BEGIN:STANDARD
TZOFFSETFROM:-0700
TZOFFSETTO:-0800
TZNAME:PST
DTSTART:20261101T090000
END:STANDARD
END:VTIMEZONE
BEGIN:VEVENT
DTSTART;TZID=America/Los_Angeles:20250705T170000
DTEND;TZID=America/Los_Angeles:20250705T190000
DTSTAMP:20260423T025147
CREATED:20240610T155815Z
LAST-MODIFIED:20250717T162402Z
UID:10003280-1751734800-1751742000@experienceredmond.com
SUMMARY:Music on the Court
DESCRIPTION:Join us every Friday and Saturday evening from 5-7 PM at Center Court for live music featuring local musicians all summer long! \nBe sure to check the Redmond Town Center website for an updated list of performers and artists.
URL:https://experienceredmond.com/event/music-on-the-court/2025-07-05/
LOCATION:Redmond Town Center\, 7525 166th Ave NE\, Redmond\, Washington\, 98052
CATEGORIES:Concerts
ATTACH;FMTTYPE=image/jpeg:https://experienceredmond.com/wp-content/uploads/2024/06/499872083_1087127873449243_2813948309594287887_n.jpg
END:VEVENT
BEGIN:VEVENT
DTSTART;TZID=America/Los_Angeles:20250704T170000
DTEND;TZID=America/Los_Angeles:20250704T190000
DTSTAMP:20260423T025147
CREATED:20240610T155815Z
LAST-MODIFIED:20250717T162402Z
UID:10003279-1751648400-1751655600@experienceredmond.com
SUMMARY:Music on the Court
DESCRIPTION:Join us every Friday and Saturday evening from 5-7 PM at Center Court for live music featuring local musicians all summer long! \nBe sure to check the Redmond Town Center website for an updated list of performers and artists.
URL:https://experienceredmond.com/event/music-on-the-court/2025-07-04/
LOCATION:Redmond Town Center\, 7525 166th Ave NE\, Redmond\, Washington\, 98052
CATEGORIES:Concerts
ATTACH;FMTTYPE=image/jpeg:https://experienceredmond.com/wp-content/uploads/2024/06/499872083_1087127873449243_2813948309594287887_n.jpg
END:VEVENT
BEGIN:VEVENT
DTSTART;TZID=America/Los_Angeles:20250628T170000
DTEND;TZID=America/Los_Angeles:20250628T190000
DTSTAMP:20260423T025147
CREATED:20240610T155815Z
LAST-MODIFIED:20250717T162402Z
UID:10003278-1751130000-1751137200@experienceredmond.com
SUMMARY:Music on the Court
DESCRIPTION:Join us every Friday and Saturday evening from 5-7 PM at Center Court for live music featuring local musicians all summer long! \nBe sure to check the Redmond Town Center website for an updated list of performers and artists.
URL:https://experienceredmond.com/event/music-on-the-court/2025-06-28/
LOCATION:Redmond Town Center\, 7525 166th Ave NE\, Redmond\, Washington\, 98052
CATEGORIES:Concerts
ATTACH;FMTTYPE=image/jpeg:https://experienceredmond.com/wp-content/uploads/2024/06/499872083_1087127873449243_2813948309594287887_n.jpg
END:VEVENT
BEGIN:VEVENT
DTSTART;TZID=America/Los_Angeles:20250627T170000
DTEND;TZID=America/Los_Angeles:20250627T190000
DTSTAMP:20260423T025147
CREATED:20240610T155815Z
LAST-MODIFIED:20250717T162402Z
UID:10003277-1751043600-1751050800@experienceredmond.com
SUMMARY:Music on the Court
DESCRIPTION:Join us every Friday and Saturday evening from 5-7 PM at Center Court for live music featuring local musicians all summer long! \nBe sure to check the Redmond Town Center website for an updated list of performers and artists.
URL:https://experienceredmond.com/event/music-on-the-court/2025-06-27/
LOCATION:Redmond Town Center\, 7525 166th Ave NE\, Redmond\, Washington\, 98052
CATEGORIES:Concerts
ATTACH;FMTTYPE=image/jpeg:https://experienceredmond.com/wp-content/uploads/2024/06/499872083_1087127873449243_2813948309594287887_n.jpg
END:VEVENT
BEGIN:VEVENT
DTSTART;TZID=America/Los_Angeles:20250623T110000
DTEND;TZID=America/Los_Angeles:20250623T140000
DTSTAMP:20260423T025147
CREATED:20250527T215651Z
LAST-MODIFIED:20250618T164701Z
UID:10004332-1750676400-1750687200@experienceredmond.com
SUMMARY:Watch Party at Redmond Town Center
DESCRIPTION:Come out to Redmond Town Center and enjoy watching our local Seattle Sounders take on Paris Saint-Germain in Center Court! \n\nWatch Party on Monday\, June 23rd at Redmond Town Center\, Center Court\n11 am Pre-match welcome and programming\n12 pm – Seattle Sounders v Paris Saint-Germain\nBig screen at center court\, rain or shine\nYou may bring your own picnic blanket or camp chairs\n\nEnjoy special offers from the following businesses at Redmond Town Center! \nIPIC Redmond: \n\n\n\n$7 Signature Cocktails and Wines\n$5 off CIPI Wines\n$5 select bottled and draft beers\n$8 wells\nChef-inspired bites and guest favorites discounted as well\n\n\n\nPickles Playland: \n\n$1 off all toys & bags of treats\n$5 off Bordetella vaccines\n\nUtopia Northwest: \n\n20% off June birthstones (Pearls & Moonstone)\n\nYoga 6: \n\nFree first class for attendees on June 23\n\nSama Cellars: \n\nOpen from 11AM – 7:30PM\nWe will be streaming the game in our space.\nGlass pour specials (25% OFF) on select wines and No Corkage Fee (regular $15) on bottles purchased to be opened on-site during the event.\nWe will also have some Charcuterie boxes\, Chips\, and Popcorn for purchase.\n\nThe Original Pancake House \n\n20% off to guests visiting the restaurant to watch the match at the mall the day of. For dine in guests only. This discount cannot be combined with any other discounts. Guests should mention to the server that they’re here to watch the match and the discount will be applied at the end of their meal.
URL:https://experienceredmond.com/event/watch-party-at-redmond-town-center/
LOCATION:Redmond Town Center\, 7525 166th Ave NE\, Redmond\, Washington\, 98052
CATEGORIES:Sports & Fitness
ATTACH;FMTTYPE=image/jpeg:https://experienceredmond.com/wp-content/uploads/2025/05/Sounders-Rave-Green-Run-2055-scaled.jpg
END:VEVENT
BEGIN:VEVENT
DTSTART;TZID=America/Los_Angeles:20250623T103000
DTEND;TZID=America/Los_Angeles:20250623T160000
DTSTAMP:20260423T025147
CREATED:20250609T183220Z
LAST-MODIFIED:20250612T222538Z
UID:10004368-1750674600-1750694400@experienceredmond.com
SUMMARY:Redmond Soccer Watch Party
DESCRIPTION:Come to Redmond Town Center on Monday\, June 23\, from 10:30 am until 4 pm to watch the Seattle Sounders take on Paris Saint-Germain. \nDJ Indica will be mixing tunes in the court before and after the match. \nWe’ll have games for kids and adults all afternoon and a GIANT screen to watch our Sounders take on the Champions League-winning PSG. \nArrive at 10:30 am to hear from former Sounders FC great Jhon Kennedy Hurtado and other special guests. \nThe match kicks off at 12pm. \nWatch the match from Center Court or at any of the tenants showing the match\, including Zio Sal.
URL:https://experienceredmond.com/event/redmond-soccer-watch-party/
LOCATION:Redmond Town Center\, 7525 166th Ave NE\, Redmond\, Washington\, 98052
CATEGORIES:Sports & Fitness
ATTACH;FMTTYPE=image/png:https://experienceredmond.com/wp-content/uploads/2025/06/Untitled-design.png
END:VEVENT
BEGIN:VEVENT
DTSTART;TZID=America/Los_Angeles:20250621T170000
DTEND;TZID=America/Los_Angeles:20250621T190000
DTSTAMP:20260423T025147
CREATED:20240610T155815Z
LAST-MODIFIED:20250717T162402Z
UID:10003276-1750525200-1750532400@experienceredmond.com
SUMMARY:Music on the Court
DESCRIPTION:Join us every Friday and Saturday evening from 5-7 PM at Center Court for live music featuring local musicians all summer long! \nBe sure to check the Redmond Town Center website for an updated list of performers and artists.
URL:https://experienceredmond.com/event/music-on-the-court/2025-06-21/
LOCATION:Redmond Town Center\, 7525 166th Ave NE\, Redmond\, Washington\, 98052
CATEGORIES:Concerts
ATTACH;FMTTYPE=image/jpeg:https://experienceredmond.com/wp-content/uploads/2024/06/499872083_1087127873449243_2813948309594287887_n.jpg
END:VEVENT
BEGIN:VEVENT
DTSTART;TZID=America/Los_Angeles:20250620T170000
DTEND;TZID=America/Los_Angeles:20250620T190000
DTSTAMP:20260423T025147
CREATED:20240610T155815Z
LAST-MODIFIED:20250717T162402Z
UID:10003275-1750438800-1750446000@experienceredmond.com
SUMMARY:Music on the Court
DESCRIPTION:Join us every Friday and Saturday evening from 5-7 PM at Center Court for live music featuring local musicians all summer long! \nBe sure to check the Redmond Town Center website for an updated list of performers and artists.
URL:https://experienceredmond.com/event/music-on-the-court/2025-06-20/
LOCATION:Redmond Town Center\, 7525 166th Ave NE\, Redmond\, Washington\, 98052
CATEGORIES:Concerts
ATTACH;FMTTYPE=image/jpeg:https://experienceredmond.com/wp-content/uploads/2024/06/499872083_1087127873449243_2813948309594287887_n.jpg
END:VEVENT
BEGIN:VEVENT
DTSTART;TZID=America/Los_Angeles:20250614T170000
DTEND;TZID=America/Los_Angeles:20250614T190000
DTSTAMP:20260423T025147
CREATED:20240610T155815Z
LAST-MODIFIED:20250717T162402Z
UID:10003274-1749920400-1749927600@experienceredmond.com
SUMMARY:Music on the Court
DESCRIPTION:Join us every Friday and Saturday evening from 5-7 PM at Center Court for live music featuring local musicians all summer long! \nBe sure to check the Redmond Town Center website for an updated list of performers and artists.
URL:https://experienceredmond.com/event/music-on-the-court/2025-06-14/
LOCATION:Redmond Town Center\, 7525 166th Ave NE\, Redmond\, Washington\, 98052
CATEGORIES:Concerts
ATTACH;FMTTYPE=image/jpeg:https://experienceredmond.com/wp-content/uploads/2024/06/499872083_1087127873449243_2813948309594287887_n.jpg
END:VEVENT
BEGIN:VEVENT
DTSTART;TZID=America/Los_Angeles:20250613T170000
DTEND;TZID=America/Los_Angeles:20250613T190000
DTSTAMP:20260423T025147
CREATED:20240610T155815Z
LAST-MODIFIED:20250717T162402Z
UID:10003273-1749834000-1749841200@experienceredmond.com
SUMMARY:Music on the Court
DESCRIPTION:Join us every Friday and Saturday evening from 5-7 PM at Center Court for live music featuring local musicians all summer long! \nBe sure to check the Redmond Town Center website for an updated list of performers and artists.
URL:https://experienceredmond.com/event/music-on-the-court/2025-06-13/
LOCATION:Redmond Town Center\, 7525 166th Ave NE\, Redmond\, Washington\, 98052
CATEGORIES:Concerts
ATTACH;FMTTYPE=image/jpeg:https://experienceredmond.com/wp-content/uploads/2024/06/499872083_1087127873449243_2813948309594287887_n.jpg
END:VEVENT
BEGIN:VEVENT
DTSTART;TZID=America/Los_Angeles:20250607T170000
DTEND;TZID=America/Los_Angeles:20250607T190000
DTSTAMP:20260423T025147
CREATED:20240610T155815Z
LAST-MODIFIED:20250717T162402Z
UID:10003272-1749315600-1749322800@experienceredmond.com
SUMMARY:Music on the Court
DESCRIPTION:Join us every Friday and Saturday evening from 5-7 PM at Center Court for live music featuring local musicians all summer long! \nBe sure to check the Redmond Town Center website for an updated list of performers and artists.
URL:https://experienceredmond.com/event/music-on-the-court/2025-06-07/
LOCATION:Redmond Town Center\, 7525 166th Ave NE\, Redmond\, Washington\, 98052
CATEGORIES:Concerts
ATTACH;FMTTYPE=image/jpeg:https://experienceredmond.com/wp-content/uploads/2024/06/499872083_1087127873449243_2813948309594287887_n.jpg
END:VEVENT
BEGIN:VEVENT
DTSTART;TZID=America/Los_Angeles:20250606T170000
DTEND;TZID=America/Los_Angeles:20250606T190000
DTSTAMP:20260423T025147
CREATED:20240610T155815Z
LAST-MODIFIED:20250717T162402Z
UID:10003271-1749229200-1749236400@experienceredmond.com
SUMMARY:Music on the Court
DESCRIPTION:Join us every Friday and Saturday evening from 5-7 PM at Center Court for live music featuring local musicians all summer long! \nBe sure to check the Redmond Town Center website for an updated list of performers and artists.
URL:https://experienceredmond.com/event/music-on-the-court/2025-06-06/
LOCATION:Redmond Town Center\, 7525 166th Ave NE\, Redmond\, Washington\, 98052
CATEGORIES:Concerts
ATTACH;FMTTYPE=image/jpeg:https://experienceredmond.com/wp-content/uploads/2024/06/499872083_1087127873449243_2813948309594287887_n.jpg
END:VEVENT
BEGIN:VEVENT
DTSTART;TZID=America/Los_Angeles:20250531T170000
DTEND;TZID=America/Los_Angeles:20250531T190000
DTSTAMP:20260423T025147
CREATED:20240610T155815Z
LAST-MODIFIED:20250717T162402Z
UID:10003270-1748710800-1748718000@experienceredmond.com
SUMMARY:Music on the Court
DESCRIPTION:Join us every Friday and Saturday evening from 5-7 PM at Center Court for live music featuring local musicians all summer long! \nBe sure to check the Redmond Town Center website for an updated list of performers and artists.
URL:https://experienceredmond.com/event/music-on-the-court/2025-05-31/
LOCATION:Redmond Town Center\, 7525 166th Ave NE\, Redmond\, Washington\, 98052
CATEGORIES:Concerts
ATTACH;FMTTYPE=image/jpeg:https://experienceredmond.com/wp-content/uploads/2024/06/499872083_1087127873449243_2813948309594287887_n.jpg
END:VEVENT
BEGIN:VEVENT
DTSTART;TZID=America/Los_Angeles:20250530T170000
DTEND;TZID=America/Los_Angeles:20250530T190000
DTSTAMP:20260423T025147
CREATED:20240610T155815Z
LAST-MODIFIED:20250717T162402Z
UID:10003269-1748624400-1748631600@experienceredmond.com
SUMMARY:Music on the Court
DESCRIPTION:Join us every Friday and Saturday evening from 5-7 PM at Center Court for live music featuring local musicians all summer long! \nBe sure to check the Redmond Town Center website for an updated list of performers and artists.
URL:https://experienceredmond.com/event/music-on-the-court/2025-05-30/
LOCATION:Redmond Town Center\, 7525 166th Ave NE\, Redmond\, Washington\, 98052
CATEGORIES:Concerts
ATTACH;FMTTYPE=image/jpeg:https://experienceredmond.com/wp-content/uploads/2024/06/499872083_1087127873449243_2813948309594287887_n.jpg
END:VEVENT
BEGIN:VEVENT
DTSTART;TZID=America/Los_Angeles:20250524T170000
DTEND;TZID=America/Los_Angeles:20250524T190000
DTSTAMP:20260423T025147
CREATED:20240610T155815Z
LAST-MODIFIED:20250717T162402Z
UID:10003268-1748106000-1748113200@experienceredmond.com
SUMMARY:Music on the Court
DESCRIPTION:Join us every Friday and Saturday evening from 5-7 PM at Center Court for live music featuring local musicians all summer long! \nBe sure to check the Redmond Town Center website for an updated list of performers and artists.
URL:https://experienceredmond.com/event/music-on-the-court/2025-05-24/
LOCATION:Redmond Town Center\, 7525 166th Ave NE\, Redmond\, Washington\, 98052
CATEGORIES:Concerts
ATTACH;FMTTYPE=image/jpeg:https://experienceredmond.com/wp-content/uploads/2024/06/499872083_1087127873449243_2813948309594287887_n.jpg
END:VEVENT
BEGIN:VEVENT
DTSTART;TZID=America/Los_Angeles:20250523T170000
DTEND;TZID=America/Los_Angeles:20250523T190000
DTSTAMP:20260423T025147
CREATED:20240610T155815Z
LAST-MODIFIED:20250717T162402Z
UID:10003267-1748019600-1748026800@experienceredmond.com
SUMMARY:Music on the Court
DESCRIPTION:Join us every Friday and Saturday evening from 5-7 PM at Center Court for live music featuring local musicians all summer long! \nBe sure to check the Redmond Town Center website for an updated list of performers and artists.
URL:https://experienceredmond.com/event/music-on-the-court/2025-05-23/
LOCATION:Redmond Town Center\, 7525 166th Ave NE\, Redmond\, Washington\, 98052
CATEGORIES:Concerts
ATTACH;FMTTYPE=image/jpeg:https://experienceredmond.com/wp-content/uploads/2024/06/499872083_1087127873449243_2813948309594287887_n.jpg
END:VEVENT
BEGIN:VEVENT
DTSTART;TZID=America/Los_Angeles:20250517T170000
DTEND;TZID=America/Los_Angeles:20250517T190000
DTSTAMP:20260423T025147
CREATED:20240610T155815Z
LAST-MODIFIED:20250717T162402Z
UID:10003266-1747501200-1747508400@experienceredmond.com
SUMMARY:Music on the Court
DESCRIPTION:Join us every Friday and Saturday evening from 5-7 PM at Center Court for live music featuring local musicians all summer long! \nBe sure to check the Redmond Town Center website for an updated list of performers and artists.
URL:https://experienceredmond.com/event/music-on-the-court/2025-05-17/
LOCATION:Redmond Town Center\, 7525 166th Ave NE\, Redmond\, Washington\, 98052
CATEGORIES:Concerts
ATTACH;FMTTYPE=image/jpeg:https://experienceredmond.com/wp-content/uploads/2024/06/499872083_1087127873449243_2813948309594287887_n.jpg
END:VEVENT
BEGIN:VEVENT
DTSTART;TZID=America/Los_Angeles:20250516T170000
DTEND;TZID=America/Los_Angeles:20250516T190000
DTSTAMP:20260423T025147
CREATED:20240610T155815Z
LAST-MODIFIED:20250717T162402Z
UID:10003265-1747414800-1747422000@experienceredmond.com
SUMMARY:Music on the Court
DESCRIPTION:Join us every Friday and Saturday evening from 5-7 PM at Center Court for live music featuring local musicians all summer long! \nBe sure to check the Redmond Town Center website for an updated list of performers and artists.
URL:https://experienceredmond.com/event/music-on-the-court/2025-05-16/
LOCATION:Redmond Town Center\, 7525 166th Ave NE\, Redmond\, Washington\, 98052
CATEGORIES:Concerts
ATTACH;FMTTYPE=image/jpeg:https://experienceredmond.com/wp-content/uploads/2024/06/499872083_1087127873449243_2813948309594287887_n.jpg
END:VEVENT
BEGIN:VEVENT
DTSTART;TZID=America/Los_Angeles:20250510T170000
DTEND;TZID=America/Los_Angeles:20250510T190000
DTSTAMP:20260423T025147
CREATED:20240610T155815Z
LAST-MODIFIED:20250717T162402Z
UID:10003264-1746896400-1746903600@experienceredmond.com
SUMMARY:Music on the Court
DESCRIPTION:Join us every Friday and Saturday evening from 5-7 PM at Center Court for live music featuring local musicians all summer long! \nBe sure to check the Redmond Town Center website for an updated list of performers and artists.
URL:https://experienceredmond.com/event/music-on-the-court/2025-05-10/
LOCATION:Redmond Town Center\, 7525 166th Ave NE\, Redmond\, Washington\, 98052
CATEGORIES:Concerts
ATTACH;FMTTYPE=image/jpeg:https://experienceredmond.com/wp-content/uploads/2024/06/499872083_1087127873449243_2813948309594287887_n.jpg
END:VEVENT
BEGIN:VEVENT
DTSTART;TZID=America/Los_Angeles:20250509T170000
DTEND;TZID=America/Los_Angeles:20250509T190000
DTSTAMP:20260423T025147
CREATED:20240610T155815Z
LAST-MODIFIED:20250717T162402Z
UID:10003263-1746810000-1746817200@experienceredmond.com
SUMMARY:Music on the Court
DESCRIPTION:Join us every Friday and Saturday evening from 5-7 PM at Center Court for live music featuring local musicians all summer long! \nBe sure to check the Redmond Town Center website for an updated list of performers and artists.
URL:https://experienceredmond.com/event/music-on-the-court/2025-05-09/
LOCATION:Redmond Town Center\, 7525 166th Ave NE\, Redmond\, Washington\, 98052
CATEGORIES:Concerts
ATTACH;FMTTYPE=image/jpeg:https://experienceredmond.com/wp-content/uploads/2024/06/499872083_1087127873449243_2813948309594287887_n.jpg
END:VEVENT
BEGIN:VEVENT
DTSTART;TZID=America/Los_Angeles:20250503T170000
DTEND;TZID=America/Los_Angeles:20250503T190000
DTSTAMP:20260423T025147
CREATED:20240610T155815Z
LAST-MODIFIED:20250717T162402Z
UID:10003262-1746291600-1746298800@experienceredmond.com
SUMMARY:Music on the Court
DESCRIPTION:Join us every Friday and Saturday evening from 5-7 PM at Center Court for live music featuring local musicians all summer long! \nBe sure to check the Redmond Town Center website for an updated list of performers and artists.
URL:https://experienceredmond.com/event/music-on-the-court/2025-05-03/
LOCATION:Redmond Town Center\, 7525 166th Ave NE\, Redmond\, Washington\, 98052
CATEGORIES:Concerts
ATTACH;FMTTYPE=image/jpeg:https://experienceredmond.com/wp-content/uploads/2024/06/499872083_1087127873449243_2813948309594287887_n.jpg
END:VEVENT
BEGIN:VEVENT
DTSTART;TZID=America/Los_Angeles:20250502T170000
DTEND;TZID=America/Los_Angeles:20250502T190000
DTSTAMP:20260423T025147
CREATED:20240610T155815Z
LAST-MODIFIED:20250717T162402Z
UID:10003261-1746205200-1746212400@experienceredmond.com
SUMMARY:Music on the Court
DESCRIPTION:Join us every Friday and Saturday evening from 5-7 PM at Center Court for live music featuring local musicians all summer long! \nBe sure to check the Redmond Town Center website for an updated list of performers and artists.
URL:https://experienceredmond.com/event/music-on-the-court/2025-05-02/
LOCATION:Redmond Town Center\, 7525 166th Ave NE\, Redmond\, Washington\, 98052
CATEGORIES:Concerts
ATTACH;FMTTYPE=image/jpeg:https://experienceredmond.com/wp-content/uploads/2024/06/499872083_1087127873449243_2813948309594287887_n.jpg
END:VEVENT
BEGIN:VEVENT
DTSTART;TZID=America/Los_Angeles:20250426T170000
DTEND;TZID=America/Los_Angeles:20250426T190000
DTSTAMP:20260423T025147
CREATED:20240610T155815Z
LAST-MODIFIED:20250717T162402Z
UID:10003260-1745686800-1745694000@experienceredmond.com
SUMMARY:Music on the Court
DESCRIPTION:Join us every Friday and Saturday evening from 5-7 PM at Center Court for live music featuring local musicians all summer long! \nBe sure to check the Redmond Town Center website for an updated list of performers and artists.
URL:https://experienceredmond.com/event/music-on-the-court/2025-04-26/
LOCATION:Redmond Town Center\, 7525 166th Ave NE\, Redmond\, Washington\, 98052
CATEGORIES:Concerts
ATTACH;FMTTYPE=image/jpeg:https://experienceredmond.com/wp-content/uploads/2024/06/499872083_1087127873449243_2813948309594287887_n.jpg
END:VEVENT
BEGIN:VEVENT
DTSTART;TZID=America/Los_Angeles:20250425T170000
DTEND;TZID=America/Los_Angeles:20250425T190000
DTSTAMP:20260423T025147
CREATED:20240610T155815Z
LAST-MODIFIED:20250717T162402Z
UID:10003259-1745600400-1745607600@experienceredmond.com
SUMMARY:Music on the Court
DESCRIPTION:Join us every Friday and Saturday evening from 5-7 PM at Center Court for live music featuring local musicians all summer long! \nBe sure to check the Redmond Town Center website for an updated list of performers and artists.
URL:https://experienceredmond.com/event/music-on-the-court/2025-04-25/
LOCATION:Redmond Town Center\, 7525 166th Ave NE\, Redmond\, Washington\, 98052
CATEGORIES:Concerts
ATTACH;FMTTYPE=image/jpeg:https://experienceredmond.com/wp-content/uploads/2024/06/499872083_1087127873449243_2813948309594287887_n.jpg
END:VEVENT
BEGIN:VEVENT
DTSTART;TZID=America/Los_Angeles:20250419T170000
DTEND;TZID=America/Los_Angeles:20250419T190000
DTSTAMP:20260423T025147
CREATED:20240610T155815Z
LAST-MODIFIED:20250717T162402Z
UID:10003258-1745082000-1745089200@experienceredmond.com
SUMMARY:Music on the Court
DESCRIPTION:Join us every Friday and Saturday evening from 5-7 PM at Center Court for live music featuring local musicians all summer long! \nBe sure to check the Redmond Town Center website for an updated list of performers and artists.
URL:https://experienceredmond.com/event/music-on-the-court/2025-04-19/
LOCATION:Redmond Town Center\, 7525 166th Ave NE\, Redmond\, Washington\, 98052
CATEGORIES:Concerts
ATTACH;FMTTYPE=image/jpeg:https://experienceredmond.com/wp-content/uploads/2024/06/499872083_1087127873449243_2813948309594287887_n.jpg
END:VEVENT
BEGIN:VEVENT
DTSTART;TZID=America/Los_Angeles:20250418T170000
DTEND;TZID=America/Los_Angeles:20250418T190000
DTSTAMP:20260423T025147
CREATED:20240610T155815Z
LAST-MODIFIED:20250717T162402Z
UID:10003257-1744995600-1745002800@experienceredmond.com
SUMMARY:Music on the Court
DESCRIPTION:Join us every Friday and Saturday evening from 5-7 PM at Center Court for live music featuring local musicians all summer long! \nBe sure to check the Redmond Town Center website for an updated list of performers and artists.
URL:https://experienceredmond.com/event/music-on-the-court/2025-04-18/
LOCATION:Redmond Town Center\, 7525 166th Ave NE\, Redmond\, Washington\, 98052
CATEGORIES:Concerts
ATTACH;FMTTYPE=image/jpeg:https://experienceredmond.com/wp-content/uploads/2024/06/499872083_1087127873449243_2813948309594287887_n.jpg
END:VEVENT
BEGIN:VEVENT
DTSTART;TZID=America/Los_Angeles:20250412T170000
DTEND;TZID=America/Los_Angeles:20250412T190000
DTSTAMP:20260423T025147
CREATED:20240610T155815Z
LAST-MODIFIED:20250717T162402Z
UID:10003256-1744477200-1744484400@experienceredmond.com
SUMMARY:Music on the Court
DESCRIPTION:Join us every Friday and Saturday evening from 5-7 PM at Center Court for live music featuring local musicians all summer long! \nBe sure to check the Redmond Town Center website for an updated list of performers and artists.
URL:https://experienceredmond.com/event/music-on-the-court/2025-04-12/
LOCATION:Redmond Town Center\, 7525 166th Ave NE\, Redmond\, Washington\, 98052
CATEGORIES:Concerts
ATTACH;FMTTYPE=image/jpeg:https://experienceredmond.com/wp-content/uploads/2024/06/499872083_1087127873449243_2813948309594287887_n.jpg
END:VEVENT
BEGIN:VEVENT
DTSTART;TZID=America/Los_Angeles:20250411T170000
DTEND;TZID=America/Los_Angeles:20250411T190000
DTSTAMP:20260423T025147
CREATED:20240610T155815Z
LAST-MODIFIED:20250717T162402Z
UID:10003255-1744390800-1744398000@experienceredmond.com
SUMMARY:Music on the Court
DESCRIPTION:Join us every Friday and Saturday evening from 5-7 PM at Center Court for live music featuring local musicians all summer long! \nBe sure to check the Redmond Town Center website for an updated list of performers and artists.
URL:https://experienceredmond.com/event/music-on-the-court/2025-04-11/
LOCATION:Redmond Town Center\, 7525 166th Ave NE\, Redmond\, Washington\, 98052
CATEGORIES:Concerts
ATTACH;FMTTYPE=image/jpeg:https://experienceredmond.com/wp-content/uploads/2024/06/499872083_1087127873449243_2813948309594287887_n.jpg
END:VEVENT
BEGIN:VEVENT
DTSTART;TZID=America/Los_Angeles:20250405T170000
DTEND;TZID=America/Los_Angeles:20250405T190000
DTSTAMP:20260423T025147
CREATED:20240610T155815Z
LAST-MODIFIED:20250717T162402Z
UID:10003254-1743872400-1743879600@experienceredmond.com
SUMMARY:Music on the Court
DESCRIPTION:Join us every Friday and Saturday evening from 5-7 PM at Center Court for live music featuring local musicians all summer long! \nBe sure to check the Redmond Town Center website for an updated list of performers and artists.
URL:https://experienceredmond.com/event/music-on-the-court/2025-04-05/
LOCATION:Redmond Town Center\, 7525 166th Ave NE\, Redmond\, Washington\, 98052
CATEGORIES:Concerts
ATTACH;FMTTYPE=image/jpeg:https://experienceredmond.com/wp-content/uploads/2024/06/499872083_1087127873449243_2813948309594287887_n.jpg
END:VEVENT
BEGIN:VEVENT
DTSTART;TZID=America/Los_Angeles:20250404T170000
DTEND;TZID=America/Los_Angeles:20250404T190000
DTSTAMP:20260423T025147
CREATED:20240610T155815Z
LAST-MODIFIED:20250717T162402Z
UID:10003253-1743786000-1743793200@experienceredmond.com
SUMMARY:Music on the Court
DESCRIPTION:Join us every Friday and Saturday evening from 5-7 PM at Center Court for live music featuring local musicians all summer long! \nBe sure to check the Redmond Town Center website for an updated list of performers and artists.
URL:https://experienceredmond.com/event/music-on-the-court/2025-04-04/
LOCATION:Redmond Town Center\, 7525 166th Ave NE\, Redmond\, Washington\, 98052
CATEGORIES:Concerts
ATTACH;FMTTYPE=image/jpeg:https://experienceredmond.com/wp-content/uploads/2024/06/499872083_1087127873449243_2813948309594287887_n.jpg
END:VEVENT
END:VCALENDAR